{"text_format":"1","workbook":"xlsx","n_sheets":22,"sheets":["Avertissements","Mode emploi","Version","Catégories","Récap_cotisation","1","2","3","4","FEM","15-16","13-14","11-12","Autres","1_classement","2_classement","3_classement","4_classement","FEM_classement","15-16_classement","13-14_classement","11-12_classement"],"not_rendered":{"charts":0,"images":15,"macros":1,"external_links":0,"defined_names":48,"comments":0,"pivot_tables":0},"unopened":[],"bounds":{"document_bytes":16777216,"sheet_cells":100000,"rows_first":2000,"rows_last":500,"rows_between":2000,"halvings":0,"cell_chars":16384,"cell_head_chars":4096},"cells_cut":0,"cells_raw":0,"read":"whole","date_system":"1900"}

{"sheet":"Avertissements","index":0,"n_rows":19,"n_cols":5,"rows_kept":19,"cut":false,"hidden":false,"merged":[[17,4,17,6],[18,4,18,6],[2,2,2,6],[5,4,5,6],[6,4,6,6],[10,4,10,6],[14,4,14,6],[9,4,9,6],[13,4,13,6]]}
[]
[]
[null,null,"AVERTISSEMENTS"]
[]
[null,null,null,"Format du fichier"]
[null,null,null,null,"Ce fichier comporte divers automatismes (macros et formules Excel) dont le bon fonctionnement est lié au format des données de ce fichier. En particulier le nom des feuilles de données et le nom des titres de colonnes des tableaux sont utilisés par ces automatismes. De même l'ordre des colonnes est important pour le bon fonctionnement."]
[null,null,null,null,"Il est donc impératif de ne pas modifier les noms de feuilles, les titres de colonnes des tableaux, ainsi que l'ordre de ces colonnes."]
[]
[null,null,null,"Ordre des opérations"]
[null,null,null,null,"Le site UFOLEP National n'est pas la seule possibilité d'engagement, les organisateurs recoivent des engagements par divers autres canaux :  courrier, mail, SMS … engagements sur place"]
[null,null,null,null,"Il est possible de saisir ces engagements reçus au fil de l'eau dans les feuilles de catégories (onglets de couleur bleue) avant et après avoir procédé au chargement automatique des données issues du site national."]
[]
[null,null,null,"Chargement automatique des données issues du site UFOLEP National"]
[null,null,null,null,"Le chargement automatique identifie les engagements déjà saisis dans le fichier et ajoute les nouvelles données à la suite de celles existantes sans les écraser."]
[null,null,null,null,"Le chargement automatique des engagements issus du site national ne doit être lancé qu'une seule fois en utilisant la liste définitive obtenue après la cloture des engagements."]
[]
[null,null,null,"Gestion des catégories féminines"]
[null,null,null,null,"Le fichier prévoit une catégorie FEM telle que définie dans l'annexe 10B du règlement national.\nCependant si l'organisateur ne prévoit pas de classement spécifique pour cette catégorie, il faudra veiller à déplacer les engagements \"FEM\" vers les 3ème ou 4ème catégories, conformément au réglement national.\nVoir feuille \"Catégories\" pour plus d'explications."]
[null,null,null,null,"Le chargement automatique des engagements issus du site national ne doit être lancé qu'une seule fois en utilisant la liste définitive obtenue après la cloture des engagements."]

{"sheet":"Mode emploi","index":1,"n_rows":65,"n_cols":7,"rows_kept":65,"cut":false,"hidden":false,"merged":[[29,5,29,6],[43,4,43,6],[3,2,3,6]]}
[2024]
[]
[]
[null,null,"MODE D'EMPLOI DU FICHIER D'ENGAGEMENTS ET DE RESULTATS"]
[]
[null,"A","Préparation de l'épreuve"]
[null,null,null,"Saisir les données de l'épreuve :"]
[null,null,null,null,"Club :"]
[null,null,null,null,"Lieu :"]
[null,null,null,null,"Date :"]
[null,null,null,"Chargement automatique des engagements issus du site national"]
[null,null,null,null,"Opération à réaliser avec la liste définitive obtenue après clôture des engagements"]
[null,null,null,null,"Se rendre sur le site UFOLEP rubrique :"]
[null,null,null,null,null,null," https://www.ufolep-cyclisme.org"]
[null,null,null,null,"Sélectionnez l'épreuve et affichez la liste d'engagés :"]
[]
[null,null,null,null,"Télecharger la liste d'engagés au format xls :"]
[]
[null,null,null,null,"Ouvrir le fichier \"Etat des engagés.xls\" ainsi obtenu depuis votre dossier local de téléchargement puis revenir sur cet écran : "]
[null,null,null,null,"Lancer l'importation en cliquant sur :"]
[]
[]
[]
[null,null,null,null,"Si le présent fichier contenait déjà des données, les nouveaux engagements sont ajoutés à la suite "]
[null,null,null,null,null,"=> Assurez vous toutefois que le chargement automatique n'a pas créé de double-engagements"]
[null,null,null,null,"Il est possible que le chargement automatique ne reconnaissent pas certaines catégories saisies sur le site."]
[null,null,null,null,"Un message d'avertissement s'affiche alors : \"Certains engagements correspondent à des catégories non reconnues …\""]
[null,null,null,null,null,"Dans ce cas ces engagements sont placés dans la feuille \"Autres\""]
[null,null,null,null,null,"Vous devez vérifier ces données et déplacer les engagements dans les feuilles des catégories adéquates"]
[null,null,null,null,null,"Pour les courses ouvertes aux autres fédérations, Vérifiez les correspondances de catégories à l'aide de la feuille \"Catégories\""]
[null,null,null,"Chargement des engagements reçus par courrier, mails, coureurs du club organisateur, … engagements sur place"]
[null,null,null,null,"Ajouter ces engagements aux engagements issus du site national dans les feuilles de catégories (onglets de couleur bleue)"]
[null,null,null,null,"Ces engagements peuvent être saisie indifféremment avant et après le chargement automatique"]
[null,null,null,"Vérification des données"]
[null,null,null,null,"Assurez vous que les différentes opérations réalisées n'ont pas créé de double-engagements"]
[null,null,null,null,"Assurez vous qu'il n'y a pas de concurrents dans des catégories non prévues par l'organisateur (ex : féminines ou jeunes)"]
[null,null,null,"Attribution des dossards"]
[null,null,null,null,"Renseigner les N° de dossard dans les feuilles d'engagés suivant les jeux de dossards mis à disposition par l'organisation"]
[null,null,null,null,"Vous pouvez bien sûr trier les listes d'engagés dans l'ordre souhaité"]
[]
[null,"B","Remise des dossards"]
[null,null,null,"L'organisateur devra vérifier :"]
[null,null,null,null,"Pour les licenciés UFOLEP : La licence et le carton de catégorie"]
[null,null,null,null,"Pour les licenciés des autres fédérations : La licence, la catégorie dans la fédération et la bonne correspondance avec la catégorie UFOLEP retenue (utiliser les tableaux de la feuille \"Catégories\""]
[null,null,null,null,null,"Noter sur le listing d'engagement les données manquantes, en particulier la catégorie dans la fédération"]
[]
[null,"C","Au départ"]
[null,null,null,"L'organisateur devra noter pour chaque départ :"]
[null,null,null,null,"Le nombre de partants"]
[null,null,null,null,"Les non-partants devront être notés sur les listings d'engagements en colonne signature"]
[]
[null,"D","Saisie des classements"]
[null,null,null,"Dans les listes d'engagés :"]
[null,null,null,null,"Assurez vous que les engagés sur place ont tous été saisis"]
[null,null,null,null,"Indiquez les non-partants dans la colonne \"Signature\", une saisie assistée propose une liste de choix"]
[null,null,null,"Dans les feuilles de classement :"]
[null,null,null,null,"Renseigner les N° de dossard dans l'ordre d'arrivée, les informations concernant le coureur s'afficheront alors"]
[]
[null,"E","Envoi des résultats :"]
[null,null,null,"La liste des engagés et des résultats est à renvoyer par email au plus tard le lendemain de l'épreuve :"]
[null,null,null,null,null,null,"classements@ufolepcyclosport45.fr"]
[]
[null,"F","Envoi du reversement financier "]
[null,null,null,"Vérifiez les données reportées dans le formulaire de cotisation en page \"Récap_cotisation\""]
[null,null,null,"Envoyer le règlement au trésorier de la CTD comme indiqué sur le formulaire"]

{"sheet":"Version","index":2,"n_rows":6,"n_cols":3,"rows_kept":6,"cut":false,"hidden":false,"merged":[]}
[]
[null,"Date","Description"]
[null,"2020-02-24","Verion initiale"]
[null,"2020-02-27","Amélioration gestion des catégories"]
[null,"2024-01-22","Refonte complète du fichier afin de s'adapter aux catégories valides en 2024 et faciliter les évolutions ultérieures : \n   Mise à jour de la feuille \"Catégories\" conforme à la fiche 10B du 15/12/2023\n   Mise à jour de la page Récap_cotisation,\n   Ajout de nouvelles feuilles de catégories,\n   Évolution de la macro de chargement, \n   Mise en place de nouvelles formules de calcul dans les pages de classements "]
[null,"2024-01-25","Mise à jour pour prise en compte des lignes vides"]

{"sheet":"Catégories","index":3,"n_rows":99,"n_cols":5,"rows_kept":99,"cut":false,"hidden":false,"merged":[[98,1,98,4],[85,3,85,4],[86,1,88,1],[86,2,88,2],[86,3,86,4],[87,3,87,4],[88,3,88,4],[91,1,91,4],[93,1,93,4],[94,1,94,4],[95,1,95,4],[97,1,97,4],[78,1,84,1],[78,2,84,2],[78,3,78,4],[79,3,79,4],[80,3,80,4],[81,3,81,4],[82,3,82,4],[83,3,83,4],[84,3,84,4],[70,1,70,4],[72,1,72,4],[73,1,73,4],[75,1,75,4],[77,1,77,2],[77,3,77,4],[64,3,64,4],[65,1,67,1],[65,2,67,2],[65,3,65,4],[66,3,66,4],[67,3,67,4],[56,1,56,4],[58,1,58,4],[60,1,60,2],[60,3,60,4],[61,1,63,1],[61,2,63,2],[61,3,61,4],[62,3,62,4],[63,3,63,4],[55,1,55,4],[41,1,41,4],[42,1,42,4],[44,1,44,4],[46,1,46,2],[46,3,46,4],[47,1,48,1],[47,2,48,2],[47,3,47,4],[48,3,48,4],[49,1,50,1],[49,2,50,2],[49,3,49,4],[50,3,50,4],[53,1,53,4],[39,1,39,4],[10,1,11,1],[10,2,11,2],[15,3,17,4],[22,1,22,4],[24,1,25,2],[24,3,24,4],[25,3,25,4],[26,1,27,1],[26,2,27,2],[26,4,27,4],[30,3,31,3],[30,4,31,4],[2,1,2,4],[3,1,3,4],[6,1,6,4],[8,1,9,2],[8,3,8,4],[9,3,9,4]]}
[]
[]
[null,"Courses UFOLEP sur route ouvertes aux autres fédérations"]
[null,"Tableau de correspondances des catégories"]
[null,"Etabli à partir de la mise à jour du 15/12/2023 de la fiche n°10 B du règlement UFOLEP Cyclosport - Cyclocross - CLM"]
[]
[null,"Licenciés Masculins"]
[]
[null,"FFC / FFTri",null," FSGT"]
[null,null,null,"Le nombre de catégories de valeur varie\nselon les départements et/ou les régions"]
[null,"Catégories FFC En fonction de leur activité","Sera classé en Cyclosport Ufolep","Catégories ","Sera classé en cyclosport"]
[null,null,null,"FSGT Route","Ufolep"]
[null,"Open 3 ","1ere  ","1ere et 2eme ","1ere  "]
[null,"Access 1  ","1ere  ","3eme ","2eme "]
[null,"Access 2 ","2eme ","4eme 5eme et 6eme ","3eme "]
[null,"Access 3 ","3eme  "," "]
[null,"Access 4 ","3eme "]
[null,"Triathlète sauf « Elite »","2eme  "]
[null,"Jeunes U17 (Cadets) ","15/16 ans","Cadets ","15/16 ans "]
[null,"Jeunes U15 (Minimes) ","13/14 ans","Minimes ","13/14 ans "]
[null,"Jeunes U13 (Benjamins) ","11/12 ans","Benjamins","11/12 ans "]
[]
[null,"Licenciées Féminines"]
[]
[null,"FFC / FFTri",null," FSGT"]
[null,null,null,"Le nombre de catégories de valeur varie\nselon les départements et/ou les régions"]
[null,"Catégories FFC","Sera classée en …. Cyclosport Ufolep","Catégories ","Sera classée en ….  cyclosport Ufolep"]
[null,null,null,"FSGT Route"]
[null,"Open 1 et 2 ","2eme ","1ere-2eme","2eme "]
[null,"Open 3","3eme ","3eme 4eme 5eme 6eme ","Féminines ou 3eme "]
[null,"Access 1,2,3,4 ","Féminines ou 3eme "]
[null,"Triathlète sauf Elite","3eme"]
[null,"Jeunes U17 (Cadettes) ","15/16 ans ","Cadettes ","15/16 ans "]
[null,"Jeunes U15 (Minimes)  ","13/14 ans ","Minimes ","13/14 ans "]
[null,"Jeunes U13 (Benjamines) ","11/12 ans","Benjamines","11/12 ans "]
[]
[]
[]
[]
[null,"1ère Catégorie Cyclosport"]
[]
[null,"Licenciés UFOLEP"]
[null,"Titulaires d'un carton Cyclosport 1ère catégorie"]
[]
[null,"Licenciés d'autres fédérations acceptés"]
[]
[null,"Fédérations",null,"Catégories dans la fédération"]
[null,null,"FFC","Open 3 Masculins"]
[null,null,null,"Access 1 Masculins"]
[null,null,"FSGT Route","1ère Masculins"]
[null,null,null,"2ème Masculins"]
[]
[]
[null,"2ème Catégorie Cyclosport"]
[]
[null,"Licenciés UFOLEP"]
[null,"Titulaires d'un carton Cyclosport 2ème catégorie"]
[]
[null,"Coureurs d'autres fédérations acceptés"]
[]
[null,"Fédérations",null,"Catégories dans la fédération"]
[null,null,"FFC","Access 2 Masculins"]
[null,null,null,"Open 1 Féminines"]
[null,null,null,"Open 2 Féminines"]
[null,null,"FFTri","Triathlètes masculins sauf « Elite »"]
[null,null,"FSGT Route","3ème Masculins"]
[null,null,null,"1ere Féminines"]
[null,null,null,"2eme Féminines"]
[]
[]
[null,"3ème Catégorie Cyclosport"]
[]
[null,"Licenciés UFOLEP"]
[null,"Titulaires d'un carton Cyclosport 3ème catégorie"]
[]
[null,"Coureurs d'autres fédérations acceptés"]
[]
[null,"Fédérations",null,"Catégories dans la fédération"]
[null,null,"FFC","Access 3 Masculins"]
[null,null,null,"Access 4 Masculins"]
[null,null,null,"Open 3 Féminines"]
[null,null,null,"Access 1 Féminines"]
[null,null,null,"Access 2 Féminines"]
[null,null,null,"Access 3 Féminines"]
[null,null,null,"Access 4 Féminines"]
[null,null,"FFTri","Triathlètes féminines sauf « Elite »"]
[null,null,"FSGT Route","4ème Masculins"]
[null,null,null,"5ème Masculins"]
[null,null,null,"6ème Masculins"]
[]
[]
[null,"4ème Catégorie Cyclosport"]
[]
[null,"Licenciés UFOLEP"]
[null,"Titulaires d'un carton Cyclosport 4ème catégorie (4-A ou 4-B)"]
[null,"Titulaires d'un carton Cyclosport FEM"]
[]
[null,"Coureurs d'autres fédérations acceptés"]
[null,"AUCUN"]

{"sheet":"Récap_cotisation","index":4,"n_rows":21,"n_cols":9,"rows_kept":21,"cut":false,"hidden":false,"merged":[[20,1,20,8],[1,0,1,8],[3,2,3,8],[4,2,4,8],[5,2,5,8],[19,1,19,8]]}
[]
["COTISATION SUR ENGAGEMENTS"]
[]
[null,"Club organisateur :",{"$f":"IF(club=\"\",\"\",club)","v":""}]
[null,"Lieu de l'épreuve :",{"$f":"IF( lieu=\"\",\"\",lieu)","v":""}]
[null,"Date de l'épreuve :",{"$f":"IF(date_epreuve=\"\",\"\",date_epreuve)","v":""}]
[]
[null,"Nombre de coureurs","Partants"]
[1,"1ère catégorie",{"$f":"COUNTIFS(INDIRECT(\"'\"&$A9&\"'!$B$9:$B$100\"),\"><\",INDIRECT(\"'\"&$A9&\"'!$i$9:$i$100\"),\"<>Non Partant\")","v":0}]
[2,"2ème catégorie",{"$f":"COUNTIFS(INDIRECT(\"'\"&$A10&\"'!$B$9:$B$100\"),\"><\",INDIRECT(\"'\"&$A10&\"'!$i$9:$i$100\"),\"<>Non Partant\")","v":0}]
[3,"3ème catégorie",0]
[4,"4ème catégorie",0]
["FEM","Féminines",0]
["15-16","Cadets 15-16 ans",0]
["13-14","Minimes 13-14 ans",0]
["11-12","Benjamins 11-12 ans",0]
[null,"Nb Total d'engagements",{"$f":"SUM(C9:C16)","v":0},null,"Cotisation (par eng.) * : ",1.2,null,"Montant à régler :",{"$f":"C17*F17","v":0}]
[null,"Montant à régler"]
[]
[null,"* Cotisation fixée pour chaque saison voir trésorier de la commission.. \nRetourner au trésorier(e) de la commission le règlement (à l'ordre de l'UFOLEP Cyclosport Loiret) accompagné de cette fiche. "]
[null,"Adresse Trésorier :\nGérard DEZECOT, 84 Avenue de la Libération\n45700 VILLEMANDEUR"]

{"sheet":"1","index":5,"n_rows":8,"n_cols":9,"rows_kept":8,"cut":false,"hidden":false,"merged":[[0,0,0,8],[2,2,2,8],[3,2,3,8],[4,2,4,8],[5,2,5,8]]}
["LISTE DES ENGAGES"]
[]
[null,"Club organisateur :",{"$f":"IF(club=\"\",\"\",club)","v":""}]
[null,"Lieu de l'épreuve :",{"$f":"IF( lieu=\"\",\"\",lieu)","v":""}]
[null,"Date de l'épreuve :",{"$f":"IF(date_epreuve=\"\",\"\",date_epreuve)","v":""}]
[null,"Catégorie :","1ère catégorie"]
[]
["N°","NOM  PRENOM","M/F","FEDERATION","CATE.","CLUB","DEP.","PAYÉ","SIGNATURE"]

{"sheet":"2","index":6,"n_rows":8,"n_cols":9,"rows_kept":8,"cut":false,"hidden":false,"merged":[[0,0,0,8],[2,2,2,8],[3,2,3,8],[4,2,4,8],[5,2,5,8]]}
["LISTE DES ENGAGES"]
[]
[null,"Club organisateur :",{"$f":"IF(club=\"\",\"\",club)","v":""}]
[null,"Lieu de l'épreuve :",{"$f":"IF( lieu=\"\",\"\",lieu)","v":""}]
[null,"Date de l'épreuve :",{"$f":"IF(date_epreuve=\"\",\"\",date_epreuve)","v":""}]
[null,"Catégorie :","2ème catégorie"]
[]
["N°","NOM  PRENOM","M/F","FEDERATION","CATE.","CLUB","DEP.","PAYÉ","SIGNATURE"]

{"sheet":"3","index":7,"n_rows":8,"n_cols":9,"rows_kept":8,"cut":false,"hidden":false,"merged":[[0,0,0,8],[2,2,2,8],[3,2,3,8],[4,2,4,8],[5,2,5,8]]}
["LISTE DES ENGAGES"]
[]
[null,"Club organisateur :",{"$f":"IF(club=\"\",\"\",club)","v":""}]
[null,"Lieu de l'épreuve :",{"$f":"IF( lieu=\"\",\"\",lieu)","v":""}]
[null,"Date de l'épreuve :",{"$f":"IF(date_epreuve=\"\",\"\",date_epreuve)","v":""}]
[null,"Catégorie :","3ème catégorie"]
[]
["N°","NOM  PRENOM","M/F","FEDERATION","CATE.","CLUB","DEP.","PAYÉ","SIGNATURE"]

{"sheet":"4","index":8,"n_rows":8,"n_cols":9,"rows_kept":8,"cut":false,"hidden":false,"merged":[[0,0,0,8],[2,2,2,8],[3,2,3,8],[4,2,4,8],[5,2,5,8]]}
["LISTE DES ENGAGES"]
[]
[null,"Club organisateur :",{"$f":"IF(club=\"\",\"\",club)","v":""}]
[null,"Lieu de l'épreuve :",{"$f":"IF( lieu=\"\",\"\",lieu)","v":""}]
[null,"Date de l'épreuve :",{"$f":"IF(date_epreuve=\"\",\"\",date_epreuve)","v":""}]
[null,"Catégorie :","4ème catégorie"]
[]
["N°","NOM  PRENOM","M/F","FEDERATION","CATE.","CLUB","DEP.","PAYÉ","SIGNATURE"]

{"sheet":"FEM","index":9,"n_rows":8,"n_cols":9,"rows_kept":8,"cut":false,"hidden":false,"merged":[[0,0,0,8],[2,2,2,8],[3,2,3,8],[4,2,4,8],[5,2,5,8]]}
["LISTE DES ENGAGES"]
[]
[null,"Club organisateur :",{"$f":"IF(club=\"\",\"\",club)","v":""}]
[null,"Lieu de l'épreuve :",{"$f":"IF( lieu=\"\",\"\",lieu)","v":""}]
[null,"Date de l'épreuve :",{"$f":"IF(date_epreuve=\"\",\"\",date_epreuve)","v":""}]
[null,"Catégorie :","Féminines"]
[]
["N°","NOM  PRENOM","M/F","FEDERATION","CATE.","CLUB","DEP.","PAYÉ","SIGNATURE"]

{"sheet":"15-16","index":10,"n_rows":8,"n_cols":9,"rows_kept":8,"cut":false,"hidden":false,"merged":[[0,0,0,8],[2,2,2,8],[3,2,3,8],[4,2,4,8],[5,2,5,8]]}
["LISTE DES ENGAGES"]
[]
[null,"Club organisateur :",{"$f":"IF(club=\"\",\"\",club)","v":""}]
[null,"Lieu de l'épreuve :",{"$f":"IF( lieu=\"\",\"\",lieu)","v":""}]
[null,"Date de l'épreuve :",{"$f":"IF(date_epreuve=\"\",\"\",date_epreuve)","v":""}]
[null,"Catégorie :","15 / 16 ans"]
[]
["N°","NOM  PRENOM","M/F","FEDERATION","CATE.","CLUB","DEP.","PAYÉ","SIGNATURE"]

{"sheet":"13-14","index":11,"n_rows":8,"n_cols":9,"rows_kept":8,"cut":false,"hidden":false,"merged":[[0,0,0,8],[2,2,2,8],[3,2,3,8],[4,2,4,8],[5,2,5,8]]}
["LISTE DES ENGAGES"]
[]
[null,"Club organisateur :",{"$f":"IF(club=\"\",\"\",club)","v":""}]
[null,"Lieu de l'épreuve :",{"$f":"IF( lieu=\"\",\"\",lieu)","v":""}]
[null,"Date de l'épreuve :",{"$f":"IF(date_epreuve=\"\",\"\",date_epreuve)","v":""}]
[null,"Catégorie :","13 / 14 ans"]
[]
["N°","NOM  PRENOM","M/F","FEDERATION","CATE.","CLUB","DEP.","PAYÉ","SIGNATURE"]

{"sheet":"11-12","index":12,"n_rows":8,"n_cols":9,"rows_kept":8,"cut":false,"hidden":false,"merged":[[0,0,0,8],[2,2,2,8],[3,2,3,8],[4,2,4,8],[5,2,5,8]]}
["LISTE DES ENGAGES"]
[]
[null,"Club organisateur :",{"$f":"IF(club=\"\",\"\",club)","v":""}]
[null,"Lieu de l'épreuve :",{"$f":"IF( lieu=\"\",\"\",lieu)","v":""}]
[null,"Date de l'épreuve :",{"$f":"IF(date_epreuve=\"\",\"\",date_epreuve)","v":""}]
[null,"Catégorie :","11 / 12 ans"]
[]
["N°","NOM  PRENOM","M/F","FEDERATION","CATE.","CLUB","DEP.","PAYÉ","SIGNATURE"]

{"sheet":"Autres","index":13,"n_rows":8,"n_cols":9,"rows_kept":8,"cut":false,"hidden":false,"merged":[[0,0,0,8],[2,2,2,8],[3,2,3,8],[4,2,4,8],[5,2,5,8]]}
["LISTE DES ENGAGES"]
[]
[null,"Club organisateur :",{"$f":"IF(club=\"\",\"\",club)","v":""}]
[null,"Lieu de l'épreuve :",{"$f":"IF( lieu=\"\",\"\",lieu)","v":""}]
[null,"Date de l'épreuve :",{"$f":"IF(date_epreuve=\"\",\"\",date_epreuve)","v":""}]
[null,"Catégorie :","Autres"]
[]
["N°","NOM  PRENOM","M/F","FEDERATION","CATE.","CLUB","DEP.","PAYÉ","SIGNATURE"]

{"sheet":"1_classement","index":14,"n_rows":39,"n_cols":9,"rows_kept":39,"cut":false,"hidden":false,"merged":[[6,3,6,7],[0,1,0,7],[2,3,2,7],[3,3,3,7],[4,3,4,7],[5,3,5,7]]}
[{"$f":"RIGHT(CELL(\"nomfichier\",A1),LEN(CELL(\"nomfichier\",A1)) - FIND(\"]\",CELL(\"nomfichier\",A1)))","v":"1_classement"},"CLASSEMENTS"]
[{"$f":"LEFT($A$1,FIND(\"_classement\",$A$1)-1)","v":"1"}]
[null,null,"Club organisateur :",{"$f":"IF(club=\"\",\"\",club)","v":""}]
[null,null,"Lieu de l'épreuve :",{"$f":"IF(lieu=\"\",\"\",lieu)","v":""}]
[null,null,"Date de l'épreuve :",{"$f":"IF(date_epreuve=\"\",\"\",date_epreuve)","v":""}]
[null,null,"Catégorie :","1ère catégorie"]
[null,null,"Nb de partants :",{"$f":"COUNTIFS(INDIRECT(\"'\"&$A2&\"'!$B$9:$B$100\"),\"><\",INDIRECT(\"'\"&$A2&\"'!$i$9:$i$100\"),\"<>Non Partant\")","v":0}]
[]
["PLACE","N°","NOM  PRENOM","M/F","FEDERATION","CATE.","CLUB","DEP."]
[1,null,{"$f":"IF($B10=\"\",\"\",INDEX(INDIRECT(\"'\"&$A$2&\"'!$A:$I\"),MATCH($B10,INDIRECT(\"'\"&$A$2&\"'!$A:$A\"),0),MATCH(C$9,'1'!Titre,0)))","v":""},{"$f":"IF($B10=\"\",\"\",INDEX(INDIRECT(\"'\"&$A$2&\"'!$A:$I\"),MATCH($B10,INDIRECT(\"'\"&$A$2&\"'!$A:$A\"),0),MATCH(D$9,'1'!Titre,0)))","v":""},{"$f":"IF($B10=\"\",\"\",INDEX(INDIRECT(\"'\"&$A$2&\"'!$A:$I\"),MATCH($B10,INDIRECT(\"'\"&$A$2&\"'!$A:$A\"),0),MATCH(E$9,'1'!Titre,0)))","v":""},{"$f":"IF($B10=\"\",\"\",INDEX(INDIRECT(\"'\"&$A$2&\"'!$A:$I\"),MATCH($B10,INDIRECT(\"'\"&$A$2&\"'!$A:$A\"),0),MATCH(F$9,'1'!Titre,0)))","v":""},{"$f":"IF($B10=\"\",\"\",INDEX(INDIRECT(\"'\"&$A$2&\"'!$A:$I\"),MATCH($B10,INDIRECT(\"'\"&$A$2&\"'!$A:$A\"),0),MATCH(G$9,'1'!Titre,0)))","v":""},{"$f":"IF($B10=\"\",\"\",INDEX(INDIRECT(\"'\"&$A$2&\"'!$A:$I\"),MATCH($B10,INDIRECT(\"'\"&$A$2&\"'!$A:$A\"),0),MATCH(H$9,'1'!Titre,0)))","v":""},{"$f":"IF($B10=\"\",\"\",IF(INDEX(INDIRECT(\"'\"&$A$2&\"'!$A:$I\"),MATCH($B10,INDIRECT(\"'\"&$A$2&\"'!$A:$A\"),0),MATCH(\"SIGNATURE\",'1'!Titre,0))=\"\",IF(COUNTIF($B$10:$B100,$B10)>1,COUNTIF($B$10:$B100,$B10),\"\"),INDEX(INDIRECT(\"'\"&$A$2&\"'!$A:$I\"),MATCH($B10,INDIRECT(\"'\"&$A$2&\"'!$A:$A\"),0),MATCH(\"SIGNATURE\",'1'!Titre,0))))","v":""}]
[2,null,{"$f":"IF($B11=\"\",\"\",INDEX(INDIRECT(\"'\"&$A$2&\"'!$A:$I\"),MATCH($B11,INDIRECT(\"'\"&$A$2&\"'!$A:$A\"),0),MATCH(C$9,'1'!Titre,0)))","v":""},{"$f":"IF($B11=\"\",\"\",INDEX(INDIRECT(\"'\"&$A$2&\"'!$A:$I\"),MATCH($B11,INDIRECT(\"'\"&$A$2&\"'!$A:$A\"),0),MATCH(D$9,'1'!Titre,0)))","v":""},{"$f":"IF($B11=\"\",\"\",INDEX(INDIRECT(\"'\"&$A$2&\"'!$A:$I\"),MATCH($B11,INDIRECT(\"'\"&$A$2&\"'!$A:$A\"),0),MATCH(E$9,'1'!Titre,0)))","v":""},{"$f":"IF($B11=\"\",\"\",INDEX(INDIRECT(\"'\"&$A$2&\"'!$A:$I\"),MATCH($B11,INDIRECT(\"'\"&$A$2&\"'!$A:$A\"),0),MATCH(F$9,'1'!Titre,0)))","v":""},{"$f":"IF($B11=\"\",\"\",INDEX(INDIRECT(\"'\"&$A$2&\"'!$A:$I\"),MATCH($B11,INDIRECT(\"'\"&$A$2&\"'!$A:$A\"),0),MATCH(G$9,'1'!Titre,0)))","v":""},{"$f":"IF($B11=\"\",\"\",INDEX(INDIRECT(\"'\"&$A$2&\"'!$A:$I\"),MATCH($B11,INDIRECT(\"'\"&$A$2&\"'!$A:$A\"),0),MATCH(H$9,'1'!Titre,0)))","v":""},{"$f":"IF($B11=\"\",\"\",IF(INDEX(INDIRECT(\"'\"&$A$2&\"'!$A:$I\"),MATCH($B11,INDIRECT(\"'\"&$A$2&\"'!$A:$A\"),0),MATCH(\"SIGNATURE\",'1'!Titre,0))=\"\",IF(COUNTIF($B$10:$B101,$B11)>1,COUNTIF($B$10:$B101,$B11),\"\"),INDEX(INDIRECT(\"'\"&$A$2&\"'!$A:$I\"),MATCH($B11,INDIRECT(\"'\"&$A$2&\"'!$A:$A\"),0),MATCH(\"SIGNATURE\",'1'!Titre,0))))","v":""}]
[3,null,{"$f":"IF($B12=\"\",\"\",INDEX(INDIRECT(\"'\"&$A$2&\"'!$A:$I\"),MATCH($B12,INDIRECT(\"'\"&$A$2&\"'!$A:$A\"),0),MATCH(C$9,'1'!Titre,0)))","v":""},{"$f":"IF($B12=\"\",\"\",INDEX(INDIRECT(\"'\"&$A$2&\"'!$A:$I\"),MATCH($B12,INDIRECT(\"'\"&$A$2&\"'!$A:$A\"),0),MATCH(D$9,'1'!Titre,0)))","v":""},{"$f":"IF($B12=\"\",\"\",INDEX(INDIRECT(\"'\"&$A$2&\"'!$A:$I\"),MATCH($B12,INDIRECT(\"'\"&$A$2&\"'!$A:$A\"),0),MATCH(E$9,'1'!Titre,0)))","v":""},{"$f":"IF($B12=\"\",\"\",INDEX(INDIRECT(\"'\"&$A$2&\"'!$A:$I\"),MATCH($B12,INDIRECT(\"'\"&$A$2&\"'!$A:$A\"),0),MATCH(F$9,'1'!Titre,0)))","v":""},{"$f":"IF($B12=\"\",\"\",INDEX(INDIRECT(\"'\"&$A$2&\"'!$A:$I\"),MATCH($B12,INDIRECT(\"'\"&$A$2&\"'!$A:$A\"),0),MATCH(G$9,'1'!Titre,0)))","v":""},{"$f":"IF($B12=\"\",\"\",INDEX(INDIRECT(\"'\"&$A$2&\"'!$A:$I\"),MATCH($B12,INDIRECT(\"'\"&$A$2&\"'!$A:$A\"),0),MATCH(H$9,'1'!Titre,0)))","v":""},{"$f":"IF($B12=\"\",\"\",IF(INDEX(INDIRECT(\"'\"&$A$2&\"'!$A:$I\"),MATCH($B12,INDIRECT(\"'\"&$A$2&\"'!$A:$A\"),0),MATCH(\"SIGNATURE\",'1'!Titre,0))=\"\",IF(COUNTIF($B$10:$B102,$B12)>1,COUNTIF($B$10:$B102,$B12),\"\"),INDEX(INDIRECT(\"'\"&$A$2&\"'!$A:$I\"),MATCH($B12,INDIRECT(\"'\"&$A$2&\"'!$A:$A\"),0),MATCH(\"SIGNATURE\",'1'!Titre,0))))","v":""}]
[4,null,{"$f":"IF($B13=\"\",\"\",INDEX(INDIRECT(\"'\"&$A$2&\"'!$A:$I\"),MATCH($B13,INDIRECT(\"'\"&$A$2&\"'!$A:$A\"),0),MATCH(C$9,'1'!Titre,0)))","v":""},{"$f":"IF($B13=\"\",\"\",INDEX(INDIRECT(\"'\"&$A$2&\"'!$A:$I\"),MATCH($B13,INDIRECT(\"'\"&$A$2&\"'!$A:$A\"),0),MATCH(D$9,'1'!Titre,0)))","v":""},{"$f":"IF($B13=\"\",\"\",INDEX(INDIRECT(\"'\"&$A$2&\"'!$A:$I\"),MATCH($B13,INDIRECT(\"'\"&$A$2&\"'!$A:$A\"),0),MATCH(E$9,'1'!Titre,0)))","v":""},{"$f":"IF($B13=\"\",\"\",INDEX(INDIRECT(\"'\"&$A$2&\"'!$A:$I\"),MATCH($B13,INDIRECT(\"'\"&$A$2&\"'!$A:$A\"),0),MATCH(F$9,'1'!Titre,0)))","v":""},{"$f":"IF($B13=\"\",\"\",INDEX(INDIRECT(\"'\"&$A$2&\"'!$A:$I\"),MATCH($B13,INDIRECT(\"'\"&$A$2&\"'!$A:$A\"),0),MATCH(G$9,'1'!Titre,0)))","v":""},{"$f":"IF($B13=\"\",\"\",INDEX(INDIRECT(\"'\"&$A$2&\"'!$A:$I\"),MATCH($B13,INDIRECT(\"'\"&$A$2&\"'!$A:$A\"),0),MATCH(H$9,'1'!Titre,0)))","v":""},{"$f":"IF($B13=\"\",\"\",IF(INDEX(INDIRECT(\"'\"&$A$2&\"'!$A:$I\"),MATCH($B13,INDIRECT(\"'\"&$A$2&\"'!$A:$A\"),0),MATCH(\"SIGNATURE\",'1'!Titre,0))=\"\",IF(COUNTIF($B$10:$B103,$B13)>1,COUNTIF($B$10:$B103,$B13),\"\"),INDEX(INDIRECT(\"'\"&$A$2&\"'!$A:$I\"),MATCH($B13,INDIRECT(\"'\"&$A$2&\"'!$A:$A\"),0),MATCH(\"SIGNATURE\",'1'!Titre,0))))","v":""}]
[5,null,{"$f":"IF($B14=\"\",\"\",INDEX(INDIRECT(\"'\"&$A$2&\"'!$A:$I\"),MATCH($B14,INDIRECT(\"'\"&$A$2&\"'!$A:$A\"),0),MATCH(C$9,'1'!Titre,0)))","v":""},{"$f":"IF($B14=\"\",\"\",INDEX(INDIRECT(\"'\"&$A$2&\"'!$A:$I\"),MATCH($B14,INDIRECT(\"'\"&$A$2&\"'!$A:$A\"),0),MATCH(D$9,'1'!Titre,0)))","v":""},{"$f":"IF($B14=\"\",\"\",INDEX(INDIRECT(\"'\"&$A$2&\"'!$A:$I\"),MATCH($B14,INDIRECT(\"'\"&$A$2&\"'!$A:$A\"),0),MATCH(E$9,'1'!Titre,0)))","v":""},{"$f":"IF($B14=\"\",\"\",INDEX(INDIRECT(\"'\"&$A$2&\"'!$A:$I\"),MATCH($B14,INDIRECT(\"'\"&$A$2&\"'!$A:$A\"),0),MATCH(F$9,'1'!Titre,0)))","v":""},{"$f":"IF($B14=\"\",\"\",INDEX(INDIRECT(\"'\"&$A$2&\"'!$A:$I\"),MATCH($B14,INDIRECT(\"'\"&$A$2&\"'!$A:$A\"),0),MATCH(G$9,'1'!Titre,0)))","v":""},{"$f":"IF($B14=\"\",\"\",INDEX(INDIRECT(\"'\"&$A$2&\"'!$A:$I\"),MATCH($B14,INDIRECT(\"'\"&$A$2&\"'!$A:$A\"),0),MATCH(H$9,'1'!Titre,0)))","v":""},{"$f":"IF($B14=\"\",\"\",IF(INDEX(INDIRECT(\"'\"&$A$2&\"'!$A:$I\"),MATCH($B14,INDIRECT(\"'\"&$A$2&\"'!$A:$A\"),0),MATCH(\"SIGNATURE\",'1'!Titre,0))=\"\",IF(COUNTIF($B$10:$B104,$B14)>1,COUNTIF($B$10:$B104,$B14),\"\"),INDEX(INDIRECT(\"'\"&$A$2&\"'!$A:$I\"),MATCH($B14,INDIRECT(\"'\"&$A$2&\"'!$A:$A\"),0),MATCH(\"SIGNATURE\",'1'!Titre,0))))","v":""}]
[6,null,{"$f":"IF($B15=\"\",\"\",INDEX(INDIRECT(\"'\"&$A$2&\"'!$A:$I\"),MATCH($B15,INDIRECT(\"'\"&$A$2&\"'!$A:$A\"),0),MATCH(C$9,'1'!Titre,0)))","v":""},{"$f":"IF($B15=\"\",\"\",INDEX(INDIRECT(\"'\"&$A$2&\"'!$A:$I\"),MATCH($B15,INDIRECT(\"'\"&$A$2&\"'!$A:$A\"),0),MATCH(D$9,'1'!Titre,0)))","v":""},{"$f":"IF($B15=\"\",\"\",INDEX(INDIRECT(\"'\"&$A$2&\"'!$A:$I\"),MATCH($B15,INDIRECT(\"'\"&$A$2&\"'!$A:$A\"),0),MATCH(E$9,'1'!Titre,0)))","v":""},{"$f":"IF($B15=\"\",\"\",INDEX(INDIRECT(\"'\"&$A$2&\"'!$A:$I\"),MATCH($B15,INDIRECT(\"'\"&$A$2&\"'!$A:$A\"),0),MATCH(F$9,'1'!Titre,0)))","v":""},{"$f":"IF($B15=\"\",\"\",INDEX(INDIRECT(\"'\"&$A$2&\"'!$A:$I\"),MATCH($B15,INDIRECT(\"'\"&$A$2&\"'!$A:$A\"),0),MATCH(G$9,'1'!Titre,0)))","v":""},{"$f":"IF($B15=\"\",\"\",INDEX(INDIRECT(\"'\"&$A$2&\"'!$A:$I\"),MATCH($B15,INDIRECT(\"'\"&$A$2&\"'!$A:$A\"),0),MATCH(H$9,'1'!Titre,0)))","v":""},{"$f":"IF($B15=\"\",\"\",IF(INDEX(INDIRECT(\"'\"&$A$2&\"'!$A:$I\"),MATCH($B15,INDIRECT(\"'\"&$A$2&\"'!$A:$A\"),0),MATCH(\"SIGNATURE\",'1'!Titre,0))=\"\",IF(COUNTIF($B$10:$B105,$B15)>1,COUNTIF($B$10:$B105,$B15),\"\"),INDEX(INDIRECT(\"'\"&$A$2&\"'!$A:$I\"),MATCH($B15,INDIRECT(\"'\"&$A$2&\"'!$A:$A\"),0),MATCH(\"SIGNATURE\",'1'!Titre,0))))","v":""}]
[7,null,{"$f":"IF($B16=\"\",\"\",INDEX(INDIRECT(\"'\"&$A$2&\"'!$A:$I\"),MATCH($B16,INDIRECT(\"'\"&$A$2&\"'!$A:$A\"),0),MATCH(C$9,'1'!Titre,0)))","v":""},{"$f":"IF($B16=\"\",\"\",INDEX(INDIRECT(\"'\"&$A$2&\"'!$A:$I\"),MATCH($B16,INDIRECT(\"'\"&$A$2&\"'!$A:$A\"),0),MATCH(D$9,'1'!Titre,0)))","v":""},{"$f":"IF($B16=\"\",\"\",INDEX(INDIRECT(\"'\"&$A$2&\"'!$A:$I\"),MATCH($B16,INDIRECT(\"'\"&$A$2&\"'!$A:$A\"),0),MATCH(E$9,'1'!Titre,0)))","v":""},{"$f":"IF($B16=\"\",\"\",INDEX(INDIRECT(\"'\"&$A$2&\"'!$A:$I\"),MATCH($B16,INDIRECT(\"'\"&$A$2&\"'!$A:$A\"),0),MATCH(F$9,'1'!Titre,0)))","v":""},{"$f":"IF($B16=\"\",\"\",INDEX(INDIRECT(\"'\"&$A$2&\"'!$A:$I\"),MATCH($B16,INDIRECT(\"'\"&$A$2&\"'!$A:$A\"),0),MATCH(G$9,'1'!Titre,0)))","v":""},{"$f":"IF($B16=\"\",\"\",INDEX(INDIRECT(\"'\"&$A$2&\"'!$A:$I\"),MATCH($B16,INDIRECT(\"'\"&$A$2&\"'!$A:$A\"),0),MATCH(H$9,'1'!Titre,0)))","v":""},{"$f":"IF($B16=\"\",\"\",IF(INDEX(INDIRECT(\"'\"&$A$2&\"'!$A:$I\"),MATCH($B16,INDIRECT(\"'\"&$A$2&\"'!$A:$A\"),0),MATCH(\"SIGNATURE\",'1'!Titre,0))=\"\",IF(COUNTIF($B$10:$B106,$B16)>1,COUNTIF($B$10:$B106,$B16),\"\"),INDEX(INDIRECT(\"'\"&$A$2&\"'!$A:$I\"),MATCH($B16,INDIRECT(\"'\"&$A$2&\"'!$A:$A\"),0),MATCH(\"SIGNATURE\",'1'!Titre,0))))","v":""}]
[8,null,{"$f":"IF($B17=\"\",\"\",INDEX(INDIRECT(\"'\"&$A$2&\"'!$A:$I\"),MATCH($B17,INDIRECT(\"'\"&$A$2&\"'!$A:$A\"),0),MATCH(C$9,'1'!Titre,0)))","v":""},{"$f":"IF($B17=\"\",\"\",INDEX(INDIRECT(\"'\"&$A$2&\"'!$A:$I\"),MATCH($B17,INDIRECT(\"'\"&$A$2&\"'!$A:$A\"),0),MATCH(D$9,'1'!Titre,0)))","v":""},{"$f":"IF($B17=\"\",\"\",INDEX(INDIRECT(\"'\"&$A$2&\"'!$A:$I\"),MATCH($B17,INDIRECT(\"'\"&$A$2&\"'!$A:$A\"),0),MATCH(E$9,'1'!Titre,0)))","v":""},{"$f":"IF($B17=\"\",\"\",INDEX(INDIRECT(\"'\"&$A$2&\"'!$A:$I\"),MATCH($B17,INDIRECT(\"'\"&$A$2&\"'!$A:$A\"),0),MATCH(F$9,'1'!Titre,0)))","v":""},{"$f":"IF($B17=\"\",\"\",INDEX(INDIRECT(\"'\"&$A$2&\"'!$A:$I\"),MATCH($B17,INDIRECT(\"'\"&$A$2&\"'!$A:$A\"),0),MATCH(G$9,'1'!Titre,0)))","v":""},{"$f":"IF($B17=\"\",\"\",INDEX(INDIRECT(\"'\"&$A$2&\"'!$A:$I\"),MATCH($B17,INDIRECT(\"'\"&$A$2&\"'!$A:$A\"),0),MATCH(H$9,'1'!Titre,0)))","v":""},{"$f":"IF($B17=\"\",\"\",IF(INDEX(INDIRECT(\"'\"&$A$2&\"'!$A:$I\"),MATCH($B17,INDIRECT(\"'\"&$A$2&\"'!$A:$A\"),0),MATCH(\"SIGNATURE\",'1'!Titre,0))=\"\",IF(COUNTIF($B$10:$B107,$B17)>1,COUNTIF($B$10:$B107,$B17),\"\"),INDEX(INDIRECT(\"'\"&$A$2&\"'!$A:$I\"),MATCH($B17,INDIRECT(\"'\"&$A$2&\"'!$A:$A\"),0),MATCH(\"SIGNATURE\",'1'!Titre,0))))","v":""}]
[9,null,{"$f":"IF($B18=\"\",\"\",INDEX(INDIRECT(\"'\"&$A$2&\"'!$A:$I\"),MATCH($B18,INDIRECT(\"'\"&$A$2&\"'!$A:$A\"),0),MATCH(C$9,'1'!Titre,0)))","v":""},{"$f":"IF($B18=\"\",\"\",INDEX(INDIRECT(\"'\"&$A$2&\"'!$A:$I\"),MATCH($B18,INDIRECT(\"'\"&$A$2&\"'!$A:$A\"),0),MATCH(D$9,'1'!Titre,0)))","v":""},{"$f":"IF($B18=\"\",\"\",INDEX(INDIRECT(\"'\"&$A$2&\"'!$A:$I\"),MATCH($B18,INDIRECT(\"'\"&$A$2&\"'!$A:$A\"),0),MATCH(E$9,'1'!Titre,0)))","v":""},{"$f":"IF($B18=\"\",\"\",INDEX(INDIRECT(\"'\"&$A$2&\"'!$A:$I\"),MATCH($B18,INDIRECT(\"'\"&$A$2&\"'!$A:$A\"),0),MATCH(F$9,'1'!Titre,0)))","v":""},{"$f":"IF($B18=\"\",\"\",INDEX(INDIRECT(\"'\"&$A$2&\"'!$A:$I\"),MATCH($B18,INDIRECT(\"'\"&$A$2&\"'!$A:$A\"),0),MATCH(G$9,'1'!Titre,0)))","v":""},{"$f":"IF($B18=\"\",\"\",INDEX(INDIRECT(\"'\"&$A$2&\"'!$A:$I\"),MATCH($B18,INDIRECT(\"'\"&$A$2&\"'!$A:$A\"),0),MATCH(H$9,'1'!Titre,0)))","v":""},{"$f":"IF($B18=\"\",\"\",IF(INDEX(INDIRECT(\"'\"&$A$2&\"'!$A:$I\"),MATCH($B18,INDIRECT(\"'\"&$A$2&\"'!$A:$A\"),0),MATCH(\"SIGNATURE\",'1'!Titre,0))=\"\",IF(COUNTIF($B$10:$B108,$B18)>1,COUNTIF($B$10:$B108,$B18),\"\"),INDEX(INDIRECT(\"'\"&$A$2&\"'!$A:$I\"),MATCH($B18,INDIRECT(\"'\"&$A$2&\"'!$A:$A\"),0),MATCH(\"SIGNATURE\",'1'!Titre,0))))","v":""}]
[10,null,{"$f":"IF($B19=\"\",\"\",INDEX(INDIRECT(\"'\"&$A$2&\"'!$A:$I\"),MATCH($B19,INDIRECT(\"'\"&$A$2&\"'!$A:$A\"),0),MATCH(C$9,'1'!Titre,0)))","v":""},{"$f":"IF($B19=\"\",\"\",INDEX(INDIRECT(\"'\"&$A$2&\"'!$A:$I\"),MATCH($B19,INDIRECT(\"'\"&$A$2&\"'!$A:$A\"),0),MATCH(D$9,'1'!Titre,0)))","v":""},{"$f":"IF($B19=\"\",\"\",INDEX(INDIRECT(\"'\"&$A$2&\"'!$A:$I\"),MATCH($B19,INDIRECT(\"'\"&$A$2&\"'!$A:$A\"),0),MATCH(E$9,'1'!Titre,0)))","v":""},{"$f":"IF($B19=\"\",\"\",INDEX(INDIRECT(\"'\"&$A$2&\"'!$A:$I\"),MATCH($B19,INDIRECT(\"'\"&$A$2&\"'!$A:$A\"),0),MATCH(F$9,'1'!Titre,0)))","v":""},{"$f":"IF($B19=\"\",\"\",INDEX(INDIRECT(\"'\"&$A$2&\"'!$A:$I\"),MATCH($B19,INDIRECT(\"'\"&$A$2&\"'!$A:$A\"),0),MATCH(G$9,'1'!Titre,0)))","v":""},{"$f":"IF($B19=\"\",\"\",INDEX(INDIRECT(\"'\"&$A$2&\"'!$A:$I\"),MATCH($B19,INDIRECT(\"'\"&$A$2&\"'!$A:$A\"),0),MATCH(H$9,'1'!Titre,0)))","v":""},{"$f":"IF($B19=\"\",\"\",IF(INDEX(INDIRECT(\"'\"&$A$2&\"'!$A:$I\"),MATCH($B19,INDIRECT(\"'\"&$A$2&\"'!$A:$A\"),0),MATCH(\"SIGNATURE\",'1'!Titre,0))=\"\",IF(COUNTIF($B$10:$B109,$B19)>1,COUNTIF($B$10:$B109,$B19),\"\"),INDEX(INDIRECT(\"'\"&$A$2&\"'!$A:$I\"),MATCH($B19,INDIRECT(\"'\"&$A$2&\"'!$A:$A\"),0),MATCH(\"SIGNATURE\",'1'!Titre,0))))","v":""}]
[11,null,{"$f":"IF($B20=\"\",\"\",INDEX(INDIRECT(\"'\"&$A$2&\"'!$A:$I\"),MATCH($B20,INDIRECT(\"'\"&$A$2&\"'!$A:$A\"),0),MATCH(C$9,'1'!Titre,0)))","v":""},{"$f":"IF($B20=\"\",\"\",INDEX(INDIRECT(\"'\"&$A$2&\"'!$A:$I\"),MATCH($B20,INDIRECT(\"'\"&$A$2&\"'!$A:$A\"),0),MATCH(D$9,'1'!Titre,0)))","v":""},{"$f":"IF($B20=\"\",\"\",INDEX(INDIRECT(\"'\"&$A$2&\"'!$A:$I\"),MATCH($B20,INDIRECT(\"'\"&$A$2&\"'!$A:$A\"),0),MATCH(E$9,'1'!Titre,0)))","v":""},{"$f":"IF($B20=\"\",\"\",INDEX(INDIRECT(\"'\"&$A$2&\"'!$A:$I\"),MATCH($B20,INDIRECT(\"'\"&$A$2&\"'!$A:$A\"),0),MATCH(F$9,'1'!Titre,0)))","v":""},{"$f":"IF($B20=\"\",\"\",INDEX(INDIRECT(\"'\"&$A$2&\"'!$A:$I\"),MATCH($B20,INDIRECT(\"'\"&$A$2&\"'!$A:$A\"),0),MATCH(G$9,'1'!Titre,0)))","v":""},{"$f":"IF($B20=\"\",\"\",INDEX(INDIRECT(\"'\"&$A$2&\"'!$A:$I\"),MATCH($B20,INDIRECT(\"'\"&$A$2&\"'!$A:$A\"),0),MATCH(H$9,'1'!Titre,0)))","v":""},{"$f":"IF($B20=\"\",\"\",IF(INDEX(INDIRECT(\"'\"&$A$2&\"'!$A:$I\"),MATCH($B20,INDIRECT(\"'\"&$A$2&\"'!$A:$A\"),0),MATCH(\"SIGNATURE\",'1'!Titre,0))=\"\",IF(COUNTIF($B$10:$B110,$B20)>1,COUNTIF($B$10:$B110,$B20),\"\"),INDEX(INDIRECT(\"'\"&$A$2&\"'!$A:$I\"),MATCH($B20,INDIRECT(\"'\"&$A$2&\"'!$A:$A\"),0),MATCH(\"SIGNATURE\",'1'!Titre,0))))","v":""}]
[12,null,{"$f":"IF($B21=\"\",\"\",INDEX(INDIRECT(\"'\"&$A$2&\"'!$A:$I\"),MATCH($B21,INDIRECT(\"'\"&$A$2&\"'!$A:$A\"),0),MATCH(C$9,'1'!Titre,0)))","v":""},{"$f":"IF($B21=\"\",\"\",INDEX(INDIRECT(\"'\"&$A$2&\"'!$A:$I\"),MATCH($B21,INDIRECT(\"'\"&$A$2&\"'!$A:$A\"),0),MATCH(D$9,'1'!Titre,0)))","v":""},{"$f":"IF($B21=\"\",\"\",INDEX(INDIRECT(\"'\"&$A$2&\"'!$A:$I\"),MATCH($B21,INDIRECT(\"'\"&$A$2&\"'!$A:$A\"),0),MATCH(E$9,'1'!Titre,0)))","v":""},{"$f":"IF($B21=\"\",\"\",INDEX(INDIRECT(\"'\"&$A$2&\"'!$A:$I\"),MATCH($B21,INDIRECT(\"'\"&$A$2&\"'!$A:$A\"),0),MATCH(F$9,'1'!Titre,0)))","v":""},{"$f":"IF($B21=\"\",\"\",INDEX(INDIRECT(\"'\"&$A$2&\"'!$A:$I\"),MATCH($B21,INDIRECT(\"'\"&$A$2&\"'!$A:$A\"),0),MATCH(G$9,'1'!Titre,0)))","v":""},{"$f":"IF($B21=\"\",\"\",INDEX(INDIRECT(\"'\"&$A$2&\"'!$A:$I\"),MATCH($B21,INDIRECT(\"'\"&$A$2&\"'!$A:$A\"),0),MATCH(H$9,'1'!Titre,0)))","v":""},{"$f":"IF($B21=\"\",\"\",IF(INDEX(INDIRECT(\"'\"&$A$2&\"'!$A:$I\"),MATCH($B21,INDIRECT(\"'\"&$A$2&\"'!$A:$A\"),0),MATCH(\"SIGNATURE\",'1'!Titre,0))=\"\",IF(COUNTIF($B$10:$B111,$B21)>1,COUNTIF($B$10:$B111,$B21),\"\"),INDEX(INDIRECT(\"'\"&$A$2&\"'!$A:$I\"),MATCH($B21,INDIRECT(\"'\"&$A$2&\"'!$A:$A\"),0),MATCH(\"SIGNATURE\",'1'!Titre,0))))","v":""}]
[13,null,{"$f":"IF($B22=\"\",\"\",INDEX(INDIRECT(\"'\"&$A$2&\"'!$A:$I\"),MATCH($B22,INDIRECT(\"'\"&$A$2&\"'!$A:$A\"),0),MATCH(C$9,'1'!Titre,0)))","v":""},{"$f":"IF($B22=\"\",\"\",INDEX(INDIRECT(\"'\"&$A$2&\"'!$A:$I\"),MATCH($B22,INDIRECT(\"'\"&$A$2&\"'!$A:$A\"),0),MATCH(D$9,'1'!Titre,0)))","v":""},{"$f":"IF($B22=\"\",\"\",INDEX(INDIRECT(\"'\"&$A$2&\"'!$A:$I\"),MATCH($B22,INDIRECT(\"'\"&$A$2&\"'!$A:$A\"),0),MATCH(E$9,'1'!Titre,0)))","v":""},{"$f":"IF($B22=\"\",\"\",INDEX(INDIRECT(\"'\"&$A$2&\"'!$A:$I\"),MATCH($B22,INDIRECT(\"'\"&$A$2&\"'!$A:$A\"),0),MATCH(F$9,'1'!Titre,0)))","v":""},{"$f":"IF($B22=\"\",\"\",INDEX(INDIRECT(\"'\"&$A$2&\"'!$A:$I\"),MATCH($B22,INDIRECT(\"'\"&$A$2&\"'!$A:$A\"),0),MATCH(G$9,'1'!Titre,0)))","v":""},{"$f":"IF($B22=\"\",\"\",INDEX(INDIRECT(\"'\"&$A$2&\"'!$A:$I\"),MATCH($B22,INDIRECT(\"'\"&$A$2&\"'!$A:$A\"),0),MATCH(H$9,'1'!Titre,0)))","v":""},{"$f":"IF($B22=\"\",\"\",IF(INDEX(INDIRECT(\"'\"&$A$2&\"'!$A:$I\"),MATCH($B22,INDIRECT(\"'\"&$A$2&\"'!$A:$A\"),0),MATCH(\"SIGNATURE\",'1'!Titre,0))=\"\",IF(COUNTIF($B$10:$B112,$B22)>1,COUNTIF($B$10:$B112,$B22),\"\"),INDEX(INDIRECT(\"'\"&$A$2&\"'!$A:$I\"),MATCH($B22,INDIRECT(\"'\"&$A$2&\"'!$A:$A\"),0),MATCH(\"SIGNATURE\",'1'!Titre,0))))","v":""}]
[14,null,{"$f":"IF($B23=\"\",\"\",INDEX(INDIRECT(\"'\"&$A$2&\"'!$A:$I\"),MATCH($B23,INDIRECT(\"'\"&$A$2&\"'!$A:$A\"),0),MATCH(C$9,'1'!Titre,0)))","v":""},{"$f":"IF($B23=\"\",\"\",INDEX(INDIRECT(\"'\"&$A$2&\"'!$A:$I\"),MATCH($B23,INDIRECT(\"'\"&$A$2&\"'!$A:$A\"),0),MATCH(D$9,'1'!Titre,0)))","v":""},{"$f":"IF($B23=\"\",\"\",INDEX(INDIRECT(\"'\"&$A$2&\"'!$A:$I\"),MATCH($B23,INDIRECT(\"'\"&$A$2&\"'!$A:$A\"),0),MATCH(E$9,'1'!Titre,0)))","v":""},{"$f":"IF($B23=\"\",\"\",INDEX(INDIRECT(\"'\"&$A$2&\"'!$A:$I\"),MATCH($B23,INDIRECT(\"'\"&$A$2&\"'!$A:$A\"),0),MATCH(F$9,'1'!Titre,0)))","v":""},{"$f":"IF($B23=\"\",\"\",INDEX(INDIRECT(\"'\"&$A$2&\"'!$A:$I\"),MATCH($B23,INDIRECT(\"'\"&$A$2&\"'!$A:$A\"),0),MATCH(G$9,'1'!Titre,0)))","v":""},{"$f":"IF($B23=\"\",\"\",INDEX(INDIRECT(\"'\"&$A$2&\"'!$A:$I\"),MATCH($B23,INDIRECT(\"'\"&$A$2&\"'!$A:$A\"),0),MATCH(H$9,'1'!Titre,0)))","v":""},{"$f":"IF($B23=\"\",\"\",IF(INDEX(INDIRECT(\"'\"&$A$2&\"'!$A:$I\"),MATCH($B23,INDIRECT(\"'\"&$A$2&\"'!$A:$A\"),0),MATCH(\"SIGNATURE\",'1'!Titre,0))=\"\",IF(COUNTIF($B$10:$B113,$B23)>1,COUNTIF($B$10:$B113,$B23),\"\"),INDEX(INDIRECT(\"'\"&$A$2&\"'!$A:$I\"),MATCH($B23,INDIRECT(\"'\"&$A$2&\"'!$A:$A\"),0),MATCH(\"SIGNATURE\",'1'!Titre,0))))","v":""}]
[15,null,{"$f":"IF($B24=\"\",\"\",INDEX(INDIRECT(\"'\"&$A$2&\"'!$A:$I\"),MATCH($B24,INDIRECT(\"'\"&$A$2&\"'!$A:$A\"),0),MATCH(C$9,'1'!Titre,0)))","v":""},{"$f":"IF($B24=\"\",\"\",INDEX(INDIRECT(\"'\"&$A$2&\"'!$A:$I\"),MATCH($B24,INDIRECT(\"'\"&$A$2&\"'!$A:$A\"),0),MATCH(D$9,'1'!Titre,0)))","v":""},{"$f":"IF($B24=\"\",\"\",INDEX(INDIRECT(\"'\"&$A$2&\"'!$A:$I\"),MATCH($B24,INDIRECT(\"'\"&$A$2&\"'!$A:$A\"),0),MATCH(E$9,'1'!Titre,0)))","v":""},{"$f":"IF($B24=\"\",\"\",INDEX(INDIRECT(\"'\"&$A$2&\"'!$A:$I\"),MATCH($B24,INDIRECT(\"'\"&$A$2&\"'!$A:$A\"),0),MATCH(F$9,'1'!Titre,0)))","v":""},{"$f":"IF($B24=\"\",\"\",INDEX(INDIRECT(\"'\"&$A$2&\"'!$A:$I\"),MATCH($B24,INDIRECT(\"'\"&$A$2&\"'!$A:$A\"),0),MATCH(G$9,'1'!Titre,0)))","v":""},{"$f":"IF($B24=\"\",\"\",INDEX(INDIRECT(\"'\"&$A$2&\"'!$A:$I\"),MATCH($B24,INDIRECT(\"'\"&$A$2&\"'!$A:$A\"),0),MATCH(H$9,'1'!Titre,0)))","v":""},{"$f":"IF($B24=\"\",\"\",IF(INDEX(INDIRECT(\"'\"&$A$2&\"'!$A:$I\"),MATCH($B24,INDIRECT(\"'\"&$A$2&\"'!$A:$A\"),0),MATCH(\"SIGNATURE\",'1'!Titre,0))=\"\",IF(COUNTIF($B$10:$B114,$B24)>1,COUNTIF($B$10:$B114,$B24),\"\"),INDEX(INDIRECT(\"'\"&$A$2&\"'!$A:$I\"),MATCH($B24,INDIRECT(\"'\"&$A$2&\"'!$A:$A\"),0),MATCH(\"SIGNATURE\",'1'!Titre,0))))","v":""}]
[16,null,{"$f":"IF($B25=\"\",\"\",INDEX(INDIRECT(\"'\"&$A$2&\"'!$A:$I\"),MATCH($B25,INDIRECT(\"'\"&$A$2&\"'!$A:$A\"),0),MATCH(C$9,'1'!Titre,0)))","v":""},{"$f":"IF($B25=\"\",\"\",INDEX(INDIRECT(\"'\"&$A$2&\"'!$A:$I\"),MATCH($B25,INDIRECT(\"'\"&$A$2&\"'!$A:$A\"),0),MATCH(D$9,'1'!Titre,0)))","v":""},{"$f":"IF($B25=\"\",\"\",INDEX(INDIRECT(\"'\"&$A$2&\"'!$A:$I\"),MATCH($B25,INDIRECT(\"'\"&$A$2&\"'!$A:$A\"),0),MATCH(E$9,'1'!Titre,0)))","v":""},{"$f":"IF($B25=\"\",\"\",INDEX(INDIRECT(\"'\"&$A$2&\"'!$A:$I\"),MATCH($B25,INDIRECT(\"'\"&$A$2&\"'!$A:$A\"),0),MATCH(F$9,'1'!Titre,0)))","v":""},{"$f":"IF($B25=\"\",\"\",INDEX(INDIRECT(\"'\"&$A$2&\"'!$A:$I\"),MATCH($B25,INDIRECT(\"'\"&$A$2&\"'!$A:$A\"),0),MATCH(G$9,'1'!Titre,0)))","v":""},{"$f":"IF($B25=\"\",\"\",INDEX(INDIRECT(\"'\"&$A$2&\"'!$A:$I\"),MATCH($B25,INDIRECT(\"'\"&$A$2&\"'!$A:$A\"),0),MATCH(H$9,'1'!Titre,0)))","v":""},{"$f":"IF($B25=\"\",\"\",IF(INDEX(INDIRECT(\"'\"&$A$2&\"'!$A:$I\"),MATCH($B25,INDIRECT(\"'\"&$A$2&\"'!$A:$A\"),0),MATCH(\"SIGNATURE\",'1'!Titre,0))=\"\",IF(COUNTIF($B$10:$B115,$B25)>1,COUNTIF($B$10:$B115,$B25),\"\"),INDEX(INDIRECT(\"'\"&$A$2&\"'!$A:$I\"),MATCH($B25,INDIRECT(\"'\"&$A$2&\"'!$A:$A\"),0),MATCH(\"SIGNATURE\",'1'!Titre,0))))","v":""}]
[17,null,{"$f":"IF($B26=\"\",\"\",INDEX(INDIRECT(\"'\"&$A$2&\"'!$A:$I\"),MATCH($B26,INDIRECT(\"'\"&$A$2&\"'!$A:$A\"),0),MATCH(C$9,'1'!Titre,0)))","v":""},{"$f":"IF($B26=\"\",\"\",INDEX(INDIRECT(\"'\"&$A$2&\"'!$A:$I\"),MATCH($B26,INDIRECT(\"'\"&$A$2&\"'!$A:$A\"),0),MATCH(D$9,'1'!Titre,0)))","v":""},{"$f":"IF($B26=\"\",\"\",INDEX(INDIRECT(\"'\"&$A$2&\"'!$A:$I\"),MATCH($B26,INDIRECT(\"'\"&$A$2&\"'!$A:$A\"),0),MATCH(E$9,'1'!Titre,0)))","v":""},{"$f":"IF($B26=\"\",\"\",INDEX(INDIRECT(\"'\"&$A$2&\"'!$A:$I\"),MATCH($B26,INDIRECT(\"'\"&$A$2&\"'!$A:$A\"),0),MATCH(F$9,'1'!Titre,0)))","v":""},{"$f":"IF($B26=\"\",\"\",INDEX(INDIRECT(\"'\"&$A$2&\"'!$A:$I\"),MATCH($B26,INDIRECT(\"'\"&$A$2&\"'!$A:$A\"),0),MATCH(G$9,'1'!Titre,0)))","v":""},{"$f":"IF($B26=\"\",\"\",INDEX(INDIRECT(\"'\"&$A$2&\"'!$A:$I\"),MATCH($B26,INDIRECT(\"'\"&$A$2&\"'!$A:$A\"),0),MATCH(H$9,'1'!Titre,0)))","v":""},{"$f":"IF($B26=\"\",\"\",IF(INDEX(INDIRECT(\"'\"&$A$2&\"'!$A:$I\"),MATCH($B26,INDIRECT(\"'\"&$A$2&\"'!$A:$A\"),0),MATCH(\"SIGNATURE\",'1'!Titre,0))=\"\",IF(COUNTIF($B$10:$B116,$B26)>1,COUNTIF($B$10:$B116,$B26),\"\"),INDEX(INDIRECT(\"'\"&$A$2&\"'!$A:$I\"),MATCH($B26,INDIRECT(\"'\"&$A$2&\"'!$A:$A\"),0),MATCH(\"SIGNATURE\",'1'!Titre,0))))","v":""}]
[18,null,{"$f":"IF($B27=\"\",\"\",INDEX(INDIRECT(\"'\"&$A$2&\"'!$A:$I\"),MATCH($B27,INDIRECT(\"'\"&$A$2&\"'!$A:$A\"),0),MATCH(C$9,'1'!Titre,0)))","v":""},{"$f":"IF($B27=\"\",\"\",INDEX(INDIRECT(\"'\"&$A$2&\"'!$A:$I\"),MATCH($B27,INDIRECT(\"'\"&$A$2&\"'!$A:$A\"),0),MATCH(D$9,'1'!Titre,0)))","v":""},{"$f":"IF($B27=\"\",\"\",INDEX(INDIRECT(\"'\"&$A$2&\"'!$A:$I\"),MATCH($B27,INDIRECT(\"'\"&$A$2&\"'!$A:$A\"),0),MATCH(E$9,'1'!Titre,0)))","v":""},{"$f":"IF($B27=\"\",\"\",INDEX(INDIRECT(\"'\"&$A$2&\"'!$A:$I\"),MATCH($B27,INDIRECT(\"'\"&$A$2&\"'!$A:$A\"),0),MATCH(F$9,'1'!Titre,0)))","v":""},{"$f":"IF($B27=\"\",\"\",INDEX(INDIRECT(\"'\"&$A$2&\"'!$A:$I\"),MATCH($B27,INDIRECT(\"'\"&$A$2&\"'!$A:$A\"),0),MATCH(G$9,'1'!Titre,0)))","v":""},{"$f":"IF($B27=\"\",\"\",INDEX(INDIRECT(\"'\"&$A$2&\"'!$A:$I\"),MATCH($B27,INDIRECT(\"'\"&$A$2&\"'!$A:$A\"),0),MATCH(H$9,'1'!Titre,0)))","v":""},{"$f":"IF($B27=\"\",\"\",IF(INDEX(INDIRECT(\"'\"&$A$2&\"'!$A:$I\"),MATCH($B27,INDIRECT(\"'\"&$A$2&\"'!$A:$A\"),0),MATCH(\"SIGNATURE\",'1'!Titre,0))=\"\",IF(COUNTIF($B$10:$B117,$B27)>1,COUNTIF($B$10:$B117,$B27),\"\"),INDEX(INDIRECT(\"'\"&$A$2&\"'!$A:$I\"),MATCH($B27,INDIRECT(\"'\"&$A$2&\"'!$A:$A\"),0),MATCH(\"SIGNATURE\",'1'!Titre,0))))","v":""}]
[19,null,{"$f":"IF($B28=\"\",\"\",INDEX(INDIRECT(\"'\"&$A$2&\"'!$A:$I\"),MATCH($B28,INDIRECT(\"'\"&$A$2&\"'!$A:$A\"),0),MATCH(C$9,'1'!Titre,0)))","v":""},{"$f":"IF($B28=\"\",\"\",INDEX(INDIRECT(\"'\"&$A$2&\"'!$A:$I\"),MATCH($B28,INDIRECT(\"'\"&$A$2&\"'!$A:$A\"),0),MATCH(D$9,'1'!Titre,0)))","v":""},{"$f":"IF($B28=\"\",\"\",INDEX(INDIRECT(\"'\"&$A$2&\"'!$A:$I\"),MATCH($B28,INDIRECT(\"'\"&$A$2&\"'!$A:$A\"),0),MATCH(E$9,'1'!Titre,0)))","v":""},{"$f":"IF($B28=\"\",\"\",INDEX(INDIRECT(\"'\"&$A$2&\"'!$A:$I\"),MATCH($B28,INDIRECT(\"'\"&$A$2&\"'!$A:$A\"),0),MATCH(F$9,'1'!Titre,0)))","v":""},{"$f":"IF($B28=\"\",\"\",INDEX(INDIRECT(\"'\"&$A$2&\"'!$A:$I\"),MATCH($B28,INDIRECT(\"'\"&$A$2&\"'!$A:$A\"),0),MATCH(G$9,'1'!Titre,0)))","v":""},{"$f":"IF($B28=\"\",\"\",INDEX(INDIRECT(\"'\"&$A$2&\"'!$A:$I\"),MATCH($B28,INDIRECT(\"'\"&$A$2&\"'!$A:$A\"),0),MATCH(H$9,'1'!Titre,0)))","v":""},{"$f":"IF($B28=\"\",\"\",IF(INDEX(INDIRECT(\"'\"&$A$2&\"'!$A:$I\"),MATCH($B28,INDIRECT(\"'\"&$A$2&\"'!$A:$A\"),0),MATCH(\"SIGNATURE\",'1'!Titre,0))=\"\",IF(COUNTIF($B$10:$B118,$B28)>1,COUNTIF($B$10:$B118,$B28),\"\"),INDEX(INDIRECT(\"'\"&$A$2&\"'!$A:$I\"),MATCH($B28,INDIRECT(\"'\"&$A$2&\"'!$A:$A\"),0),MATCH(\"SIGNATURE\",'1'!Titre,0))))","v":""}]
[20,null,{"$f":"IF($B29=\"\",\"\",INDEX(INDIRECT(\"'\"&$A$2&\"'!$A:$I\"),MATCH($B29,INDIRECT(\"'\"&$A$2&\"'!$A:$A\"),0),MATCH(C$9,'1'!Titre,0)))","v":""},{"$f":"IF($B29=\"\",\"\",INDEX(INDIRECT(\"'\"&$A$2&\"'!$A:$I\"),MATCH($B29,INDIRECT(\"'\"&$A$2&\"'!$A:$A\"),0),MATCH(D$9,'1'!Titre,0)))","v":""},{"$f":"IF($B29=\"\",\"\",INDEX(INDIRECT(\"'\"&$A$2&\"'!$A:$I\"),MATCH($B29,INDIRECT(\"'\"&$A$2&\"'!$A:$A\"),0),MATCH(E$9,'1'!Titre,0)))","v":""},{"$f":"IF($B29=\"\",\"\",INDEX(INDIRECT(\"'\"&$A$2&\"'!$A:$I\"),MATCH($B29,INDIRECT(\"'\"&$A$2&\"'!$A:$A\"),0),MATCH(F$9,'1'!Titre,0)))","v":""},{"$f":"IF($B29=\"\",\"\",INDEX(INDIRECT(\"'\"&$A$2&\"'!$A:$I\"),MATCH($B29,INDIRECT(\"'\"&$A$2&\"'!$A:$A\"),0),MATCH(G$9,'1'!Titre,0)))","v":""},{"$f":"IF($B29=\"\",\"\",INDEX(INDIRECT(\"'\"&$A$2&\"'!$A:$I\"),MATCH($B29,INDIRECT(\"'\"&$A$2&\"'!$A:$A\"),0),MATCH(H$9,'1'!Titre,0)))","v":""},{"$f":"IF($B29=\"\",\"\",IF(INDEX(INDIRECT(\"'\"&$A$2&\"'!$A:$I\"),MATCH($B29,INDIRECT(\"'\"&$A$2&\"'!$A:$A\"),0),MATCH(\"SIGNATURE\",'1'!Titre,0))=\"\",IF(COUNTIF($B$10:$B119,$B29)>1,COUNTIF($B$10:$B119,$B29),\"\"),INDEX(INDIRECT(\"'\"&$A$2&\"'!$A:$I\"),MATCH($B29,INDIRECT(\"'\"&$A$2&\"'!$A:$A\"),0),MATCH(\"SIGNATURE\",'1'!Titre,0))))","v":""}]
[21,null,{"$f":"IF($B30=\"\",\"\",INDEX(INDIRECT(\"'\"&$A$2&\"'!$A:$I\"),MATCH($B30,INDIRECT(\"'\"&$A$2&\"'!$A:$A\"),0),MATCH(C$9,'1'!Titre,0)))","v":""},{"$f":"IF($B30=\"\",\"\",INDEX(INDIRECT(\"'\"&$A$2&\"'!$A:$I\"),MATCH($B30,INDIRECT(\"'\"&$A$2&\"'!$A:$A\"),0),MATCH(D$9,'1'!Titre,0)))","v":""},{"$f":"IF($B30=\"\",\"\",INDEX(INDIRECT(\"'\"&$A$2&\"'!$A:$I\"),MATCH($B30,INDIRECT(\"'\"&$A$2&\"'!$A:$A\"),0),MATCH(E$9,'1'!Titre,0)))","v":""},{"$f":"IF($B30=\"\",\"\",INDEX(INDIRECT(\"'\"&$A$2&\"'!$A:$I\"),MATCH($B30,INDIRECT(\"'\"&$A$2&\"'!$A:$A\"),0),MATCH(F$9,'1'!Titre,0)))","v":""},{"$f":"IF($B30=\"\",\"\",INDEX(INDIRECT(\"'\"&$A$2&\"'!$A:$I\"),MATCH($B30,INDIRECT(\"'\"&$A$2&\"'!$A:$A\"),0),MATCH(G$9,'1'!Titre,0)))","v":""},{"$f":"IF($B30=\"\",\"\",INDEX(INDIRECT(\"'\"&$A$2&\"'!$A:$I\"),MATCH($B30,INDIRECT(\"'\"&$A$2&\"'!$A:$A\"),0),MATCH(H$9,'1'!Titre,0)))","v":""},{"$f":"IF($B30=\"\",\"\",IF(INDEX(INDIRECT(\"'\"&$A$2&\"'!$A:$I\"),MATCH($B30,INDIRECT(\"'\"&$A$2&\"'!$A:$A\"),0),MATCH(\"SIGNATURE\",'1'!Titre,0))=\"\",IF(COUNTIF($B$10:$B120,$B30)>1,COUNTIF($B$10:$B120,$B30),\"\"),INDEX(INDIRECT(\"'\"&$A$2&\"'!$A:$I\"),MATCH($B30,INDIRECT(\"'\"&$A$2&\"'!$A:$A\"),0),MATCH(\"SIGNATURE\",'1'!Titre,0))))","v":""}]
[22,null,{"$f":"IF($B31=\"\",\"\",INDEX(INDIRECT(\"'\"&$A$2&\"'!$A:$I\"),MATCH($B31,INDIRECT(\"'\"&$A$2&\"'!$A:$A\"),0),MATCH(C$9,'1'!Titre,0)))","v":""},{"$f":"IF($B31=\"\",\"\",INDEX(INDIRECT(\"'\"&$A$2&\"'!$A:$I\"),MATCH($B31,INDIRECT(\"'\"&$A$2&\"'!$A:$A\"),0),MATCH(D$9,'1'!Titre,0)))","v":""},{"$f":"IF($B31=\"\",\"\",INDEX(INDIRECT(\"'\"&$A$2&\"'!$A:$I\"),MATCH($B31,INDIRECT(\"'\"&$A$2&\"'!$A:$A\"),0),MATCH(E$9,'1'!Titre,0)))","v":""},{"$f":"IF($B31=\"\",\"\",INDEX(INDIRECT(\"'\"&$A$2&\"'!$A:$I\"),MATCH($B31,INDIRECT(\"'\"&$A$2&\"'!$A:$A\"),0),MATCH(F$9,'1'!Titre,0)))","v":""},{"$f":"IF($B31=\"\",\"\",INDEX(INDIRECT(\"'\"&$A$2&\"'!$A:$I\"),MATCH($B31,INDIRECT(\"'\"&$A$2&\"'!$A:$A\"),0),MATCH(G$9,'1'!Titre,0)))","v":""},{"$f":"IF($B31=\"\",\"\",INDEX(INDIRECT(\"'\"&$A$2&\"'!$A:$I\"),MATCH($B31,INDIRECT(\"'\"&$A$2&\"'!$A:$A\"),0),MATCH(H$9,'1'!Titre,0)))","v":""},{"$f":"IF($B31=\"\",\"\",IF(INDEX(INDIRECT(\"'\"&$A$2&\"'!$A:$I\"),MATCH($B31,INDIRECT(\"'\"&$A$2&\"'!$A:$A\"),0),MATCH(\"SIGNATURE\",'1'!Titre,0))=\"\",IF(COUNTIF($B$10:$B121,$B31)>1,COUNTIF($B$10:$B121,$B31),\"\"),INDEX(INDIRECT(\"'\"&$A$2&\"'!$A:$I\"),MATCH($B31,INDIRECT(\"'\"&$A$2&\"'!$A:$A\"),0),MATCH(\"SIGNATURE\",'1'!Titre,0))))","v":""}]
[23,null,{"$f":"IF($B32=\"\",\"\",INDEX(INDIRECT(\"'\"&$A$2&\"'!$A:$I\"),MATCH($B32,INDIRECT(\"'\"&$A$2&\"'!$A:$A\"),0),MATCH(C$9,'1'!Titre,0)))","v":""},{"$f":"IF($B32=\"\",\"\",INDEX(INDIRECT(\"'\"&$A$2&\"'!$A:$I\"),MATCH($B32,INDIRECT(\"'\"&$A$2&\"'!$A:$A\"),0),MATCH(D$9,'1'!Titre,0)))","v":""},{"$f":"IF($B32=\"\",\"\",INDEX(INDIRECT(\"'\"&$A$2&\"'!$A:$I\"),MATCH($B32,INDIRECT(\"'\"&$A$2&\"'!$A:$A\"),0),MATCH(E$9,'1'!Titre,0)))","v":""},{"$f":"IF($B32=\"\",\"\",INDEX(INDIRECT(\"'\"&$A$2&\"'!$A:$I\"),MATCH($B32,INDIRECT(\"'\"&$A$2&\"'!$A:$A\"),0),MATCH(F$9,'1'!Titre,0)))","v":""},{"$f":"IF($B32=\"\",\"\",INDEX(INDIRECT(\"'\"&$A$2&\"'!$A:$I\"),MATCH($B32,INDIRECT(\"'\"&$A$2&\"'!$A:$A\"),0),MATCH(G$9,'1'!Titre,0)))","v":""},{"$f":"IF($B32=\"\",\"\",INDEX(INDIRECT(\"'\"&$A$2&\"'!$A:$I\"),MATCH($B32,INDIRECT(\"'\"&$A$2&\"'!$A:$A\"),0),MATCH(H$9,'1'!Titre,0)))","v":""},{"$f":"IF($B32=\"\",\"\",IF(INDEX(INDIRECT(\"'\"&$A$2&\"'!$A:$I\"),MATCH($B32,INDIRECT(\"'\"&$A$2&\"'!$A:$A\"),0),MATCH(\"SIGNATURE\",'1'!Titre,0))=\"\",IF(COUNTIF($B$10:$B122,$B32)>1,COUNTIF($B$10:$B122,$B32),\"\"),INDEX(INDIRECT(\"'\"&$A$2&\"'!$A:$I\"),MATCH($B32,INDIRECT(\"'\"&$A$2&\"'!$A:$A\"),0),MATCH(\"SIGNATURE\",'1'!Titre,0))))","v":""}]
[24,null,{"$f":"IF($B33=\"\",\"\",INDEX(INDIRECT(\"'\"&$A$2&\"'!$A:$I\"),MATCH($B33,INDIRECT(\"'\"&$A$2&\"'!$A:$A\"),0),MATCH(C$9,'1'!Titre,0)))","v":""},{"$f":"IF($B33=\"\",\"\",INDEX(INDIRECT(\"'\"&$A$2&\"'!$A:$I\"),MATCH($B33,INDIRECT(\"'\"&$A$2&\"'!$A:$A\"),0),MATCH(D$9,'1'!Titre,0)))","v":""},{"$f":"IF($B33=\"\",\"\",INDEX(INDIRECT(\"'\"&$A$2&\"'!$A:$I\"),MATCH($B33,INDIRECT(\"'\"&$A$2&\"'!$A:$A\"),0),MATCH(E$9,'1'!Titre,0)))","v":""},{"$f":"IF($B33=\"\",\"\",INDEX(INDIRECT(\"'\"&$A$2&\"'!$A:$I\"),MATCH($B33,INDIRECT(\"'\"&$A$2&\"'!$A:$A\"),0),MATCH(F$9,'1'!Titre,0)))","v":""},{"$f":"IF($B33=\"\",\"\",INDEX(INDIRECT(\"'\"&$A$2&\"'!$A:$I\"),MATCH($B33,INDIRECT(\"'\"&$A$2&\"'!$A:$A\"),0),MATCH(G$9,'1'!Titre,0)))","v":""},{"$f":"IF($B33=\"\",\"\",INDEX(INDIRECT(\"'\"&$A$2&\"'!$A:$I\"),MATCH($B33,INDIRECT(\"'\"&$A$2&\"'!$A:$A\"),0),MATCH(H$9,'1'!Titre,0)))","v":""},{"$f":"IF($B33=\"\",\"\",IF(INDEX(INDIRECT(\"'\"&$A$2&\"'!$A:$I\"),MATCH($B33,INDIRECT(\"'\"&$A$2&\"'!$A:$A\"),0),MATCH(\"SIGNATURE\",'1'!Titre,0))=\"\",IF(COUNTIF($B$10:$B123,$B33)>1,COUNTIF($B$10:$B123,$B33),\"\"),INDEX(INDIRECT(\"'\"&$A$2&\"'!$A:$I\"),MATCH($B33,INDIRECT(\"'\"&$A$2&\"'!$A:$A\"),0),MATCH(\"SIGNATURE\",'1'!Titre,0))))","v":""}]
[25,null,{"$f":"IF($B34=\"\",\"\",INDEX(INDIRECT(\"'\"&$A$2&\"'!$A:$I\"),MATCH($B34,INDIRECT(\"'\"&$A$2&\"'!$A:$A\"),0),MATCH(C$9,'1'!Titre,0)))","v":""},{"$f":"IF($B34=\"\",\"\",INDEX(INDIRECT(\"'\"&$A$2&\"'!$A:$I\"),MATCH($B34,INDIRECT(\"'\"&$A$2&\"'!$A:$A\"),0),MATCH(D$9,'1'!Titre,0)))","v":""},{"$f":"IF($B34=\"\",\"\",INDEX(INDIRECT(\"'\"&$A$2&\"'!$A:$I\"),MATCH($B34,INDIRECT(\"'\"&$A$2&\"'!$A:$A\"),0),MATCH(E$9,'1'!Titre,0)))","v":""},{"$f":"IF($B34=\"\",\"\",INDEX(INDIRECT(\"'\"&$A$2&\"'!$A:$I\"),MATCH($B34,INDIRECT(\"'\"&$A$2&\"'!$A:$A\"),0),MATCH(F$9,'1'!Titre,0)))","v":""},{"$f":"IF($B34=\"\",\"\",INDEX(INDIRECT(\"'\"&$A$2&\"'!$A:$I\"),MATCH($B34,INDIRECT(\"'\"&$A$2&\"'!$A:$A\"),0),MATCH(G$9,'1'!Titre,0)))","v":""},{"$f":"IF($B34=\"\",\"\",INDEX(INDIRECT(\"'\"&$A$2&\"'!$A:$I\"),MATCH($B34,INDIRECT(\"'\"&$A$2&\"'!$A:$A\"),0),MATCH(H$9,'1'!Titre,0)))","v":""},{"$f":"IF($B34=\"\",\"\",IF(INDEX(INDIRECT(\"'\"&$A$2&\"'!$A:$I\"),MATCH($B34,INDIRECT(\"'\"&$A$2&\"'!$A:$A\"),0),MATCH(\"SIGNATURE\",'1'!Titre,0))=\"\",IF(COUNTIF($B$10:$B124,$B34)>1,COUNTIF($B$10:$B124,$B34),\"\"),INDEX(INDIRECT(\"'\"&$A$2&\"'!$A:$I\"),MATCH($B34,INDIRECT(\"'\"&$A$2&\"'!$A:$A\"),0),MATCH(\"SIGNATURE\",'1'!Titre,0))))","v":""}]
[26,null,{"$f":"IF($B35=\"\",\"\",INDEX(INDIRECT(\"'\"&$A$2&\"'!$A:$I\"),MATCH($B35,INDIRECT(\"'\"&$A$2&\"'!$A:$A\"),0),MATCH(C$9,'1'!Titre,0)))","v":""},{"$f":"IF($B35=\"\",\"\",INDEX(INDIRECT(\"'\"&$A$2&\"'!$A:$I\"),MATCH($B35,INDIRECT(\"'\"&$A$2&\"'!$A:$A\"),0),MATCH(D$9,'1'!Titre,0)))","v":""},{"$f":"IF($B35=\"\",\"\",INDEX(INDIRECT(\"'\"&$A$2&\"'!$A:$I\"),MATCH($B35,INDIRECT(\"'\"&$A$2&\"'!$A:$A\"),0),MATCH(E$9,'1'!Titre,0)))","v":""},{"$f":"IF($B35=\"\",\"\",INDEX(INDIRECT(\"'\"&$A$2&\"'!$A:$I\"),MATCH($B35,INDIRECT(\"'\"&$A$2&\"'!$A:$A\"),0),MATCH(F$9,'1'!Titre,0)))","v":""},{"$f":"IF($B35=\"\",\"\",INDEX(INDIRECT(\"'\"&$A$2&\"'!$A:$I\"),MATCH($B35,INDIRECT(\"'\"&$A$2&\"'!$A:$A\"),0),MATCH(G$9,'1'!Titre,0)))","v":""},{"$f":"IF($B35=\"\",\"\",INDEX(INDIRECT(\"'\"&$A$2&\"'!$A:$I\"),MATCH($B35,INDIRECT(\"'\"&$A$2&\"'!$A:$A\"),0),MATCH(H$9,'1'!Titre,0)))","v":""},{"$f":"IF($B35=\"\",\"\",IF(INDEX(INDIRECT(\"'\"&$A$2&\"'!$A:$I\"),MATCH($B35,INDIRECT(\"'\"&$A$2&\"'!$A:$A\"),0),MATCH(\"SIGNATURE\",'1'!Titre,0))=\"\",IF(COUNTIF($B$10:$B125,$B35)>1,COUNTIF($B$10:$B125,$B35),\"\"),INDEX(INDIRECT(\"'\"&$A$2&\"'!$A:$I\"),MATCH($B35,INDIRECT(\"'\"&$A$2&\"'!$A:$A\"),0),MATCH(\"SIGNATURE\",'1'!Titre,0))))","v":""}]
[27,null,{"$f":"IF($B36=\"\",\"\",INDEX(INDIRECT(\"'\"&$A$2&\"'!$A:$I\"),MATCH($B36,INDIRECT(\"'\"&$A$2&\"'!$A:$A\"),0),MATCH(C$9,'1'!Titre,0)))","v":""},{"$f":"IF($B36=\"\",\"\",INDEX(INDIRECT(\"'\"&$A$2&\"'!$A:$I\"),MATCH($B36,INDIRECT(\"'\"&$A$2&\"'!$A:$A\"),0),MATCH(D$9,'1'!Titre,0)))","v":""},{"$f":"IF($B36=\"\",\"\",INDEX(INDIRECT(\"'\"&$A$2&\"'!$A:$I\"),MATCH($B36,INDIRECT(\"'\"&$A$2&\"'!$A:$A\"),0),MATCH(E$9,'1'!Titre,0)))","v":""},{"$f":"IF($B36=\"\",\"\",INDEX(INDIRECT(\"'\"&$A$2&\"'!$A:$I\"),MATCH($B36,INDIRECT(\"'\"&$A$2&\"'!$A:$A\"),0),MATCH(F$9,'1'!Titre,0)))","v":""},{"$f":"IF($B36=\"\",\"\",INDEX(INDIRECT(\"'\"&$A$2&\"'!$A:$I\"),MATCH($B36,INDIRECT(\"'\"&$A$2&\"'!$A:$A\"),0),MATCH(G$9,'1'!Titre,0)))","v":""},{"$f":"IF($B36=\"\",\"\",INDEX(INDIRECT(\"'\"&$A$2&\"'!$A:$I\"),MATCH($B36,INDIRECT(\"'\"&$A$2&\"'!$A:$A\"),0),MATCH(H$9,'1'!Titre,0)))","v":""},{"$f":"IF($B36=\"\",\"\",IF(INDEX(INDIRECT(\"'\"&$A$2&\"'!$A:$I\"),MATCH($B36,INDIRECT(\"'\"&$A$2&\"'!$A:$A\"),0),MATCH(\"SIGNATURE\",'1'!Titre,0))=\"\",IF(COUNTIF($B$10:$B126,$B36)>1,COUNTIF($B$10:$B126,$B36),\"\"),INDEX(INDIRECT(\"'\"&$A$2&\"'!$A:$I\"),MATCH($B36,INDIRECT(\"'\"&$A$2&\"'!$A:$A\"),0),MATCH(\"SIGNATURE\",'1'!Titre,0))))","v":""}]
[28,null,{"$f":"IF($B37=\"\",\"\",INDEX(INDIRECT(\"'\"&$A$2&\"'!$A:$I\"),MATCH($B37,INDIRECT(\"'\"&$A$2&\"'!$A:$A\"),0),MATCH(C$9,'1'!Titre,0)))","v":""},{"$f":"IF($B37=\"\",\"\",INDEX(INDIRECT(\"'\"&$A$2&\"'!$A:$I\"),MATCH($B37,INDIRECT(\"'\"&$A$2&\"'!$A:$A\"),0),MATCH(D$9,'1'!Titre,0)))","v":""},{"$f":"IF($B37=\"\",\"\",INDEX(INDIRECT(\"'\"&$A$2&\"'!$A:$I\"),MATCH($B37,INDIRECT(\"'\"&$A$2&\"'!$A:$A\"),0),MATCH(E$9,'1'!Titre,0)))","v":""},{"$f":"IF($B37=\"\",\"\",INDEX(INDIRECT(\"'\"&$A$2&\"'!$A:$I\"),MATCH($B37,INDIRECT(\"'\"&$A$2&\"'!$A:$A\"),0),MATCH(F$9,'1'!Titre,0)))","v":""},{"$f":"IF($B37=\"\",\"\",INDEX(INDIRECT(\"'\"&$A$2&\"'!$A:$I\"),MATCH($B37,INDIRECT(\"'\"&$A$2&\"'!$A:$A\"),0),MATCH(G$9,'1'!Titre,0)))","v":""},{"$f":"IF($B37=\"\",\"\",INDEX(INDIRECT(\"'\"&$A$2&\"'!$A:$I\"),MATCH($B37,INDIRECT(\"'\"&$A$2&\"'!$A:$A\"),0),MATCH(H$9,'1'!Titre,0)))","v":""},{"$f":"IF($B37=\"\",\"\",IF(INDEX(INDIRECT(\"'\"&$A$2&\"'!$A:$I\"),MATCH($B37,INDIRECT(\"'\"&$A$2&\"'!$A:$A\"),0),MATCH(\"SIGNATURE\",'1'!Titre,0))=\"\",IF(COUNTIF($B$10:$B127,$B37)>1,COUNTIF($B$10:$B127,$B37),\"\"),INDEX(INDIRECT(\"'\"&$A$2&\"'!$A:$I\"),MATCH($B37,INDIRECT(\"'\"&$A$2&\"'!$A:$A\"),0),MATCH(\"SIGNATURE\",'1'!Titre,0))))","v":""}]
[29,null,{"$f":"IF($B38=\"\",\"\",INDEX(INDIRECT(\"'\"&$A$2&\"'!$A:$I\"),MATCH($B38,INDIRECT(\"'\"&$A$2&\"'!$A:$A\"),0),MATCH(C$9,'1'!Titre,0)))","v":""},{"$f":"IF($B38=\"\",\"\",INDEX(INDIRECT(\"'\"&$A$2&\"'!$A:$I\"),MATCH($B38,INDIRECT(\"'\"&$A$2&\"'!$A:$A\"),0),MATCH(D$9,'1'!Titre,0)))","v":""},{"$f":"IF($B38=\"\",\"\",INDEX(INDIRECT(\"'\"&$A$2&\"'!$A:$I\"),MATCH($B38,INDIRECT(\"'\"&$A$2&\"'!$A:$A\"),0),MATCH(E$9,'1'!Titre,0)))","v":""},{"$f":"IF($B38=\"\",\"\",INDEX(INDIRECT(\"'\"&$A$2&\"'!$A:$I\"),MATCH($B38,INDIRECT(\"'\"&$A$2&\"'!$A:$A\"),0),MATCH(F$9,'1'!Titre,0)))","v":""},{"$f":"IF($B38=\"\",\"\",INDEX(INDIRECT(\"'\"&$A$2&\"'!$A:$I\"),MATCH($B38,INDIRECT(\"'\"&$A$2&\"'!$A:$A\"),0),MATCH(G$9,'1'!Titre,0)))","v":""},{"$f":"IF($B38=\"\",\"\",INDEX(INDIRECT(\"'\"&$A$2&\"'!$A:$I\"),MATCH($B38,INDIRECT(\"'\"&$A$2&\"'!$A:$A\"),0),MATCH(H$9,'1'!Titre,0)))","v":""},{"$f":"IF($B38=\"\",\"\",IF(INDEX(INDIRECT(\"'\"&$A$2&\"'!$A:$I\"),MATCH($B38,INDIRECT(\"'\"&$A$2&\"'!$A:$A\"),0),MATCH(\"SIGNATURE\",'1'!Titre,0))=\"\",IF(COUNTIF($B$10:$B128,$B38)>1,COUNTIF($B$10:$B128,$B38),\"\"),INDEX(INDIRECT(\"'\"&$A$2&\"'!$A:$I\"),MATCH($B38,INDIRECT(\"'\"&$A$2&\"'!$A:$A\"),0),MATCH(\"SIGNATURE\",'1'!Titre,0))))","v":""}]
[30,null,{"$f":"IF($B39=\"\",\"\",INDEX(INDIRECT(\"'\"&$A$2&\"'!$A:$I\"),MATCH($B39,INDIRECT(\"'\"&$A$2&\"'!$A:$A\"),0),MATCH(C$9,'1'!Titre,0)))","v":""},{"$f":"IF($B39=\"\",\"\",INDEX(INDIRECT(\"'\"&$A$2&\"'!$A:$I\"),MATCH($B39,INDIRECT(\"'\"&$A$2&\"'!$A:$A\"),0),MATCH(D$9,'1'!Titre,0)))","v":""},{"$f":"IF($B39=\"\",\"\",INDEX(INDIRECT(\"'\"&$A$2&\"'!$A:$I\"),MATCH($B39,INDIRECT(\"'\"&$A$2&\"'!$A:$A\"),0),MATCH(E$9,'1'!Titre,0)))","v":""},{"$f":"IF($B39=\"\",\"\",INDEX(INDIRECT(\"'\"&$A$2&\"'!$A:$I\"),MATCH($B39,INDIRECT(\"'\"&$A$2&\"'!$A:$A\"),0),MATCH(F$9,'1'!Titre,0)))","v":""},{"$f":"IF($B39=\"\",\"\",INDEX(INDIRECT(\"'\"&$A$2&\"'!$A:$I\"),MATCH($B39,INDIRECT(\"'\"&$A$2&\"'!$A:$A\"),0),MATCH(G$9,'1'!Titre,0)))","v":""},{"$f":"IF($B39=\"\",\"\",INDEX(INDIRECT(\"'\"&$A$2&\"'!$A:$I\"),MATCH($B39,INDIRECT(\"'\"&$A$2&\"'!$A:$A\"),0),MATCH(H$9,'1'!Titre,0)))","v":""},{"$f":"IF($B39=\"\",\"\",IF(INDEX(INDIRECT(\"'\"&$A$2&\"'!$A:$I\"),MATCH($B39,INDIRECT(\"'\"&$A$2&\"'!$A:$A\"),0),MATCH(\"SIGNATURE\",'1'!Titre,0))=\"\",IF(COUNTIF($B$10:$B129,$B39)>1,COUNTIF($B$10:$B129,$B39),\"\"),INDEX(INDIRECT(\"'\"&$A$2&\"'!$A:$I\"),MATCH($B39,INDIRECT(\"'\"&$A$2&\"'!$A:$A\"),0),MATCH(\"SIGNATURE\",'1'!Titre,0))))","v":""}]

{"sheet":"2_classement","index":15,"n_rows":39,"n_cols":9,"rows_kept":39,"cut":false,"hidden":false,"merged":[[6,3,6,7],[0,1,0,7],[2,3,2,7],[3,3,3,7],[4,3,4,7],[5,3,5,7]]}
[{"$f":"RIGHT(CELL(\"nomfichier\",A1),LEN(CELL(\"nomfichier\",A1)) - FIND(\"]\",CELL(\"nomfichier\",A1)))","v":"2_classement"},"CLASSEMENTS"]
[{"$f":"LEFT($A$1,FIND(\"_classement\",$A$1)-1)","v":"2"}]
[null,null,"Club organisateur :",{"$f":"IF(club=\"\",\"\",club)","v":""}]
[null,null,"Lieu de l'épreuve :",{"$f":"IF(lieu=\"\",\"\",lieu)","v":""}]
[null,null,"Date de l'épreuve :",{"$f":"IF(date_epreuve=\"\",\"\",date_epreuve)","v":""}]
[null,null,"Catégorie :","2ème catégorie"]
[null,null,"Nb de partants :",{"$f":"COUNTIFS(INDIRECT(\"'\"&$A2&\"'!$B$9:$B$100\"),\"><\",INDIRECT(\"'\"&$A2&\"'!$i$9:$i$100\"),\"<>Non Partant\")","v":0}]
[]
["PLACE","N°","NOM  PRENOM","M/F","FEDERATION","CATE.","CLUB","DEP."]
[1,null,{"$f":"IF($B10=\"\",\"\",INDEX(INDIRECT(\"'\"&$A$2&\"'!$A:$I\"),MATCH($B10,INDIRECT(\"'\"&$A$2&\"'!$A:$A\"),0),MATCH(C$9,'1'!Titre,0)))","v":""},{"$f":"IF($B10=\"\",\"\",INDEX(INDIRECT(\"'\"&$A$2&\"'!$A:$I\"),MATCH($B10,INDIRECT(\"'\"&$A$2&\"'!$A:$A\"),0),MATCH(D$9,'1'!Titre,0)))","v":""},{"$f":"IF($B10=\"\",\"\",INDEX(INDIRECT(\"'\"&$A$2&\"'!$A:$I\"),MATCH($B10,INDIRECT(\"'\"&$A$2&\"'!$A:$A\"),0),MATCH(E$9,'1'!Titre,0)))","v":""},{"$f":"IF($B10=\"\",\"\",INDEX(INDIRECT(\"'\"&$A$2&\"'!$A:$I\"),MATCH($B10,INDIRECT(\"'\"&$A$2&\"'!$A:$A\"),0),MATCH(F$9,'1'!Titre,0)))","v":""},{"$f":"IF($B10=\"\",\"\",INDEX(INDIRECT(\"'\"&$A$2&\"'!$A:$I\"),MATCH($B10,INDIRECT(\"'\"&$A$2&\"'!$A:$A\"),0),MATCH(G$9,'1'!Titre,0)))","v":""},{"$f":"IF($B10=\"\",\"\",INDEX(INDIRECT(\"'\"&$A$2&\"'!$A:$I\"),MATCH($B10,INDIRECT(\"'\"&$A$2&\"'!$A:$A\"),0),MATCH(H$9,'1'!Titre,0)))","v":""},{"$f":"IF($B10=\"\",\"\",IF(INDEX(INDIRECT(\"'\"&$A$2&\"'!$A:$I\"),MATCH($B10,INDIRECT(\"'\"&$A$2&\"'!$A:$A\"),0),MATCH(\"SIGNATURE\",'1'!Titre,0))=\"\",IF(COUNTIF($B$10:$B100,$B10)>1,COUNTIF($B$10:$B100,$B10),\"\"),INDEX(INDIRECT(\"'\"&$A$2&\"'!$A:$I\"),MATCH($B10,INDIRECT(\"'\"&$A$2&\"'!$A:$A\"),0),MATCH(\"SIGNATURE\",'1'!Titre,0))))","v":""}]
[2,null,{"$f":"IF($B11=\"\",\"\",INDEX(INDIRECT(\"'\"&$A$2&\"'!$A:$I\"),MATCH($B11,INDIRECT(\"'\"&$A$2&\"'!$A:$A\"),0),MATCH(C$9,'1'!Titre,0)))","v":""},{"$f":"IF($B11=\"\",\"\",INDEX(INDIRECT(\"'\"&$A$2&\"'!$A:$I\"),MATCH($B11,INDIRECT(\"'\"&$A$2&\"'!$A:$A\"),0),MATCH(D$9,'1'!Titre,0)))","v":""},{"$f":"IF($B11=\"\",\"\",INDEX(INDIRECT(\"'\"&$A$2&\"'!$A:$I\"),MATCH($B11,INDIRECT(\"'\"&$A$2&\"'!$A:$A\"),0),MATCH(E$9,'1'!Titre,0)))","v":""},{"$f":"IF($B11=\"\",\"\",INDEX(INDIRECT(\"'\"&$A$2&\"'!$A:$I\"),MATCH($B11,INDIRECT(\"'\"&$A$2&\"'!$A:$A\"),0),MATCH(F$9,'1'!Titre,0)))","v":""},{"$f":"IF($B11=\"\",\"\",INDEX(INDIRECT(\"'\"&$A$2&\"'!$A:$I\"),MATCH($B11,INDIRECT(\"'\"&$A$2&\"'!$A:$A\"),0),MATCH(G$9,'1'!Titre,0)))","v":""},{"$f":"IF($B11=\"\",\"\",INDEX(INDIRECT(\"'\"&$A$2&\"'!$A:$I\"),MATCH($B11,INDIRECT(\"'\"&$A$2&\"'!$A:$A\"),0),MATCH(H$9,'1'!Titre,0)))","v":""},{"$f":"IF($B11=\"\",\"\",IF(INDEX(INDIRECT(\"'\"&$A$2&\"'!$A:$I\"),MATCH($B11,INDIRECT(\"'\"&$A$2&\"'!$A:$A\"),0),MATCH(\"SIGNATURE\",'1'!Titre,0))=\"\",IF(COUNTIF($B$10:$B101,$B11)>1,COUNTIF($B$10:$B101,$B11),\"\"),INDEX(INDIRECT(\"'\"&$A$2&\"'!$A:$I\"),MATCH($B11,INDIRECT(\"'\"&$A$2&\"'!$A:$A\"),0),MATCH(\"SIGNATURE\",'1'!Titre,0))))","v":""}]
[3,null,{"$f":"IF($B12=\"\",\"\",INDEX(INDIRECT(\"'\"&$A$2&\"'!$A:$I\"),MATCH($B12,INDIRECT(\"'\"&$A$2&\"'!$A:$A\"),0),MATCH(C$9,'1'!Titre,0)))","v":""},{"$f":"IF($B12=\"\",\"\",INDEX(INDIRECT(\"'\"&$A$2&\"'!$A:$I\"),MATCH($B12,INDIRECT(\"'\"&$A$2&\"'!$A:$A\"),0),MATCH(D$9,'1'!Titre,0)))","v":""},{"$f":"IF($B12=\"\",\"\",INDEX(INDIRECT(\"'\"&$A$2&\"'!$A:$I\"),MATCH($B12,INDIRECT(\"'\"&$A$2&\"'!$A:$A\"),0),MATCH(E$9,'1'!Titre,0)))","v":""},{"$f":"IF($B12=\"\",\"\",INDEX(INDIRECT(\"'\"&$A$2&\"'!$A:$I\"),MATCH($B12,INDIRECT(\"'\"&$A$2&\"'!$A:$A\"),0),MATCH(F$9,'1'!Titre,0)))","v":""},{"$f":"IF($B12=\"\",\"\",INDEX(INDIRECT(\"'\"&$A$2&\"'!$A:$I\"),MATCH($B12,INDIRECT(\"'\"&$A$2&\"'!$A:$A\"),0),MATCH(G$9,'1'!Titre,0)))","v":""},{"$f":"IF($B12=\"\",\"\",INDEX(INDIRECT(\"'\"&$A$2&\"'!$A:$I\"),MATCH($B12,INDIRECT(\"'\"&$A$2&\"'!$A:$A\"),0),MATCH(H$9,'1'!Titre,0)))","v":""},{"$f":"IF($B12=\"\",\"\",IF(INDEX(INDIRECT(\"'\"&$A$2&\"'!$A:$I\"),MATCH($B12,INDIRECT(\"'\"&$A$2&\"'!$A:$A\"),0),MATCH(\"SIGNATURE\",'1'!Titre,0))=\"\",IF(COUNTIF($B$10:$B102,$B12)>1,COUNTIF($B$10:$B102,$B12),\"\"),INDEX(INDIRECT(\"'\"&$A$2&\"'!$A:$I\"),MATCH($B12,INDIRECT(\"'\"&$A$2&\"'!$A:$A\"),0),MATCH(\"SIGNATURE\",'1'!Titre,0))))","v":""}]
[4,null,{"$f":"IF($B13=\"\",\"\",INDEX(INDIRECT(\"'\"&$A$2&\"'!$A:$I\"),MATCH($B13,INDIRECT(\"'\"&$A$2&\"'!$A:$A\"),0),MATCH(C$9,'1'!Titre,0)))","v":""},{"$f":"IF($B13=\"\",\"\",INDEX(INDIRECT(\"'\"&$A$2&\"'!$A:$I\"),MATCH($B13,INDIRECT(\"'\"&$A$2&\"'!$A:$A\"),0),MATCH(D$9,'1'!Titre,0)))","v":""},{"$f":"IF($B13=\"\",\"\",INDEX(INDIRECT(\"'\"&$A$2&\"'!$A:$I\"),MATCH($B13,INDIRECT(\"'\"&$A$2&\"'!$A:$A\"),0),MATCH(E$9,'1'!Titre,0)))","v":""},{"$f":"IF($B13=\"\",\"\",INDEX(INDIRECT(\"'\"&$A$2&\"'!$A:$I\"),MATCH($B13,INDIRECT(\"'\"&$A$2&\"'!$A:$A\"),0),MATCH(F$9,'1'!Titre,0)))","v":""},{"$f":"IF($B13=\"\",\"\",INDEX(INDIRECT(\"'\"&$A$2&\"'!$A:$I\"),MATCH($B13,INDIRECT(\"'\"&$A$2&\"'!$A:$A\"),0),MATCH(G$9,'1'!Titre,0)))","v":""},{"$f":"IF($B13=\"\",\"\",INDEX(INDIRECT(\"'\"&$A$2&\"'!$A:$I\"),MATCH($B13,INDIRECT(\"'\"&$A$2&\"'!$A:$A\"),0),MATCH(H$9,'1'!Titre,0)))","v":""},{"$f":"IF($B13=\"\",\"\",IF(INDEX(INDIRECT(\"'\"&$A$2&\"'!$A:$I\"),MATCH($B13,INDIRECT(\"'\"&$A$2&\"'!$A:$A\"),0),MATCH(\"SIGNATURE\",'1'!Titre,0))=\"\",IF(COUNTIF($B$10:$B103,$B13)>1,COUNTIF($B$10:$B103,$B13),\"\"),INDEX(INDIRECT(\"'\"&$A$2&\"'!$A:$I\"),MATCH($B13,INDIRECT(\"'\"&$A$2&\"'!$A:$A\"),0),MATCH(\"SIGNATURE\",'1'!Titre,0))))","v":""}]
[5,null,{"$f":"IF($B14=\"\",\"\",INDEX(INDIRECT(\"'\"&$A$2&\"'!$A:$I\"),MATCH($B14,INDIRECT(\"'\"&$A$2&\"'!$A:$A\"),0),MATCH(C$9,'1'!Titre,0)))","v":""},{"$f":"IF($B14=\"\",\"\",INDEX(INDIRECT(\"'\"&$A$2&\"'!$A:$I\"),MATCH($B14,INDIRECT(\"'\"&$A$2&\"'!$A:$A\"),0),MATCH(D$9,'1'!Titre,0)))","v":""},{"$f":"IF($B14=\"\",\"\",INDEX(INDIRECT(\"'\"&$A$2&\"'!$A:$I\"),MATCH($B14,INDIRECT(\"'\"&$A$2&\"'!$A:$A\"),0),MATCH(E$9,'1'!Titre,0)))","v":""},{"$f":"IF($B14=\"\",\"\",INDEX(INDIRECT(\"'\"&$A$2&\"'!$A:$I\"),MATCH($B14,INDIRECT(\"'\"&$A$2&\"'!$A:$A\"),0),MATCH(F$9,'1'!Titre,0)))","v":""},{"$f":"IF($B14=\"\",\"\",INDEX(INDIRECT(\"'\"&$A$2&\"'!$A:$I\"),MATCH($B14,INDIRECT(\"'\"&$A$2&\"'!$A:$A\"),0),MATCH(G$9,'1'!Titre,0)))","v":""},{"$f":"IF($B14=\"\",\"\",INDEX(INDIRECT(\"'\"&$A$2&\"'!$A:$I\"),MATCH($B14,INDIRECT(\"'\"&$A$2&\"'!$A:$A\"),0),MATCH(H$9,'1'!Titre,0)))","v":""},{"$f":"IF($B14=\"\",\"\",IF(INDEX(INDIRECT(\"'\"&$A$2&\"'!$A:$I\"),MATCH($B14,INDIRECT(\"'\"&$A$2&\"'!$A:$A\"),0),MATCH(\"SIGNATURE\",'1'!Titre,0))=\"\",IF(COUNTIF($B$10:$B104,$B14)>1,COUNTIF($B$10:$B104,$B14),\"\"),INDEX(INDIRECT(\"'\"&$A$2&\"'!$A:$I\"),MATCH($B14,INDIRECT(\"'\"&$A$2&\"'!$A:$A\"),0),MATCH(\"SIGNATURE\",'1'!Titre,0))))","v":""}]
[6,null,{"$f":"IF($B15=\"\",\"\",INDEX(INDIRECT(\"'\"&$A$2&\"'!$A:$I\"),MATCH($B15,INDIRECT(\"'\"&$A$2&\"'!$A:$A\"),0),MATCH(C$9,'1'!Titre,0)))","v":""},{"$f":"IF($B15=\"\",\"\",INDEX(INDIRECT(\"'\"&$A$2&\"'!$A:$I\"),MATCH($B15,INDIRECT(\"'\"&$A$2&\"'!$A:$A\"),0),MATCH(D$9,'1'!Titre,0)))","v":""},{"$f":"IF($B15=\"\",\"\",INDEX(INDIRECT(\"'\"&$A$2&\"'!$A:$I\"),MATCH($B15,INDIRECT(\"'\"&$A$2&\"'!$A:$A\"),0),MATCH(E$9,'1'!Titre,0)))","v":""},{"$f":"IF($B15=\"\",\"\",INDEX(INDIRECT(\"'\"&$A$2&\"'!$A:$I\"),MATCH($B15,INDIRECT(\"'\"&$A$2&\"'!$A:$A\"),0),MATCH(F$9,'1'!Titre,0)))","v":""},{"$f":"IF($B15=\"\",\"\",INDEX(INDIRECT(\"'\"&$A$2&\"'!$A:$I\"),MATCH($B15,INDIRECT(\"'\"&$A$2&\"'!$A:$A\"),0),MATCH(G$9,'1'!Titre,0)))","v":""},{"$f":"IF($B15=\"\",\"\",INDEX(INDIRECT(\"'\"&$A$2&\"'!$A:$I\"),MATCH($B15,INDIRECT(\"'\"&$A$2&\"'!$A:$A\"),0),MATCH(H$9,'1'!Titre,0)))","v":""},{"$f":"IF($B15=\"\",\"\",IF(INDEX(INDIRECT(\"'\"&$A$2&\"'!$A:$I\"),MATCH($B15,INDIRECT(\"'\"&$A$2&\"'!$A:$A\"),0),MATCH(\"SIGNATURE\",'1'!Titre,0))=\"\",IF(COUNTIF($B$10:$B105,$B15)>1,COUNTIF($B$10:$B105,$B15),\"\"),INDEX(INDIRECT(\"'\"&$A$2&\"'!$A:$I\"),MATCH($B15,INDIRECT(\"'\"&$A$2&\"'!$A:$A\"),0),MATCH(\"SIGNATURE\",'1'!Titre,0))))","v":""}]
[7,null,{"$f":"IF($B16=\"\",\"\",INDEX(INDIRECT(\"'\"&$A$2&\"'!$A:$I\"),MATCH($B16,INDIRECT(\"'\"&$A$2&\"'!$A:$A\"),0),MATCH(C$9,'1'!Titre,0)))","v":""},{"$f":"IF($B16=\"\",\"\",INDEX(INDIRECT(\"'\"&$A$2&\"'!$A:$I\"),MATCH($B16,INDIRECT(\"'\"&$A$2&\"'!$A:$A\"),0),MATCH(D$9,'1'!Titre,0)))","v":""},{"$f":"IF($B16=\"\",\"\",INDEX(INDIRECT(\"'\"&$A$2&\"'!$A:$I\"),MATCH($B16,INDIRECT(\"'\"&$A$2&\"'!$A:$A\"),0),MATCH(E$9,'1'!Titre,0)))","v":""},{"$f":"IF($B16=\"\",\"\",INDEX(INDIRECT(\"'\"&$A$2&\"'!$A:$I\"),MATCH($B16,INDIRECT(\"'\"&$A$2&\"'!$A:$A\"),0),MATCH(F$9,'1'!Titre,0)))","v":""},{"$f":"IF($B16=\"\",\"\",INDEX(INDIRECT(\"'\"&$A$2&\"'!$A:$I\"),MATCH($B16,INDIRECT(\"'\"&$A$2&\"'!$A:$A\"),0),MATCH(G$9,'1'!Titre,0)))","v":""},{"$f":"IF($B16=\"\",\"\",INDEX(INDIRECT(\"'\"&$A$2&\"'!$A:$I\"),MATCH($B16,INDIRECT(\"'\"&$A$2&\"'!$A:$A\"),0),MATCH(H$9,'1'!Titre,0)))","v":""},{"$f":"IF($B16=\"\",\"\",IF(INDEX(INDIRECT(\"'\"&$A$2&\"'!$A:$I\"),MATCH($B16,INDIRECT(\"'\"&$A$2&\"'!$A:$A\"),0),MATCH(\"SIGNATURE\",'1'!Titre,0))=\"\",IF(COUNTIF($B$10:$B106,$B16)>1,COUNTIF($B$10:$B106,$B16),\"\"),INDEX(INDIRECT(\"'\"&$A$2&\"'!$A:$I\"),MATCH($B16,INDIRECT(\"'\"&$A$2&\"'!$A:$A\"),0),MATCH(\"SIGNATURE\",'1'!Titre,0))))","v":""}]
[8,null,{"$f":"IF($B17=\"\",\"\",INDEX(INDIRECT(\"'\"&$A$2&\"'!$A:$I\"),MATCH($B17,INDIRECT(\"'\"&$A$2&\"'!$A:$A\"),0),MATCH(C$9,'1'!Titre,0)))","v":""},{"$f":"IF($B17=\"\",\"\",INDEX(INDIRECT(\"'\"&$A$2&\"'!$A:$I\"),MATCH($B17,INDIRECT(\"'\"&$A$2&\"'!$A:$A\"),0),MATCH(D$9,'1'!Titre,0)))","v":""},{"$f":"IF($B17=\"\",\"\",INDEX(INDIRECT(\"'\"&$A$2&\"'!$A:$I\"),MATCH($B17,INDIRECT(\"'\"&$A$2&\"'!$A:$A\"),0),MATCH(E$9,'1'!Titre,0)))","v":""},{"$f":"IF($B17=\"\",\"\",INDEX(INDIRECT(\"'\"&$A$2&\"'!$A:$I\"),MATCH($B17,INDIRECT(\"'\"&$A$2&\"'!$A:$A\"),0),MATCH(F$9,'1'!Titre,0)))","v":""},{"$f":"IF($B17=\"\",\"\",INDEX(INDIRECT(\"'\"&$A$2&\"'!$A:$I\"),MATCH($B17,INDIRECT(\"'\"&$A$2&\"'!$A:$A\"),0),MATCH(G$9,'1'!Titre,0)))","v":""},{"$f":"IF($B17=\"\",\"\",INDEX(INDIRECT(\"'\"&$A$2&\"'!$A:$I\"),MATCH($B17,INDIRECT(\"'\"&$A$2&\"'!$A:$A\"),0),MATCH(H$9,'1'!Titre,0)))","v":""},{"$f":"IF($B17=\"\",\"\",IF(INDEX(INDIRECT(\"'\"&$A$2&\"'!$A:$I\"),MATCH($B17,INDIRECT(\"'\"&$A$2&\"'!$A:$A\"),0),MATCH(\"SIGNATURE\",'1'!Titre,0))=\"\",IF(COUNTIF($B$10:$B107,$B17)>1,COUNTIF($B$10:$B107,$B17),\"\"),INDEX(INDIRECT(\"'\"&$A$2&\"'!$A:$I\"),MATCH($B17,INDIRECT(\"'\"&$A$2&\"'!$A:$A\"),0),MATCH(\"SIGNATURE\",'1'!Titre,0))))","v":""}]
[9,null,{"$f":"IF($B18=\"\",\"\",INDEX(INDIRECT(\"'\"&$A$2&\"'!$A:$I\"),MATCH($B18,INDIRECT(\"'\"&$A$2&\"'!$A:$A\"),0),MATCH(C$9,'1'!Titre,0)))","v":""},{"$f":"IF($B18=\"\",\"\",INDEX(INDIRECT(\"'\"&$A$2&\"'!$A:$I\"),MATCH($B18,INDIRECT(\"'\"&$A$2&\"'!$A:$A\"),0),MATCH(D$9,'1'!Titre,0)))","v":""},{"$f":"IF($B18=\"\",\"\",INDEX(INDIRECT(\"'\"&$A$2&\"'!$A:$I\"),MATCH($B18,INDIRECT(\"'\"&$A$2&\"'!$A:$A\"),0),MATCH(E$9,'1'!Titre,0)))","v":""},{"$f":"IF($B18=\"\",\"\",INDEX(INDIRECT(\"'\"&$A$2&\"'!$A:$I\"),MATCH($B18,INDIRECT(\"'\"&$A$2&\"'!$A:$A\"),0),MATCH(F$9,'1'!Titre,0)))","v":""},{"$f":"IF($B18=\"\",\"\",INDEX(INDIRECT(\"'\"&$A$2&\"'!$A:$I\"),MATCH($B18,INDIRECT(\"'\"&$A$2&\"'!$A:$A\"),0),MATCH(G$9,'1'!Titre,0)))","v":""},{"$f":"IF($B18=\"\",\"\",INDEX(INDIRECT(\"'\"&$A$2&\"'!$A:$I\"),MATCH($B18,INDIRECT(\"'\"&$A$2&\"'!$A:$A\"),0),MATCH(H$9,'1'!Titre,0)))","v":""},{"$f":"IF($B18=\"\",\"\",IF(INDEX(INDIRECT(\"'\"&$A$2&\"'!$A:$I\"),MATCH($B18,INDIRECT(\"'\"&$A$2&\"'!$A:$A\"),0),MATCH(\"SIGNATURE\",'1'!Titre,0))=\"\",IF(COUNTIF($B$10:$B108,$B18)>1,COUNTIF($B$10:$B108,$B18),\"\"),INDEX(INDIRECT(\"'\"&$A$2&\"'!$A:$I\"),MATCH($B18,INDIRECT(\"'\"&$A$2&\"'!$A:$A\"),0),MATCH(\"SIGNATURE\",'1'!Titre,0))))","v":""}]
[10,null,{"$f":"IF($B19=\"\",\"\",INDEX(INDIRECT(\"'\"&$A$2&\"'!$A:$I\"),MATCH($B19,INDIRECT(\"'\"&$A$2&\"'!$A:$A\"),0),MATCH(C$9,'1'!Titre,0)))","v":""},{"$f":"IF($B19=\"\",\"\",INDEX(INDIRECT(\"'\"&$A$2&\"'!$A:$I\"),MATCH($B19,INDIRECT(\"'\"&$A$2&\"'!$A:$A\"),0),MATCH(D$9,'1'!Titre,0)))","v":""},{"$f":"IF($B19=\"\",\"\",INDEX(INDIRECT(\"'\"&$A$2&\"'!$A:$I\"),MATCH($B19,INDIRECT(\"'\"&$A$2&\"'!$A:$A\"),0),MATCH(E$9,'1'!Titre,0)))","v":""},{"$f":"IF($B19=\"\",\"\",INDEX(INDIRECT(\"'\"&$A$2&\"'!$A:$I\"),MATCH($B19,INDIRECT(\"'\"&$A$2&\"'!$A:$A\"),0),MATCH(F$9,'1'!Titre,0)))","v":""},{"$f":"IF($B19=\"\",\"\",INDEX(INDIRECT(\"'\"&$A$2&\"'!$A:$I\"),MATCH($B19,INDIRECT(\"'\"&$A$2&\"'!$A:$A\"),0),MATCH(G$9,'1'!Titre,0)))","v":""},{"$f":"IF($B19=\"\",\"\",INDEX(INDIRECT(\"'\"&$A$2&\"'!$A:$I\"),MATCH($B19,INDIRECT(\"'\"&$A$2&\"'!$A:$A\"),0),MATCH(H$9,'1'!Titre,0)))","v":""},{"$f":"IF($B19=\"\",\"\",IF(INDEX(INDIRECT(\"'\"&$A$2&\"'!$A:$I\"),MATCH($B19,INDIRECT(\"'\"&$A$2&\"'!$A:$A\"),0),MATCH(\"SIGNATURE\",'1'!Titre,0))=\"\",IF(COUNTIF($B$10:$B109,$B19)>1,COUNTIF($B$10:$B109,$B19),\"\"),INDEX(INDIRECT(\"'\"&$A$2&\"'!$A:$I\"),MATCH($B19,INDIRECT(\"'\"&$A$2&\"'!$A:$A\"),0),MATCH(\"SIGNATURE\",'1'!Titre,0))))","v":""}]
[11,null,{"$f":"IF($B20=\"\",\"\",INDEX(INDIRECT(\"'\"&$A$2&\"'!$A:$I\"),MATCH($B20,INDIRECT(\"'\"&$A$2&\"'!$A:$A\"),0),MATCH(C$9,'1'!Titre,0)))","v":""},{"$f":"IF($B20=\"\",\"\",INDEX(INDIRECT(\"'\"&$A$2&\"'!$A:$I\"),MATCH($B20,INDIRECT(\"'\"&$A$2&\"'!$A:$A\"),0),MATCH(D$9,'1'!Titre,0)))","v":""},{"$f":"IF($B20=\"\",\"\",INDEX(INDIRECT(\"'\"&$A$2&\"'!$A:$I\"),MATCH($B20,INDIRECT(\"'\"&$A$2&\"'!$A:$A\"),0),MATCH(E$9,'1'!Titre,0)))","v":""},{"$f":"IF($B20=\"\",\"\",INDEX(INDIRECT(\"'\"&$A$2&\"'!$A:$I\"),MATCH($B20,INDIRECT(\"'\"&$A$2&\"'!$A:$A\"),0),MATCH(F$9,'1'!Titre,0)))","v":""},{"$f":"IF($B20=\"\",\"\",INDEX(INDIRECT(\"'\"&$A$2&\"'!$A:$I\"),MATCH($B20,INDIRECT(\"'\"&$A$2&\"'!$A:$A\"),0),MATCH(G$9,'1'!Titre,0)))","v":""},{"$f":"IF($B20=\"\",\"\",INDEX(INDIRECT(\"'\"&$A$2&\"'!$A:$I\"),MATCH($B20,INDIRECT(\"'\"&$A$2&\"'!$A:$A\"),0),MATCH(H$9,'1'!Titre,0)))","v":""},{"$f":"IF($B20=\"\",\"\",IF(INDEX(INDIRECT(\"'\"&$A$2&\"'!$A:$I\"),MATCH($B20,INDIRECT(\"'\"&$A$2&\"'!$A:$A\"),0),MATCH(\"SIGNATURE\",'1'!Titre,0))=\"\",IF(COUNTIF($B$10:$B110,$B20)>1,COUNTIF($B$10:$B110,$B20),\"\"),INDEX(INDIRECT(\"'\"&$A$2&\"'!$A:$I\"),MATCH($B20,INDIRECT(\"'\"&$A$2&\"'!$A:$A\"),0),MATCH(\"SIGNATURE\",'1'!Titre,0))))","v":""}]
[12,null,{"$f":"IF($B21=\"\",\"\",INDEX(INDIRECT(\"'\"&$A$2&\"'!$A:$I\"),MATCH($B21,INDIRECT(\"'\"&$A$2&\"'!$A:$A\"),0),MATCH(C$9,'1'!Titre,0)))","v":""},{"$f":"IF($B21=\"\",\"\",INDEX(INDIRECT(\"'\"&$A$2&\"'!$A:$I\"),MATCH($B21,INDIRECT(\"'\"&$A$2&\"'!$A:$A\"),0),MATCH(D$9,'1'!Titre,0)))","v":""},{"$f":"IF($B21=\"\",\"\",INDEX(INDIRECT(\"'\"&$A$2&\"'!$A:$I\"),MATCH($B21,INDIRECT(\"'\"&$A$2&\"'!$A:$A\"),0),MATCH(E$9,'1'!Titre,0)))","v":""},{"$f":"IF($B21=\"\",\"\",INDEX(INDIRECT(\"'\"&$A$2&\"'!$A:$I\"),MATCH($B21,INDIRECT(\"'\"&$A$2&\"'!$A:$A\"),0),MATCH(F$9,'1'!Titre,0)))","v":""},{"$f":"IF($B21=\"\",\"\",INDEX(INDIRECT(\"'\"&$A$2&\"'!$A:$I\"),MATCH($B21,INDIRECT(\"'\"&$A$2&\"'!$A:$A\"),0),MATCH(G$9,'1'!Titre,0)))","v":""},{"$f":"IF($B21=\"\",\"\",INDEX(INDIRECT(\"'\"&$A$2&\"'!$A:$I\"),MATCH($B21,INDIRECT(\"'\"&$A$2&\"'!$A:$A\"),0),MATCH(H$9,'1'!Titre,0)))","v":""},{"$f":"IF($B21=\"\",\"\",IF(INDEX(INDIRECT(\"'\"&$A$2&\"'!$A:$I\"),MATCH($B21,INDIRECT(\"'\"&$A$2&\"'!$A:$A\"),0),MATCH(\"SIGNATURE\",'1'!Titre,0))=\"\",IF(COUNTIF($B$10:$B111,$B21)>1,COUNTIF($B$10:$B111,$B21),\"\"),INDEX(INDIRECT(\"'\"&$A$2&\"'!$A:$I\"),MATCH($B21,INDIRECT(\"'\"&$A$2&\"'!$A:$A\"),0),MATCH(\"SIGNATURE\",'1'!Titre,0))))","v":""}]
[13,null,{"$f":"IF($B22=\"\",\"\",INDEX(INDIRECT(\"'\"&$A$2&\"'!$A:$I\"),MATCH($B22,INDIRECT(\"'\"&$A$2&\"'!$A:$A\"),0),MATCH(C$9,'1'!Titre,0)))","v":""},{"$f":"IF($B22=\"\",\"\",INDEX(INDIRECT(\"'\"&$A$2&\"'!$A:$I\"),MATCH($B22,INDIRECT(\"'\"&$A$2&\"'!$A:$A\"),0),MATCH(D$9,'1'!Titre,0)))","v":""},{"$f":"IF($B22=\"\",\"\",INDEX(INDIRECT(\"'\"&$A$2&\"'!$A:$I\"),MATCH($B22,INDIRECT(\"'\"&$A$2&\"'!$A:$A\"),0),MATCH(E$9,'1'!Titre,0)))","v":""},{"$f":"IF($B22=\"\",\"\",INDEX(INDIRECT(\"'\"&$A$2&\"'!$A:$I\"),MATCH($B22,INDIRECT(\"'\"&$A$2&\"'!$A:$A\"),0),MATCH(F$9,'1'!Titre,0)))","v":""},{"$f":"IF($B22=\"\",\"\",INDEX(INDIRECT(\"'\"&$A$2&\"'!$A:$I\"),MATCH($B22,INDIRECT(\"'\"&$A$2&\"'!$A:$A\"),0),MATCH(G$9,'1'!Titre,0)))","v":""},{"$f":"IF($B22=\"\",\"\",INDEX(INDIRECT(\"'\"&$A$2&\"'!$A:$I\"),MATCH($B22,INDIRECT(\"'\"&$A$2&\"'!$A:$A\"),0),MATCH(H$9,'1'!Titre,0)))","v":""},{"$f":"IF($B22=\"\",\"\",IF(INDEX(INDIRECT(\"'\"&$A$2&\"'!$A:$I\"),MATCH($B22,INDIRECT(\"'\"&$A$2&\"'!$A:$A\"),0),MATCH(\"SIGNATURE\",'1'!Titre,0))=\"\",IF(COUNTIF($B$10:$B112,$B22)>1,COUNTIF($B$10:$B112,$B22),\"\"),INDEX(INDIRECT(\"'\"&$A$2&\"'!$A:$I\"),MATCH($B22,INDIRECT(\"'\"&$A$2&\"'!$A:$A\"),0),MATCH(\"SIGNATURE\",'1'!Titre,0))))","v":""}]
[14,null,{"$f":"IF($B23=\"\",\"\",INDEX(INDIRECT(\"'\"&$A$2&\"'!$A:$I\"),MATCH($B23,INDIRECT(\"'\"&$A$2&\"'!$A:$A\"),0),MATCH(C$9,'1'!Titre,0)))","v":""},{"$f":"IF($B23=\"\",\"\",INDEX(INDIRECT(\"'\"&$A$2&\"'!$A:$I\"),MATCH($B23,INDIRECT(\"'\"&$A$2&\"'!$A:$A\"),0),MATCH(D$9,'1'!Titre,0)))","v":""},{"$f":"IF($B23=\"\",\"\",INDEX(INDIRECT(\"'\"&$A$2&\"'!$A:$I\"),MATCH($B23,INDIRECT(\"'\"&$A$2&\"'!$A:$A\"),0),MATCH(E$9,'1'!Titre,0)))","v":""},{"$f":"IF($B23=\"\",\"\",INDEX(INDIRECT(\"'\"&$A$2&\"'!$A:$I\"),MATCH($B23,INDIRECT(\"'\"&$A$2&\"'!$A:$A\"),0),MATCH(F$9,'1'!Titre,0)))","v":""},{"$f":"IF($B23=\"\",\"\",INDEX(INDIRECT(\"'\"&$A$2&\"'!$A:$I\"),MATCH($B23,INDIRECT(\"'\"&$A$2&\"'!$A:$A\"),0),MATCH(G$9,'1'!Titre,0)))","v":""},{"$f":"IF($B23=\"\",\"\",INDEX(INDIRECT(\"'\"&$A$2&\"'!$A:$I\"),MATCH($B23,INDIRECT(\"'\"&$A$2&\"'!$A:$A\"),0),MATCH(H$9,'1'!Titre,0)))","v":""},{"$f":"IF($B23=\"\",\"\",IF(INDEX(INDIRECT(\"'\"&$A$2&\"'!$A:$I\"),MATCH($B23,INDIRECT(\"'\"&$A$2&\"'!$A:$A\"),0),MATCH(\"SIGNATURE\",'1'!Titre,0))=\"\",IF(COUNTIF($B$10:$B113,$B23)>1,COUNTIF($B$10:$B113,$B23),\"\"),INDEX(INDIRECT(\"'\"&$A$2&\"'!$A:$I\"),MATCH($B23,INDIRECT(\"'\"&$A$2&\"'!$A:$A\"),0),MATCH(\"SIGNATURE\",'1'!Titre,0))))","v":""}]
[15,null,{"$f":"IF($B24=\"\",\"\",INDEX(INDIRECT(\"'\"&$A$2&\"'!$A:$I\"),MATCH($B24,INDIRECT(\"'\"&$A$2&\"'!$A:$A\"),0),MATCH(C$9,'1'!Titre,0)))","v":""},{"$f":"IF($B24=\"\",\"\",INDEX(INDIRECT(\"'\"&$A$2&\"'!$A:$I\"),MATCH($B24,INDIRECT(\"'\"&$A$2&\"'!$A:$A\"),0),MATCH(D$9,'1'!Titre,0)))","v":""},{"$f":"IF($B24=\"\",\"\",INDEX(INDIRECT(\"'\"&$A$2&\"'!$A:$I\"),MATCH($B24,INDIRECT(\"'\"&$A$2&\"'!$A:$A\"),0),MATCH(E$9,'1'!Titre,0)))","v":""},{"$f":"IF($B24=\"\",\"\",INDEX(INDIRECT(\"'\"&$A$2&\"'!$A:$I\"),MATCH($B24,INDIRECT(\"'\"&$A$2&\"'!$A:$A\"),0),MATCH(F$9,'1'!Titre,0)))","v":""},{"$f":"IF($B24=\"\",\"\",INDEX(INDIRECT(\"'\"&$A$2&\"'!$A:$I\"),MATCH($B24,INDIRECT(\"'\"&$A$2&\"'!$A:$A\"),0),MATCH(G$9,'1'!Titre,0)))","v":""},{"$f":"IF($B24=\"\",\"\",INDEX(INDIRECT(\"'\"&$A$2&\"'!$A:$I\"),MATCH($B24,INDIRECT(\"'\"&$A$2&\"'!$A:$A\"),0),MATCH(H$9,'1'!Titre,0)))","v":""},{"$f":"IF($B24=\"\",\"\",IF(INDEX(INDIRECT(\"'\"&$A$2&\"'!$A:$I\"),MATCH($B24,INDIRECT(\"'\"&$A$2&\"'!$A:$A\"),0),MATCH(\"SIGNATURE\",'1'!Titre,0))=\"\",IF(COUNTIF($B$10:$B114,$B24)>1,COUNTIF($B$10:$B114,$B24),\"\"),INDEX(INDIRECT(\"'\"&$A$2&\"'!$A:$I\"),MATCH($B24,INDIRECT(\"'\"&$A$2&\"'!$A:$A\"),0),MATCH(\"SIGNATURE\",'1'!Titre,0))))","v":""}]
[16,null,{"$f":"IF($B25=\"\",\"\",INDEX(INDIRECT(\"'\"&$A$2&\"'!$A:$I\"),MATCH($B25,INDIRECT(\"'\"&$A$2&\"'!$A:$A\"),0),MATCH(C$9,'1'!Titre,0)))","v":""},{"$f":"IF($B25=\"\",\"\",INDEX(INDIRECT(\"'\"&$A$2&\"'!$A:$I\"),MATCH($B25,INDIRECT(\"'\"&$A$2&\"'!$A:$A\"),0),MATCH(D$9,'1'!Titre,0)))","v":""},{"$f":"IF($B25=\"\",\"\",INDEX(INDIRECT(\"'\"&$A$2&\"'!$A:$I\"),MATCH($B25,INDIRECT(\"'\"&$A$2&\"'!$A:$A\"),0),MATCH(E$9,'1'!Titre,0)))","v":""},{"$f":"IF($B25=\"\",\"\",INDEX(INDIRECT(\"'\"&$A$2&\"'!$A:$I\"),MATCH($B25,INDIRECT(\"'\"&$A$2&\"'!$A:$A\"),0),MATCH(F$9,'1'!Titre,0)))","v":""},{"$f":"IF($B25=\"\",\"\",INDEX(INDIRECT(\"'\"&$A$2&\"'!$A:$I\"),MATCH($B25,INDIRECT(\"'\"&$A$2&\"'!$A:$A\"),0),MATCH(G$9,'1'!Titre,0)))","v":""},{"$f":"IF($B25=\"\",\"\",INDEX(INDIRECT(\"'\"&$A$2&\"'!$A:$I\"),MATCH($B25,INDIRECT(\"'\"&$A$2&\"'!$A:$A\"),0),MATCH(H$9,'1'!Titre,0)))","v":""},{"$f":"IF($B25=\"\",\"\",IF(INDEX(INDIRECT(\"'\"&$A$2&\"'!$A:$I\"),MATCH($B25,INDIRECT(\"'\"&$A$2&\"'!$A:$A\"),0),MATCH(\"SIGNATURE\",'1'!Titre,0))=\"\",IF(COUNTIF($B$10:$B115,$B25)>1,COUNTIF($B$10:$B115,$B25),\"\"),INDEX(INDIRECT(\"'\"&$A$2&\"'!$A:$I\"),MATCH($B25,INDIRECT(\"'\"&$A$2&\"'!$A:$A\"),0),MATCH(\"SIGNATURE\",'1'!Titre,0))))","v":""}]
[17,null,{"$f":"IF($B26=\"\",\"\",INDEX(INDIRECT(\"'\"&$A$2&\"'!$A:$I\"),MATCH($B26,INDIRECT(\"'\"&$A$2&\"'!$A:$A\"),0),MATCH(C$9,'1'!Titre,0)))","v":""},{"$f":"IF($B26=\"\",\"\",INDEX(INDIRECT(\"'\"&$A$2&\"'!$A:$I\"),MATCH($B26,INDIRECT(\"'\"&$A$2&\"'!$A:$A\"),0),MATCH(D$9,'1'!Titre,0)))","v":""},{"$f":"IF($B26=\"\",\"\",INDEX(INDIRECT(\"'\"&$A$2&\"'!$A:$I\"),MATCH($B26,INDIRECT(\"'\"&$A$2&\"'!$A:$A\"),0),MATCH(E$9,'1'!Titre,0)))","v":""},{"$f":"IF($B26=\"\",\"\",INDEX(INDIRECT(\"'\"&$A$2&\"'!$A:$I\"),MATCH($B26,INDIRECT(\"'\"&$A$2&\"'!$A:$A\"),0),MATCH(F$9,'1'!Titre,0)))","v":""},{"$f":"IF($B26=\"\",\"\",INDEX(INDIRECT(\"'\"&$A$2&\"'!$A:$I\"),MATCH($B26,INDIRECT(\"'\"&$A$2&\"'!$A:$A\"),0),MATCH(G$9,'1'!Titre,0)))","v":""},{"$f":"IF($B26=\"\",\"\",INDEX(INDIRECT(\"'\"&$A$2&\"'!$A:$I\"),MATCH($B26,INDIRECT(\"'\"&$A$2&\"'!$A:$A\"),0),MATCH(H$9,'1'!Titre,0)))","v":""},{"$f":"IF($B26=\"\",\"\",IF(INDEX(INDIRECT(\"'\"&$A$2&\"'!$A:$I\"),MATCH($B26,INDIRECT(\"'\"&$A$2&\"'!$A:$A\"),0),MATCH(\"SIGNATURE\",'1'!Titre,0))=\"\",IF(COUNTIF($B$10:$B116,$B26)>1,COUNTIF($B$10:$B116,$B26),\"\"),INDEX(INDIRECT(\"'\"&$A$2&\"'!$A:$I\"),MATCH($B26,INDIRECT(\"'\"&$A$2&\"'!$A:$A\"),0),MATCH(\"SIGNATURE\",'1'!Titre,0))))","v":""}]
[18,null,{"$f":"IF($B27=\"\",\"\",INDEX(INDIRECT(\"'\"&$A$2&\"'!$A:$I\"),MATCH($B27,INDIRECT(\"'\"&$A$2&\"'!$A:$A\"),0),MATCH(C$9,'1'!Titre,0)))","v":""},{"$f":"IF($B27=\"\",\"\",INDEX(INDIRECT(\"'\"&$A$2&\"'!$A:$I\"),MATCH($B27,INDIRECT(\"'\"&$A$2&\"'!$A:$A\"),0),MATCH(D$9,'1'!Titre,0)))","v":""},{"$f":"IF($B27=\"\",\"\",INDEX(INDIRECT(\"'\"&$A$2&\"'!$A:$I\"),MATCH($B27,INDIRECT(\"'\"&$A$2&\"'!$A:$A\"),0),MATCH(E$9,'1'!Titre,0)))","v":""},{"$f":"IF($B27=\"\",\"\",INDEX(INDIRECT(\"'\"&$A$2&\"'!$A:$I\"),MATCH($B27,INDIRECT(\"'\"&$A$2&\"'!$A:$A\"),0),MATCH(F$9,'1'!Titre,0)))","v":""},{"$f":"IF($B27=\"\",\"\",INDEX(INDIRECT(\"'\"&$A$2&\"'!$A:$I\"),MATCH($B27,INDIRECT(\"'\"&$A$2&\"'!$A:$A\"),0),MATCH(G$9,'1'!Titre,0)))","v":""},{"$f":"IF($B27=\"\",\"\",INDEX(INDIRECT(\"'\"&$A$2&\"'!$A:$I\"),MATCH($B27,INDIRECT(\"'\"&$A$2&\"'!$A:$A\"),0),MATCH(H$9,'1'!Titre,0)))","v":""},{"$f":"IF($B27=\"\",\"\",IF(INDEX(INDIRECT(\"'\"&$A$2&\"'!$A:$I\"),MATCH($B27,INDIRECT(\"'\"&$A$2&\"'!$A:$A\"),0),MATCH(\"SIGNATURE\",'1'!Titre,0))=\"\",IF(COUNTIF($B$10:$B117,$B27)>1,COUNTIF($B$10:$B117,$B27),\"\"),INDEX(INDIRECT(\"'\"&$A$2&\"'!$A:$I\"),MATCH($B27,INDIRECT(\"'\"&$A$2&\"'!$A:$A\"),0),MATCH(\"SIGNATURE\",'1'!Titre,0))))","v":""}]
[19,null,{"$f":"IF($B28=\"\",\"\",INDEX(INDIRECT(\"'\"&$A$2&\"'!$A:$I\"),MATCH($B28,INDIRECT(\"'\"&$A$2&\"'!$A:$A\"),0),MATCH(C$9,'1'!Titre,0)))","v":""},{"$f":"IF($B28=\"\",\"\",INDEX(INDIRECT(\"'\"&$A$2&\"'!$A:$I\"),MATCH($B28,INDIRECT(\"'\"&$A$2&\"'!$A:$A\"),0),MATCH(D$9,'1'!Titre,0)))","v":""},{"$f":"IF($B28=\"\",\"\",INDEX(INDIRECT(\"'\"&$A$2&\"'!$A:$I\"),MATCH($B28,INDIRECT(\"'\"&$A$2&\"'!$A:$A\"),0),MATCH(E$9,'1'!Titre,0)))","v":""},{"$f":"IF($B28=\"\",\"\",INDEX(INDIRECT(\"'\"&$A$2&\"'!$A:$I\"),MATCH($B28,INDIRECT(\"'\"&$A$2&\"'!$A:$A\"),0),MATCH(F$9,'1'!Titre,0)))","v":""},{"$f":"IF($B28=\"\",\"\",INDEX(INDIRECT(\"'\"&$A$2&\"'!$A:$I\"),MATCH($B28,INDIRECT(\"'\"&$A$2&\"'!$A:$A\"),0),MATCH(G$9,'1'!Titre,0)))","v":""},{"$f":"IF($B28=\"\",\"\",INDEX(INDIRECT(\"'\"&$A$2&\"'!$A:$I\"),MATCH($B28,INDIRECT(\"'\"&$A$2&\"'!$A:$A\"),0),MATCH(H$9,'1'!Titre,0)))","v":""},{"$f":"IF($B28=\"\",\"\",IF(INDEX(INDIRECT(\"'\"&$A$2&\"'!$A:$I\"),MATCH($B28,INDIRECT(\"'\"&$A$2&\"'!$A:$A\"),0),MATCH(\"SIGNATURE\",'1'!Titre,0))=\"\",IF(COUNTIF($B$10:$B118,$B28)>1,COUNTIF($B$10:$B118,$B28),\"\"),INDEX(INDIRECT(\"'\"&$A$2&\"'!$A:$I\"),MATCH($B28,INDIRECT(\"'\"&$A$2&\"'!$A:$A\"),0),MATCH(\"SIGNATURE\",'1'!Titre,0))))","v":""}]
[20,null,{"$f":"IF($B29=\"\",\"\",INDEX(INDIRECT(\"'\"&$A$2&\"'!$A:$I\"),MATCH($B29,INDIRECT(\"'\"&$A$2&\"'!$A:$A\"),0),MATCH(C$9,'1'!Titre,0)))","v":""},{"$f":"IF($B29=\"\",\"\",INDEX(INDIRECT(\"'\"&$A$2&\"'!$A:$I\"),MATCH($B29,INDIRECT(\"'\"&$A$2&\"'!$A:$A\"),0),MATCH(D$9,'1'!Titre,0)))","v":""},{"$f":"IF($B29=\"\",\"\",INDEX(INDIRECT(\"'\"&$A$2&\"'!$A:$I\"),MATCH($B29,INDIRECT(\"'\"&$A$2&\"'!$A:$A\"),0),MATCH(E$9,'1'!Titre,0)))","v":""},{"$f":"IF($B29=\"\",\"\",INDEX(INDIRECT(\"'\"&$A$2&\"'!$A:$I\"),MATCH($B29,INDIRECT(\"'\"&$A$2&\"'!$A:$A\"),0),MATCH(F$9,'1'!Titre,0)))","v":""},{"$f":"IF($B29=\"\",\"\",INDEX(INDIRECT(\"'\"&$A$2&\"'!$A:$I\"),MATCH($B29,INDIRECT(\"'\"&$A$2&\"'!$A:$A\"),0),MATCH(G$9,'1'!Titre,0)))","v":""},{"$f":"IF($B29=\"\",\"\",INDEX(INDIRECT(\"'\"&$A$2&\"'!$A:$I\"),MATCH($B29,INDIRECT(\"'\"&$A$2&\"'!$A:$A\"),0),MATCH(H$9,'1'!Titre,0)))","v":""},{"$f":"IF($B29=\"\",\"\",IF(INDEX(INDIRECT(\"'\"&$A$2&\"'!$A:$I\"),MATCH($B29,INDIRECT(\"'\"&$A$2&\"'!$A:$A\"),0),MATCH(\"SIGNATURE\",'1'!Titre,0))=\"\",IF(COUNTIF($B$10:$B119,$B29)>1,COUNTIF($B$10:$B119,$B29),\"\"),INDEX(INDIRECT(\"'\"&$A$2&\"'!$A:$I\"),MATCH($B29,INDIRECT(\"'\"&$A$2&\"'!$A:$A\"),0),MATCH(\"SIGNATURE\",'1'!Titre,0))))","v":""}]
[21,null,{"$f":"IF($B30=\"\",\"\",INDEX(INDIRECT(\"'\"&$A$2&\"'!$A:$I\"),MATCH($B30,INDIRECT(\"'\"&$A$2&\"'!$A:$A\"),0),MATCH(C$9,'1'!Titre,0)))","v":""},{"$f":"IF($B30=\"\",\"\",INDEX(INDIRECT(\"'\"&$A$2&\"'!$A:$I\"),MATCH($B30,INDIRECT(\"'\"&$A$2&\"'!$A:$A\"),0),MATCH(D$9,'1'!Titre,0)))","v":""},{"$f":"IF($B30=\"\",\"\",INDEX(INDIRECT(\"'\"&$A$2&\"'!$A:$I\"),MATCH($B30,INDIRECT(\"'\"&$A$2&\"'!$A:$A\"),0),MATCH(E$9,'1'!Titre,0)))","v":""},{"$f":"IF($B30=\"\",\"\",INDEX(INDIRECT(\"'\"&$A$2&\"'!$A:$I\"),MATCH($B30,INDIRECT(\"'\"&$A$2&\"'!$A:$A\"),0),MATCH(F$9,'1'!Titre,0)))","v":""},{"$f":"IF($B30=\"\",\"\",INDEX(INDIRECT(\"'\"&$A$2&\"'!$A:$I\"),MATCH($B30,INDIRECT(\"'\"&$A$2&\"'!$A:$A\"),0),MATCH(G$9,'1'!Titre,0)))","v":""},{"$f":"IF($B30=\"\",\"\",INDEX(INDIRECT(\"'\"&$A$2&\"'!$A:$I\"),MATCH($B30,INDIRECT(\"'\"&$A$2&\"'!$A:$A\"),0),MATCH(H$9,'1'!Titre,0)))","v":""},{"$f":"IF($B30=\"\",\"\",IF(INDEX(INDIRECT(\"'\"&$A$2&\"'!$A:$I\"),MATCH($B30,INDIRECT(\"'\"&$A$2&\"'!$A:$A\"),0),MATCH(\"SIGNATURE\",'1'!Titre,0))=\"\",IF(COUNTIF($B$10:$B120,$B30)>1,COUNTIF($B$10:$B120,$B30),\"\"),INDEX(INDIRECT(\"'\"&$A$2&\"'!$A:$I\"),MATCH($B30,INDIRECT(\"'\"&$A$2&\"'!$A:$A\"),0),MATCH(\"SIGNATURE\",'1'!Titre,0))))","v":""}]
[22,null,{"$f":"IF($B31=\"\",\"\",INDEX(INDIRECT(\"'\"&$A$2&\"'!$A:$I\"),MATCH($B31,INDIRECT(\"'\"&$A$2&\"'!$A:$A\"),0),MATCH(C$9,'1'!Titre,0)))","v":""},{"$f":"IF($B31=\"\",\"\",INDEX(INDIRECT(\"'\"&$A$2&\"'!$A:$I\"),MATCH($B31,INDIRECT(\"'\"&$A$2&\"'!$A:$A\"),0),MATCH(D$9,'1'!Titre,0)))","v":""},{"$f":"IF($B31=\"\",\"\",INDEX(INDIRECT(\"'\"&$A$2&\"'!$A:$I\"),MATCH($B31,INDIRECT(\"'\"&$A$2&\"'!$A:$A\"),0),MATCH(E$9,'1'!Titre,0)))","v":""},{"$f":"IF($B31=\"\",\"\",INDEX(INDIRECT(\"'\"&$A$2&\"'!$A:$I\"),MATCH($B31,INDIRECT(\"'\"&$A$2&\"'!$A:$A\"),0),MATCH(F$9,'1'!Titre,0)))","v":""},{"$f":"IF($B31=\"\",\"\",INDEX(INDIRECT(\"'\"&$A$2&\"'!$A:$I\"),MATCH($B31,INDIRECT(\"'\"&$A$2&\"'!$A:$A\"),0),MATCH(G$9,'1'!Titre,0)))","v":""},{"$f":"IF($B31=\"\",\"\",INDEX(INDIRECT(\"'\"&$A$2&\"'!$A:$I\"),MATCH($B31,INDIRECT(\"'\"&$A$2&\"'!$A:$A\"),0),MATCH(H$9,'1'!Titre,0)))","v":""},{"$f":"IF($B31=\"\",\"\",IF(INDEX(INDIRECT(\"'\"&$A$2&\"'!$A:$I\"),MATCH($B31,INDIRECT(\"'\"&$A$2&\"'!$A:$A\"),0),MATCH(\"SIGNATURE\",'1'!Titre,0))=\"\",IF(COUNTIF($B$10:$B121,$B31)>1,COUNTIF($B$10:$B121,$B31),\"\"),INDEX(INDIRECT(\"'\"&$A$2&\"'!$A:$I\"),MATCH($B31,INDIRECT(\"'\"&$A$2&\"'!$A:$A\"),0),MATCH(\"SIGNATURE\",'1'!Titre,0))))","v":""}]
[23,null,{"$f":"IF($B32=\"\",\"\",INDEX(INDIRECT(\"'\"&$A$2&\"'!$A:$I\"),MATCH($B32,INDIRECT(\"'\"&$A$2&\"'!$A:$A\"),0),MATCH(C$9,'1'!Titre,0)))","v":""},{"$f":"IF($B32=\"\",\"\",INDEX(INDIRECT(\"'\"&$A$2&\"'!$A:$I\"),MATCH($B32,INDIRECT(\"'\"&$A$2&\"'!$A:$A\"),0),MATCH(D$9,'1'!Titre,0)))","v":""},{"$f":"IF($B32=\"\",\"\",INDEX(INDIRECT(\"'\"&$A$2&\"'!$A:$I\"),MATCH($B32,INDIRECT(\"'\"&$A$2&\"'!$A:$A\"),0),MATCH(E$9,'1'!Titre,0)))","v":""},{"$f":"IF($B32=\"\",\"\",INDEX(INDIRECT(\"'\"&$A$2&\"'!$A:$I\"),MATCH($B32,INDIRECT(\"'\"&$A$2&\"'!$A:$A\"),0),MATCH(F$9,'1'!Titre,0)))","v":""},{"$f":"IF($B32=\"\",\"\",INDEX(INDIRECT(\"'\"&$A$2&\"'!$A:$I\"),MATCH($B32,INDIRECT(\"'\"&$A$2&\"'!$A:$A\"),0),MATCH(G$9,'1'!Titre,0)))","v":""},{"$f":"IF($B32=\"\",\"\",INDEX(INDIRECT(\"'\"&$A$2&\"'!$A:$I\"),MATCH($B32,INDIRECT(\"'\"&$A$2&\"'!$A:$A\"),0),MATCH(H$9,'1'!Titre,0)))","v":""},{"$f":"IF($B32=\"\",\"\",IF(INDEX(INDIRECT(\"'\"&$A$2&\"'!$A:$I\"),MATCH($B32,INDIRECT(\"'\"&$A$2&\"'!$A:$A\"),0),MATCH(\"SIGNATURE\",'1'!Titre,0))=\"\",IF(COUNTIF($B$10:$B122,$B32)>1,COUNTIF($B$10:$B122,$B32),\"\"),INDEX(INDIRECT(\"'\"&$A$2&\"'!$A:$I\"),MATCH($B32,INDIRECT(\"'\"&$A$2&\"'!$A:$A\"),0),MATCH(\"SIGNATURE\",'1'!Titre,0))))","v":""}]
[24,null,{"$f":"IF($B33=\"\",\"\",INDEX(INDIRECT(\"'\"&$A$2&\"'!$A:$I\"),MATCH($B33,INDIRECT(\"'\"&$A$2&\"'!$A:$A\"),0),MATCH(C$9,'1'!Titre,0)))","v":""},{"$f":"IF($B33=\"\",\"\",INDEX(INDIRECT(\"'\"&$A$2&\"'!$A:$I\"),MATCH($B33,INDIRECT(\"'\"&$A$2&\"'!$A:$A\"),0),MATCH(D$9,'1'!Titre,0)))","v":""},{"$f":"IF($B33=\"\",\"\",INDEX(INDIRECT(\"'\"&$A$2&\"'!$A:$I\"),MATCH($B33,INDIRECT(\"'\"&$A$2&\"'!$A:$A\"),0),MATCH(E$9,'1'!Titre,0)))","v":""},{"$f":"IF($B33=\"\",\"\",INDEX(INDIRECT(\"'\"&$A$2&\"'!$A:$I\"),MATCH($B33,INDIRECT(\"'\"&$A$2&\"'!$A:$A\"),0),MATCH(F$9,'1'!Titre,0)))","v":""},{"$f":"IF($B33=\"\",\"\",INDEX(INDIRECT(\"'\"&$A$2&\"'!$A:$I\"),MATCH($B33,INDIRECT(\"'\"&$A$2&\"'!$A:$A\"),0),MATCH(G$9,'1'!Titre,0)))","v":""},{"$f":"IF($B33=\"\",\"\",INDEX(INDIRECT(\"'\"&$A$2&\"'!$A:$I\"),MATCH($B33,INDIRECT(\"'\"&$A$2&\"'!$A:$A\"),0),MATCH(H$9,'1'!Titre,0)))","v":""},{"$f":"IF($B33=\"\",\"\",IF(INDEX(INDIRECT(\"'\"&$A$2&\"'!$A:$I\"),MATCH($B33,INDIRECT(\"'\"&$A$2&\"'!$A:$A\"),0),MATCH(\"SIGNATURE\",'1'!Titre,0))=\"\",IF(COUNTIF($B$10:$B123,$B33)>1,COUNTIF($B$10:$B123,$B33),\"\"),INDEX(INDIRECT(\"'\"&$A$2&\"'!$A:$I\"),MATCH($B33,INDIRECT(\"'\"&$A$2&\"'!$A:$A\"),0),MATCH(\"SIGNATURE\",'1'!Titre,0))))","v":""}]
[25,null,{"$f":"IF($B34=\"\",\"\",INDEX(INDIRECT(\"'\"&$A$2&\"'!$A:$I\"),MATCH($B34,INDIRECT(\"'\"&$A$2&\"'!$A:$A\"),0),MATCH(C$9,'1'!Titre,0)))","v":""},{"$f":"IF($B34=\"\",\"\",INDEX(INDIRECT(\"'\"&$A$2&\"'!$A:$I\"),MATCH($B34,INDIRECT(\"'\"&$A$2&\"'!$A:$A\"),0),MATCH(D$9,'1'!Titre,0)))","v":""},{"$f":"IF($B34=\"\",\"\",INDEX(INDIRECT(\"'\"&$A$2&\"'!$A:$I\"),MATCH($B34,INDIRECT(\"'\"&$A$2&\"'!$A:$A\"),0),MATCH(E$9,'1'!Titre,0)))","v":""},{"$f":"IF($B34=\"\",\"\",INDEX(INDIRECT(\"'\"&$A$2&\"'!$A:$I\"),MATCH($B34,INDIRECT(\"'\"&$A$2&\"'!$A:$A\"),0),MATCH(F$9,'1'!Titre,0)))","v":""},{"$f":"IF($B34=\"\",\"\",INDEX(INDIRECT(\"'\"&$A$2&\"'!$A:$I\"),MATCH($B34,INDIRECT(\"'\"&$A$2&\"'!$A:$A\"),0),MATCH(G$9,'1'!Titre,0)))","v":""},{"$f":"IF($B34=\"\",\"\",INDEX(INDIRECT(\"'\"&$A$2&\"'!$A:$I\"),MATCH($B34,INDIRECT(\"'\"&$A$2&\"'!$A:$A\"),0),MATCH(H$9,'1'!Titre,0)))","v":""},{"$f":"IF($B34=\"\",\"\",IF(INDEX(INDIRECT(\"'\"&$A$2&\"'!$A:$I\"),MATCH($B34,INDIRECT(\"'\"&$A$2&\"'!$A:$A\"),0),MATCH(\"SIGNATURE\",'1'!Titre,0))=\"\",IF(COUNTIF($B$10:$B124,$B34)>1,COUNTIF($B$10:$B124,$B34),\"\"),INDEX(INDIRECT(\"'\"&$A$2&\"'!$A:$I\"),MATCH($B34,INDIRECT(\"'\"&$A$2&\"'!$A:$A\"),0),MATCH(\"SIGNATURE\",'1'!Titre,0))))","v":""}]
[26,null,{"$f":"IF($B35=\"\",\"\",INDEX(INDIRECT(\"'\"&$A$2&\"'!$A:$I\"),MATCH($B35,INDIRECT(\"'\"&$A$2&\"'!$A:$A\"),0),MATCH(C$9,'1'!Titre,0)))","v":""},{"$f":"IF($B35=\"\",\"\",INDEX(INDIRECT(\"'\"&$A$2&\"'!$A:$I\"),MATCH($B35,INDIRECT(\"'\"&$A$2&\"'!$A:$A\"),0),MATCH(D$9,'1'!Titre,0)))","v":""},{"$f":"IF($B35=\"\",\"\",INDEX(INDIRECT(\"'\"&$A$2&\"'!$A:$I\"),MATCH($B35,INDIRECT(\"'\"&$A$2&\"'!$A:$A\"),0),MATCH(E$9,'1'!Titre,0)))","v":""},{"$f":"IF($B35=\"\",\"\",INDEX(INDIRECT(\"'\"&$A$2&\"'!$A:$I\"),MATCH($B35,INDIRECT(\"'\"&$A$2&\"'!$A:$A\"),0),MATCH(F$9,'1'!Titre,0)))","v":""},{"$f":"IF($B35=\"\",\"\",INDEX(INDIRECT(\"'\"&$A$2&\"'!$A:$I\"),MATCH($B35,INDIRECT(\"'\"&$A$2&\"'!$A:$A\"),0),MATCH(G$9,'1'!Titre,0)))","v":""},{"$f":"IF($B35=\"\",\"\",INDEX(INDIRECT(\"'\"&$A$2&\"'!$A:$I\"),MATCH($B35,INDIRECT(\"'\"&$A$2&\"'!$A:$A\"),0),MATCH(H$9,'1'!Titre,0)))","v":""},{"$f":"IF($B35=\"\",\"\",IF(INDEX(INDIRECT(\"'\"&$A$2&\"'!$A:$I\"),MATCH($B35,INDIRECT(\"'\"&$A$2&\"'!$A:$A\"),0),MATCH(\"SIGNATURE\",'1'!Titre,0))=\"\",IF(COUNTIF($B$10:$B125,$B35)>1,COUNTIF($B$10:$B125,$B35),\"\"),INDEX(INDIRECT(\"'\"&$A$2&\"'!$A:$I\"),MATCH($B35,INDIRECT(\"'\"&$A$2&\"'!$A:$A\"),0),MATCH(\"SIGNATURE\",'1'!Titre,0))))","v":""}]
[27,null,{"$f":"IF($B36=\"\",\"\",INDEX(INDIRECT(\"'\"&$A$2&\"'!$A:$I\"),MATCH($B36,INDIRECT(\"'\"&$A$2&\"'!$A:$A\"),0),MATCH(C$9,'1'!Titre,0)))","v":""},{"$f":"IF($B36=\"\",\"\",INDEX(INDIRECT(\"'\"&$A$2&\"'!$A:$I\"),MATCH($B36,INDIRECT(\"'\"&$A$2&\"'!$A:$A\"),0),MATCH(D$9,'1'!Titre,0)))","v":""},{"$f":"IF($B36=\"\",\"\",INDEX(INDIRECT(\"'\"&$A$2&\"'!$A:$I\"),MATCH($B36,INDIRECT(\"'\"&$A$2&\"'!$A:$A\"),0),MATCH(E$9,'1'!Titre,0)))","v":""},{"$f":"IF($B36=\"\",\"\",INDEX(INDIRECT(\"'\"&$A$2&\"'!$A:$I\"),MATCH($B36,INDIRECT(\"'\"&$A$2&\"'!$A:$A\"),0),MATCH(F$9,'1'!Titre,0)))","v":""},{"$f":"IF($B36=\"\",\"\",INDEX(INDIRECT(\"'\"&$A$2&\"'!$A:$I\"),MATCH($B36,INDIRECT(\"'\"&$A$2&\"'!$A:$A\"),0),MATCH(G$9,'1'!Titre,0)))","v":""},{"$f":"IF($B36=\"\",\"\",INDEX(INDIRECT(\"'\"&$A$2&\"'!$A:$I\"),MATCH($B36,INDIRECT(\"'\"&$A$2&\"'!$A:$A\"),0),MATCH(H$9,'1'!Titre,0)))","v":""},{"$f":"IF($B36=\"\",\"\",IF(INDEX(INDIRECT(\"'\"&$A$2&\"'!$A:$I\"),MATCH($B36,INDIRECT(\"'\"&$A$2&\"'!$A:$A\"),0),MATCH(\"SIGNATURE\",'1'!Titre,0))=\"\",IF(COUNTIF($B$10:$B126,$B36)>1,COUNTIF($B$10:$B126,$B36),\"\"),INDEX(INDIRECT(\"'\"&$A$2&\"'!$A:$I\"),MATCH($B36,INDIRECT(\"'\"&$A$2&\"'!$A:$A\"),0),MATCH(\"SIGNATURE\",'1'!Titre,0))))","v":""}]
[28,null,{"$f":"IF($B37=\"\",\"\",INDEX(INDIRECT(\"'\"&$A$2&\"'!$A:$I\"),MATCH($B37,INDIRECT(\"'\"&$A$2&\"'!$A:$A\"),0),MATCH(C$9,'1'!Titre,0)))","v":""},{"$f":"IF($B37=\"\",\"\",INDEX(INDIRECT(\"'\"&$A$2&\"'!$A:$I\"),MATCH($B37,INDIRECT(\"'\"&$A$2&\"'!$A:$A\"),0),MATCH(D$9,'1'!Titre,0)))","v":""},{"$f":"IF($B37=\"\",\"\",INDEX(INDIRECT(\"'\"&$A$2&\"'!$A:$I\"),MATCH($B37,INDIRECT(\"'\"&$A$2&\"'!$A:$A\"),0),MATCH(E$9,'1'!Titre,0)))","v":""},{"$f":"IF($B37=\"\",\"\",INDEX(INDIRECT(\"'\"&$A$2&\"'!$A:$I\"),MATCH($B37,INDIRECT(\"'\"&$A$2&\"'!$A:$A\"),0),MATCH(F$9,'1'!Titre,0)))","v":""},{"$f":"IF($B37=\"\",\"\",INDEX(INDIRECT(\"'\"&$A$2&\"'!$A:$I\"),MATCH($B37,INDIRECT(\"'\"&$A$2&\"'!$A:$A\"),0),MATCH(G$9,'1'!Titre,0)))","v":""},{"$f":"IF($B37=\"\",\"\",INDEX(INDIRECT(\"'\"&$A$2&\"'!$A:$I\"),MATCH($B37,INDIRECT(\"'\"&$A$2&\"'!$A:$A\"),0),MATCH(H$9,'1'!Titre,0)))","v":""},{"$f":"IF($B37=\"\",\"\",IF(INDEX(INDIRECT(\"'\"&$A$2&\"'!$A:$I\"),MATCH($B37,INDIRECT(\"'\"&$A$2&\"'!$A:$A\"),0),MATCH(\"SIGNATURE\",'1'!Titre,0))=\"\",IF(COUNTIF($B$10:$B127,$B37)>1,COUNTIF($B$10:$B127,$B37),\"\"),INDEX(INDIRECT(\"'\"&$A$2&\"'!$A:$I\"),MATCH($B37,INDIRECT(\"'\"&$A$2&\"'!$A:$A\"),0),MATCH(\"SIGNATURE\",'1'!Titre,0))))","v":""}]
[29,null,{"$f":"IF($B38=\"\",\"\",INDEX(INDIRECT(\"'\"&$A$2&\"'!$A:$I\"),MATCH($B38,INDIRECT(\"'\"&$A$2&\"'!$A:$A\"),0),MATCH(C$9,'1'!Titre,0)))","v":""},{"$f":"IF($B38=\"\",\"\",INDEX(INDIRECT(\"'\"&$A$2&\"'!$A:$I\"),MATCH($B38,INDIRECT(\"'\"&$A$2&\"'!$A:$A\"),0),MATCH(D$9,'1'!Titre,0)))","v":""},{"$f":"IF($B38=\"\",\"\",INDEX(INDIRECT(\"'\"&$A$2&\"'!$A:$I\"),MATCH($B38,INDIRECT(\"'\"&$A$2&\"'!$A:$A\"),0),MATCH(E$9,'1'!Titre,0)))","v":""},{"$f":"IF($B38=\"\",\"\",INDEX(INDIRECT(\"'\"&$A$2&\"'!$A:$I\"),MATCH($B38,INDIRECT(\"'\"&$A$2&\"'!$A:$A\"),0),MATCH(F$9,'1'!Titre,0)))","v":""},{"$f":"IF($B38=\"\",\"\",INDEX(INDIRECT(\"'\"&$A$2&\"'!$A:$I\"),MATCH($B38,INDIRECT(\"'\"&$A$2&\"'!$A:$A\"),0),MATCH(G$9,'1'!Titre,0)))","v":""},{"$f":"IF($B38=\"\",\"\",INDEX(INDIRECT(\"'\"&$A$2&\"'!$A:$I\"),MATCH($B38,INDIRECT(\"'\"&$A$2&\"'!$A:$A\"),0),MATCH(H$9,'1'!Titre,0)))","v":""},{"$f":"IF($B38=\"\",\"\",IF(INDEX(INDIRECT(\"'\"&$A$2&\"'!$A:$I\"),MATCH($B38,INDIRECT(\"'\"&$A$2&\"'!$A:$A\"),0),MATCH(\"SIGNATURE\",'1'!Titre,0))=\"\",IF(COUNTIF($B$10:$B128,$B38)>1,COUNTIF($B$10:$B128,$B38),\"\"),INDEX(INDIRECT(\"'\"&$A$2&\"'!$A:$I\"),MATCH($B38,INDIRECT(\"'\"&$A$2&\"'!$A:$A\"),0),MATCH(\"SIGNATURE\",'1'!Titre,0))))","v":""}]
[30,null,{"$f":"IF($B39=\"\",\"\",INDEX(INDIRECT(\"'\"&$A$2&\"'!$A:$I\"),MATCH($B39,INDIRECT(\"'\"&$A$2&\"'!$A:$A\"),0),MATCH(C$9,'1'!Titre,0)))","v":""},{"$f":"IF($B39=\"\",\"\",INDEX(INDIRECT(\"'\"&$A$2&\"'!$A:$I\"),MATCH($B39,INDIRECT(\"'\"&$A$2&\"'!$A:$A\"),0),MATCH(D$9,'1'!Titre,0)))","v":""},{"$f":"IF($B39=\"\",\"\",INDEX(INDIRECT(\"'\"&$A$2&\"'!$A:$I\"),MATCH($B39,INDIRECT(\"'\"&$A$2&\"'!$A:$A\"),0),MATCH(E$9,'1'!Titre,0)))","v":""},{"$f":"IF($B39=\"\",\"\",INDEX(INDIRECT(\"'\"&$A$2&\"'!$A:$I\"),MATCH($B39,INDIRECT(\"'\"&$A$2&\"'!$A:$A\"),0),MATCH(F$9,'1'!Titre,0)))","v":""},{"$f":"IF($B39=\"\",\"\",INDEX(INDIRECT(\"'\"&$A$2&\"'!$A:$I\"),MATCH($B39,INDIRECT(\"'\"&$A$2&\"'!$A:$A\"),0),MATCH(G$9,'1'!Titre,0)))","v":""},{"$f":"IF($B39=\"\",\"\",INDEX(INDIRECT(\"'\"&$A$2&\"'!$A:$I\"),MATCH($B39,INDIRECT(\"'\"&$A$2&\"'!$A:$A\"),0),MATCH(H$9,'1'!Titre,0)))","v":""},{"$f":"IF($B39=\"\",\"\",IF(INDEX(INDIRECT(\"'\"&$A$2&\"'!$A:$I\"),MATCH($B39,INDIRECT(\"'\"&$A$2&\"'!$A:$A\"),0),MATCH(\"SIGNATURE\",'1'!Titre,0))=\"\",IF(COUNTIF($B$10:$B129,$B39)>1,COUNTIF($B$10:$B129,$B39),\"\"),INDEX(INDIRECT(\"'\"&$A$2&\"'!$A:$I\"),MATCH($B39,INDIRECT(\"'\"&$A$2&\"'!$A:$A\"),0),MATCH(\"SIGNATURE\",'1'!Titre,0))))","v":""}]

{"sheet":"3_classement","index":16,"n_rows":39,"n_cols":9,"rows_kept":39,"cut":false,"hidden":false,"merged":[[6,3,6,7],[0,1,0,7],[2,3,2,7],[3,3,3,7],[4,3,4,7],[5,3,5,7]]}
[{"$f":"RIGHT(CELL(\"nomfichier\",A1),LEN(CELL(\"nomfichier\",A1)) - FIND(\"]\",CELL(\"nomfichier\",A1)))","v":"3_classement"},"CLASSEMENTS"]
[{"$f":"LEFT($A$1,FIND(\"_classement\",$A$1)-1)","v":"3"}]
[null,null,"Club organisateur :",{"$f":"IF(club=\"\",\"\",club)","v":""}]
[null,null,"Lieu de l'épreuve :",{"$f":"IF(lieu=\"\",\"\",lieu)","v":""}]
[null,null,"Date de l'épreuve :",{"$f":"IF(date_epreuve=\"\",\"\",date_epreuve)","v":""}]
[null,null,"Catégorie :","3ème catégorie"]
[null,null,"Nb de partants :",{"$f":"COUNTIFS(INDIRECT(\"'\"&$A2&\"'!$B$9:$B$100\"),\"><\",INDIRECT(\"'\"&$A2&\"'!$i$9:$i$100\"),\"<>Non Partant\")","v":0}]
[]
["PLACE","N°","NOM  PRENOM","M/F","FEDERATION","CATE.","CLUB","DEP."]
[1,null,{"$f":"IF($B10=\"\",\"\",INDEX(INDIRECT(\"'\"&$A$2&\"'!$A:$I\"),MATCH($B10,INDIRECT(\"'\"&$A$2&\"'!$A:$A\"),0),MATCH(C$9,'1'!Titre,0)))","v":""},{"$f":"IF($B10=\"\",\"\",INDEX(INDIRECT(\"'\"&$A$2&\"'!$A:$I\"),MATCH($B10,INDIRECT(\"'\"&$A$2&\"'!$A:$A\"),0),MATCH(D$9,'1'!Titre,0)))","v":""},{"$f":"IF($B10=\"\",\"\",INDEX(INDIRECT(\"'\"&$A$2&\"'!$A:$I\"),MATCH($B10,INDIRECT(\"'\"&$A$2&\"'!$A:$A\"),0),MATCH(E$9,'1'!Titre,0)))","v":""},{"$f":"IF($B10=\"\",\"\",INDEX(INDIRECT(\"'\"&$A$2&\"'!$A:$I\"),MATCH($B10,INDIRECT(\"'\"&$A$2&\"'!$A:$A\"),0),MATCH(F$9,'1'!Titre,0)))","v":""},{"$f":"IF($B10=\"\",\"\",INDEX(INDIRECT(\"'\"&$A$2&\"'!$A:$I\"),MATCH($B10,INDIRECT(\"'\"&$A$2&\"'!$A:$A\"),0),MATCH(G$9,'1'!Titre,0)))","v":""},{"$f":"IF($B10=\"\",\"\",INDEX(INDIRECT(\"'\"&$A$2&\"'!$A:$I\"),MATCH($B10,INDIRECT(\"'\"&$A$2&\"'!$A:$A\"),0),MATCH(H$9,'1'!Titre,0)))","v":""},{"$f":"IF($B10=\"\",\"\",IF(INDEX(INDIRECT(\"'\"&$A$2&\"'!$A:$I\"),MATCH($B10,INDIRECT(\"'\"&$A$2&\"'!$A:$A\"),0),MATCH(\"SIGNATURE\",'1'!Titre,0))=\"\",IF(COUNTIF($B$10:$B100,$B10)>1,COUNTIF($B$10:$B100,$B10),\"\"),INDEX(INDIRECT(\"'\"&$A$2&\"'!$A:$I\"),MATCH($B10,INDIRECT(\"'\"&$A$2&\"'!$A:$A\"),0),MATCH(\"SIGNATURE\",'1'!Titre,0))))","v":""}]
[2,null,{"$f":"IF($B11=\"\",\"\",INDEX(INDIRECT(\"'\"&$A$2&\"'!$A:$I\"),MATCH($B11,INDIRECT(\"'\"&$A$2&\"'!$A:$A\"),0),MATCH(C$9,'1'!Titre,0)))","v":""},{"$f":"IF($B11=\"\",\"\",INDEX(INDIRECT(\"'\"&$A$2&\"'!$A:$I\"),MATCH($B11,INDIRECT(\"'\"&$A$2&\"'!$A:$A\"),0),MATCH(D$9,'1'!Titre,0)))","v":""},{"$f":"IF($B11=\"\",\"\",INDEX(INDIRECT(\"'\"&$A$2&\"'!$A:$I\"),MATCH($B11,INDIRECT(\"'\"&$A$2&\"'!$A:$A\"),0),MATCH(E$9,'1'!Titre,0)))","v":""},{"$f":"IF($B11=\"\",\"\",INDEX(INDIRECT(\"'\"&$A$2&\"'!$A:$I\"),MATCH($B11,INDIRECT(\"'\"&$A$2&\"'!$A:$A\"),0),MATCH(F$9,'1'!Titre,0)))","v":""},{"$f":"IF($B11=\"\",\"\",INDEX(INDIRECT(\"'\"&$A$2&\"'!$A:$I\"),MATCH($B11,INDIRECT(\"'\"&$A$2&\"'!$A:$A\"),0),MATCH(G$9,'1'!Titre,0)))","v":""},{"$f":"IF($B11=\"\",\"\",INDEX(INDIRECT(\"'\"&$A$2&\"'!$A:$I\"),MATCH($B11,INDIRECT(\"'\"&$A$2&\"'!$A:$A\"),0),MATCH(H$9,'1'!Titre,0)))","v":""},{"$f":"IF($B11=\"\",\"\",IF(INDEX(INDIRECT(\"'\"&$A$2&\"'!$A:$I\"),MATCH($B11,INDIRECT(\"'\"&$A$2&\"'!$A:$A\"),0),MATCH(\"SIGNATURE\",'1'!Titre,0))=\"\",IF(COUNTIF($B$10:$B101,$B11)>1,COUNTIF($B$10:$B101,$B11),\"\"),INDEX(INDIRECT(\"'\"&$A$2&\"'!$A:$I\"),MATCH($B11,INDIRECT(\"'\"&$A$2&\"'!$A:$A\"),0),MATCH(\"SIGNATURE\",'1'!Titre,0))))","v":""}]
[3,null,{"$f":"IF($B12=\"\",\"\",INDEX(INDIRECT(\"'\"&$A$2&\"'!$A:$I\"),MATCH($B12,INDIRECT(\"'\"&$A$2&\"'!$A:$A\"),0),MATCH(C$9,'1'!Titre,0)))","v":""},{"$f":"IF($B12=\"\",\"\",INDEX(INDIRECT(\"'\"&$A$2&\"'!$A:$I\"),MATCH($B12,INDIRECT(\"'\"&$A$2&\"'!$A:$A\"),0),MATCH(D$9,'1'!Titre,0)))","v":""},{"$f":"IF($B12=\"\",\"\",INDEX(INDIRECT(\"'\"&$A$2&\"'!$A:$I\"),MATCH($B12,INDIRECT(\"'\"&$A$2&\"'!$A:$A\"),0),MATCH(E$9,'1'!Titre,0)))","v":""},{"$f":"IF($B12=\"\",\"\",INDEX(INDIRECT(\"'\"&$A$2&\"'!$A:$I\"),MATCH($B12,INDIRECT(\"'\"&$A$2&\"'!$A:$A\"),0),MATCH(F$9,'1'!Titre,0)))","v":""},{"$f":"IF($B12=\"\",\"\",INDEX(INDIRECT(\"'\"&$A$2&\"'!$A:$I\"),MATCH($B12,INDIRECT(\"'\"&$A$2&\"'!$A:$A\"),0),MATCH(G$9,'1'!Titre,0)))","v":""},{"$f":"IF($B12=\"\",\"\",INDEX(INDIRECT(\"'\"&$A$2&\"'!$A:$I\"),MATCH($B12,INDIRECT(\"'\"&$A$2&\"'!$A:$A\"),0),MATCH(H$9,'1'!Titre,0)))","v":""},{"$f":"IF($B12=\"\",\"\",IF(INDEX(INDIRECT(\"'\"&$A$2&\"'!$A:$I\"),MATCH($B12,INDIRECT(\"'\"&$A$2&\"'!$A:$A\"),0),MATCH(\"SIGNATURE\",'1'!Titre,0))=\"\",IF(COUNTIF($B$10:$B102,$B12)>1,COUNTIF($B$10:$B102,$B12),\"\"),INDEX(INDIRECT(\"'\"&$A$2&\"'!$A:$I\"),MATCH($B12,INDIRECT(\"'\"&$A$2&\"'!$A:$A\"),0),MATCH(\"SIGNATURE\",'1'!Titre,0))))","v":""}]
[4,null,{"$f":"IF($B13=\"\",\"\",INDEX(INDIRECT(\"'\"&$A$2&\"'!$A:$I\"),MATCH($B13,INDIRECT(\"'\"&$A$2&\"'!$A:$A\"),0),MATCH(C$9,'1'!Titre,0)))","v":""},{"$f":"IF($B13=\"\",\"\",INDEX(INDIRECT(\"'\"&$A$2&\"'!$A:$I\"),MATCH($B13,INDIRECT(\"'\"&$A$2&\"'!$A:$A\"),0),MATCH(D$9,'1'!Titre,0)))","v":""},{"$f":"IF($B13=\"\",\"\",INDEX(INDIRECT(\"'\"&$A$2&\"'!$A:$I\"),MATCH($B13,INDIRECT(\"'\"&$A$2&\"'!$A:$A\"),0),MATCH(E$9,'1'!Titre,0)))","v":""},{"$f":"IF($B13=\"\",\"\",INDEX(INDIRECT(\"'\"&$A$2&\"'!$A:$I\"),MATCH($B13,INDIRECT(\"'\"&$A$2&\"'!$A:$A\"),0),MATCH(F$9,'1'!Titre,0)))","v":""},{"$f":"IF($B13=\"\",\"\",INDEX(INDIRECT(\"'\"&$A$2&\"'!$A:$I\"),MATCH($B13,INDIRECT(\"'\"&$A$2&\"'!$A:$A\"),0),MATCH(G$9,'1'!Titre,0)))","v":""},{"$f":"IF($B13=\"\",\"\",INDEX(INDIRECT(\"'\"&$A$2&\"'!$A:$I\"),MATCH($B13,INDIRECT(\"'\"&$A$2&\"'!$A:$A\"),0),MATCH(H$9,'1'!Titre,0)))","v":""},{"$f":"IF($B13=\"\",\"\",IF(INDEX(INDIRECT(\"'\"&$A$2&\"'!$A:$I\"),MATCH($B13,INDIRECT(\"'\"&$A$2&\"'!$A:$A\"),0),MATCH(\"SIGNATURE\",'1'!Titre,0))=\"\",IF(COUNTIF($B$10:$B103,$B13)>1,COUNTIF($B$10:$B103,$B13),\"\"),INDEX(INDIRECT(\"'\"&$A$2&\"'!$A:$I\"),MATCH($B13,INDIRECT(\"'\"&$A$2&\"'!$A:$A\"),0),MATCH(\"SIGNATURE\",'1'!Titre,0))))","v":""}]
[5,null,{"$f":"IF($B14=\"\",\"\",INDEX(INDIRECT(\"'\"&$A$2&\"'!$A:$I\"),MATCH($B14,INDIRECT(\"'\"&$A$2&\"'!$A:$A\"),0),MATCH(C$9,'1'!Titre,0)))","v":""},{"$f":"IF($B14=\"\",\"\",INDEX(INDIRECT(\"'\"&$A$2&\"'!$A:$I\"),MATCH($B14,INDIRECT(\"'\"&$A$2&\"'!$A:$A\"),0),MATCH(D$9,'1'!Titre,0)))","v":""},{"$f":"IF($B14=\"\",\"\",INDEX(INDIRECT(\"'\"&$A$2&\"'!$A:$I\"),MATCH($B14,INDIRECT(\"'\"&$A$2&\"'!$A:$A\"),0),MATCH(E$9,'1'!Titre,0)))","v":""},{"$f":"IF($B14=\"\",\"\",INDEX(INDIRECT(\"'\"&$A$2&\"'!$A:$I\"),MATCH($B14,INDIRECT(\"'\"&$A$2&\"'!$A:$A\"),0),MATCH(F$9,'1'!Titre,0)))","v":""},{"$f":"IF($B14=\"\",\"\",INDEX(INDIRECT(\"'\"&$A$2&\"'!$A:$I\"),MATCH($B14,INDIRECT(\"'\"&$A$2&\"'!$A:$A\"),0),MATCH(G$9,'1'!Titre,0)))","v":""},{"$f":"IF($B14=\"\",\"\",INDEX(INDIRECT(\"'\"&$A$2&\"'!$A:$I\"),MATCH($B14,INDIRECT(\"'\"&$A$2&\"'!$A:$A\"),0),MATCH(H$9,'1'!Titre,0)))","v":""},{"$f":"IF($B14=\"\",\"\",IF(INDEX(INDIRECT(\"'\"&$A$2&\"'!$A:$I\"),MATCH($B14,INDIRECT(\"'\"&$A$2&\"'!$A:$A\"),0),MATCH(\"SIGNATURE\",'1'!Titre,0))=\"\",IF(COUNTIF($B$10:$B104,$B14)>1,COUNTIF($B$10:$B104,$B14),\"\"),INDEX(INDIRECT(\"'\"&$A$2&\"'!$A:$I\"),MATCH($B14,INDIRECT(\"'\"&$A$2&\"'!$A:$A\"),0),MATCH(\"SIGNATURE\",'1'!Titre,0))))","v":""}]
[6,null,{"$f":"IF($B15=\"\",\"\",INDEX(INDIRECT(\"'\"&$A$2&\"'!$A:$I\"),MATCH($B15,INDIRECT(\"'\"&$A$2&\"'!$A:$A\"),0),MATCH(C$9,'1'!Titre,0)))","v":""},{"$f":"IF($B15=\"\",\"\",INDEX(INDIRECT(\"'\"&$A$2&\"'!$A:$I\"),MATCH($B15,INDIRECT(\"'\"&$A$2&\"'!$A:$A\"),0),MATCH(D$9,'1'!Titre,0)))","v":""},{"$f":"IF($B15=\"\",\"\",INDEX(INDIRECT(\"'\"&$A$2&\"'!$A:$I\"),MATCH($B15,INDIRECT(\"'\"&$A$2&\"'!$A:$A\"),0),MATCH(E$9,'1'!Titre,0)))","v":""},{"$f":"IF($B15=\"\",\"\",INDEX(INDIRECT(\"'\"&$A$2&\"'!$A:$I\"),MATCH($B15,INDIRECT(\"'\"&$A$2&\"'!$A:$A\"),0),MATCH(F$9,'1'!Titre,0)))","v":""},{"$f":"IF($B15=\"\",\"\",INDEX(INDIRECT(\"'\"&$A$2&\"'!$A:$I\"),MATCH($B15,INDIRECT(\"'\"&$A$2&\"'!$A:$A\"),0),MATCH(G$9,'1'!Titre,0)))","v":""},{"$f":"IF($B15=\"\",\"\",INDEX(INDIRECT(\"'\"&$A$2&\"'!$A:$I\"),MATCH($B15,INDIRECT(\"'\"&$A$2&\"'!$A:$A\"),0),MATCH(H$9,'1'!Titre,0)))","v":""},{"$f":"IF($B15=\"\",\"\",IF(INDEX(INDIRECT(\"'\"&$A$2&\"'!$A:$I\"),MATCH($B15,INDIRECT(\"'\"&$A$2&\"'!$A:$A\"),0),MATCH(\"SIGNATURE\",'1'!Titre,0))=\"\",IF(COUNTIF($B$10:$B105,$B15)>1,COUNTIF($B$10:$B105,$B15),\"\"),INDEX(INDIRECT(\"'\"&$A$2&\"'!$A:$I\"),MATCH($B15,INDIRECT(\"'\"&$A$2&\"'!$A:$A\"),0),MATCH(\"SIGNATURE\",'1'!Titre,0))))","v":""}]
[7,null,{"$f":"IF($B16=\"\",\"\",INDEX(INDIRECT(\"'\"&$A$2&\"'!$A:$I\"),MATCH($B16,INDIRECT(\"'\"&$A$2&\"'!$A:$A\"),0),MATCH(C$9,'1'!Titre,0)))","v":""},{"$f":"IF($B16=\"\",\"\",INDEX(INDIRECT(\"'\"&$A$2&\"'!$A:$I\"),MATCH($B16,INDIRECT(\"'\"&$A$2&\"'!$A:$A\"),0),MATCH(D$9,'1'!Titre,0)))","v":""},{"$f":"IF($B16=\"\",\"\",INDEX(INDIRECT(\"'\"&$A$2&\"'!$A:$I\"),MATCH($B16,INDIRECT(\"'\"&$A$2&\"'!$A:$A\"),0),MATCH(E$9,'1'!Titre,0)))","v":""},{"$f":"IF($B16=\"\",\"\",INDEX(INDIRECT(\"'\"&$A$2&\"'!$A:$I\"),MATCH($B16,INDIRECT(\"'\"&$A$2&\"'!$A:$A\"),0),MATCH(F$9,'1'!Titre,0)))","v":""},{"$f":"IF($B16=\"\",\"\",INDEX(INDIRECT(\"'\"&$A$2&\"'!$A:$I\"),MATCH($B16,INDIRECT(\"'\"&$A$2&\"'!$A:$A\"),0),MATCH(G$9,'1'!Titre,0)))","v":""},{"$f":"IF($B16=\"\",\"\",INDEX(INDIRECT(\"'\"&$A$2&\"'!$A:$I\"),MATCH($B16,INDIRECT(\"'\"&$A$2&\"'!$A:$A\"),0),MATCH(H$9,'1'!Titre,0)))","v":""},{"$f":"IF($B16=\"\",\"\",IF(INDEX(INDIRECT(\"'\"&$A$2&\"'!$A:$I\"),MATCH($B16,INDIRECT(\"'\"&$A$2&\"'!$A:$A\"),0),MATCH(\"SIGNATURE\",'1'!Titre,0))=\"\",IF(COUNTIF($B$10:$B106,$B16)>1,COUNTIF($B$10:$B106,$B16),\"\"),INDEX(INDIRECT(\"'\"&$A$2&\"'!$A:$I\"),MATCH($B16,INDIRECT(\"'\"&$A$2&\"'!$A:$A\"),0),MATCH(\"SIGNATURE\",'1'!Titre,0))))","v":""}]
[8,null,{"$f":"IF($B17=\"\",\"\",INDEX(INDIRECT(\"'\"&$A$2&\"'!$A:$I\"),MATCH($B17,INDIRECT(\"'\"&$A$2&\"'!$A:$A\"),0),MATCH(C$9,'1'!Titre,0)))","v":""},{"$f":"IF($B17=\"\",\"\",INDEX(INDIRECT(\"'\"&$A$2&\"'!$A:$I\"),MATCH($B17,INDIRECT(\"'\"&$A$2&\"'!$A:$A\"),0),MATCH(D$9,'1'!Titre,0)))","v":""},{"$f":"IF($B17=\"\",\"\",INDEX(INDIRECT(\"'\"&$A$2&\"'!$A:$I\"),MATCH($B17,INDIRECT(\"'\"&$A$2&\"'!$A:$A\"),0),MATCH(E$9,'1'!Titre,0)))","v":""},{"$f":"IF($B17=\"\",\"\",INDEX(INDIRECT(\"'\"&$A$2&\"'!$A:$I\"),MATCH($B17,INDIRECT(\"'\"&$A$2&\"'!$A:$A\"),0),MATCH(F$9,'1'!Titre,0)))","v":""},{"$f":"IF($B17=\"\",\"\",INDEX(INDIRECT(\"'\"&$A$2&\"'!$A:$I\"),MATCH($B17,INDIRECT(\"'\"&$A$2&\"'!$A:$A\"),0),MATCH(G$9,'1'!Titre,0)))","v":""},{"$f":"IF($B17=\"\",\"\",INDEX(INDIRECT(\"'\"&$A$2&\"'!$A:$I\"),MATCH($B17,INDIRECT(\"'\"&$A$2&\"'!$A:$A\"),0),MATCH(H$9,'1'!Titre,0)))","v":""},{"$f":"IF($B17=\"\",\"\",IF(INDEX(INDIRECT(\"'\"&$A$2&\"'!$A:$I\"),MATCH($B17,INDIRECT(\"'\"&$A$2&\"'!$A:$A\"),0),MATCH(\"SIGNATURE\",'1'!Titre,0))=\"\",IF(COUNTIF($B$10:$B107,$B17)>1,COUNTIF($B$10:$B107,$B17),\"\"),INDEX(INDIRECT(\"'\"&$A$2&\"'!$A:$I\"),MATCH($B17,INDIRECT(\"'\"&$A$2&\"'!$A:$A\"),0),MATCH(\"SIGNATURE\",'1'!Titre,0))))","v":""}]
[9,null,{"$f":"IF($B18=\"\",\"\",INDEX(INDIRECT(\"'\"&$A$2&\"'!$A:$I\"),MATCH($B18,INDIRECT(\"'\"&$A$2&\"'!$A:$A\"),0),MATCH(C$9,'1'!Titre,0)))","v":""},{"$f":"IF($B18=\"\",\"\",INDEX(INDIRECT(\"'\"&$A$2&\"'!$A:$I\"),MATCH($B18,INDIRECT(\"'\"&$A$2&\"'!$A:$A\"),0),MATCH(D$9,'1'!Titre,0)))","v":""},{"$f":"IF($B18=\"\",\"\",INDEX(INDIRECT(\"'\"&$A$2&\"'!$A:$I\"),MATCH($B18,INDIRECT(\"'\"&$A$2&\"'!$A:$A\"),0),MATCH(E$9,'1'!Titre,0)))","v":""},{"$f":"IF($B18=\"\",\"\",INDEX(INDIRECT(\"'\"&$A$2&\"'!$A:$I\"),MATCH($B18,INDIRECT(\"'\"&$A$2&\"'!$A:$A\"),0),MATCH(F$9,'1'!Titre,0)))","v":""},{"$f":"IF($B18=\"\",\"\",INDEX(INDIRECT(\"'\"&$A$2&\"'!$A:$I\"),MATCH($B18,INDIRECT(\"'\"&$A$2&\"'!$A:$A\"),0),MATCH(G$9,'1'!Titre,0)))","v":""},{"$f":"IF($B18=\"\",\"\",INDEX(INDIRECT(\"'\"&$A$2&\"'!$A:$I\"),MATCH($B18,INDIRECT(\"'\"&$A$2&\"'!$A:$A\"),0),MATCH(H$9,'1'!Titre,0)))","v":""},{"$f":"IF($B18=\"\",\"\",IF(INDEX(INDIRECT(\"'\"&$A$2&\"'!$A:$I\"),MATCH($B18,INDIRECT(\"'\"&$A$2&\"'!$A:$A\"),0),MATCH(\"SIGNATURE\",'1'!Titre,0))=\"\",IF(COUNTIF($B$10:$B108,$B18)>1,COUNTIF($B$10:$B108,$B18),\"\"),INDEX(INDIRECT(\"'\"&$A$2&\"'!$A:$I\"),MATCH($B18,INDIRECT(\"'\"&$A$2&\"'!$A:$A\"),0),MATCH(\"SIGNATURE\",'1'!Titre,0))))","v":""}]
[10,null,{"$f":"IF($B19=\"\",\"\",INDEX(INDIRECT(\"'\"&$A$2&\"'!$A:$I\"),MATCH($B19,INDIRECT(\"'\"&$A$2&\"'!$A:$A\"),0),MATCH(C$9,'1'!Titre,0)))","v":""},{"$f":"IF($B19=\"\",\"\",INDEX(INDIRECT(\"'\"&$A$2&\"'!$A:$I\"),MATCH($B19,INDIRECT(\"'\"&$A$2&\"'!$A:$A\"),0),MATCH(D$9,'1'!Titre,0)))","v":""},{"$f":"IF($B19=\"\",\"\",INDEX(INDIRECT(\"'\"&$A$2&\"'!$A:$I\"),MATCH($B19,INDIRECT(\"'\"&$A$2&\"'!$A:$A\"),0),MATCH(E$9,'1'!Titre,0)))","v":""},{"$f":"IF($B19=\"\",\"\",INDEX(INDIRECT(\"'\"&$A$2&\"'!$A:$I\"),MATCH($B19,INDIRECT(\"'\"&$A$2&\"'!$A:$A\"),0),MATCH(F$9,'1'!Titre,0)))","v":""},{"$f":"IF($B19=\"\",\"\",INDEX(INDIRECT(\"'\"&$A$2&\"'!$A:$I\"),MATCH($B19,INDIRECT(\"'\"&$A$2&\"'!$A:$A\"),0),MATCH(G$9,'1'!Titre,0)))","v":""},{"$f":"IF($B19=\"\",\"\",INDEX(INDIRECT(\"'\"&$A$2&\"'!$A:$I\"),MATCH($B19,INDIRECT(\"'\"&$A$2&\"'!$A:$A\"),0),MATCH(H$9,'1'!Titre,0)))","v":""},{"$f":"IF($B19=\"\",\"\",IF(INDEX(INDIRECT(\"'\"&$A$2&\"'!$A:$I\"),MATCH($B19,INDIRECT(\"'\"&$A$2&\"'!$A:$A\"),0),MATCH(\"SIGNATURE\",'1'!Titre,0))=\"\",IF(COUNTIF($B$10:$B109,$B19)>1,COUNTIF($B$10:$B109,$B19),\"\"),INDEX(INDIRECT(\"'\"&$A$2&\"'!$A:$I\"),MATCH($B19,INDIRECT(\"'\"&$A$2&\"'!$A:$A\"),0),MATCH(\"SIGNATURE\",'1'!Titre,0))))","v":""}]
[11,null,{"$f":"IF($B20=\"\",\"\",INDEX(INDIRECT(\"'\"&$A$2&\"'!$A:$I\"),MATCH($B20,INDIRECT(\"'\"&$A$2&\"'!$A:$A\"),0),MATCH(C$9,'1'!Titre,0)))","v":""},{"$f":"IF($B20=\"\",\"\",INDEX(INDIRECT(\"'\"&$A$2&\"'!$A:$I\"),MATCH($B20,INDIRECT(\"'\"&$A$2&\"'!$A:$A\"),0),MATCH(D$9,'1'!Titre,0)))","v":""},{"$f":"IF($B20=\"\",\"\",INDEX(INDIRECT(\"'\"&$A$2&\"'!$A:$I\"),MATCH($B20,INDIRECT(\"'\"&$A$2&\"'!$A:$A\"),0),MATCH(E$9,'1'!Titre,0)))","v":""},{"$f":"IF($B20=\"\",\"\",INDEX(INDIRECT(\"'\"&$A$2&\"'!$A:$I\"),MATCH($B20,INDIRECT(\"'\"&$A$2&\"'!$A:$A\"),0),MATCH(F$9,'1'!Titre,0)))","v":""},{"$f":"IF($B20=\"\",\"\",INDEX(INDIRECT(\"'\"&$A$2&\"'!$A:$I\"),MATCH($B20,INDIRECT(\"'\"&$A$2&\"'!$A:$A\"),0),MATCH(G$9,'1'!Titre,0)))","v":""},{"$f":"IF($B20=\"\",\"\",INDEX(INDIRECT(\"'\"&$A$2&\"'!$A:$I\"),MATCH($B20,INDIRECT(\"'\"&$A$2&\"'!$A:$A\"),0),MATCH(H$9,'1'!Titre,0)))","v":""},{"$f":"IF($B20=\"\",\"\",IF(INDEX(INDIRECT(\"'\"&$A$2&\"'!$A:$I\"),MATCH($B20,INDIRECT(\"'\"&$A$2&\"'!$A:$A\"),0),MATCH(\"SIGNATURE\",'1'!Titre,0))=\"\",IF(COUNTIF($B$10:$B110,$B20)>1,COUNTIF($B$10:$B110,$B20),\"\"),INDEX(INDIRECT(\"'\"&$A$2&\"'!$A:$I\"),MATCH($B20,INDIRECT(\"'\"&$A$2&\"'!$A:$A\"),0),MATCH(\"SIGNATURE\",'1'!Titre,0))))","v":""}]
[12,null,{"$f":"IF($B21=\"\",\"\",INDEX(INDIRECT(\"'\"&$A$2&\"'!$A:$I\"),MATCH($B21,INDIRECT(\"'\"&$A$2&\"'!$A:$A\"),0),MATCH(C$9,'1'!Titre,0)))","v":""},{"$f":"IF($B21=\"\",\"\",INDEX(INDIRECT(\"'\"&$A$2&\"'!$A:$I\"),MATCH($B21,INDIRECT(\"'\"&$A$2&\"'!$A:$A\"),0),MATCH(D$9,'1'!Titre,0)))","v":""},{"$f":"IF($B21=\"\",\"\",INDEX(INDIRECT(\"'\"&$A$2&\"'!$A:$I\"),MATCH($B21,INDIRECT(\"'\"&$A$2&\"'!$A:$A\"),0),MATCH(E$9,'1'!Titre,0)))","v":""},{"$f":"IF($B21=\"\",\"\",INDEX(INDIRECT(\"'\"&$A$2&\"'!$A:$I\"),MATCH($B21,INDIRECT(\"'\"&$A$2&\"'!$A:$A\"),0),MATCH(F$9,'1'!Titre,0)))","v":""},{"$f":"IF($B21=\"\",\"\",INDEX(INDIRECT(\"'\"&$A$2&\"'!$A:$I\"),MATCH($B21,INDIRECT(\"'\"&$A$2&\"'!$A:$A\"),0),MATCH(G$9,'1'!Titre,0)))","v":""},{"$f":"IF($B21=\"\",\"\",INDEX(INDIRECT(\"'\"&$A$2&\"'!$A:$I\"),MATCH($B21,INDIRECT(\"'\"&$A$2&\"'!$A:$A\"),0),MATCH(H$9,'1'!Titre,0)))","v":""},{"$f":"IF($B21=\"\",\"\",IF(INDEX(INDIRECT(\"'\"&$A$2&\"'!$A:$I\"),MATCH($B21,INDIRECT(\"'\"&$A$2&\"'!$A:$A\"),0),MATCH(\"SIGNATURE\",'1'!Titre,0))=\"\",IF(COUNTIF($B$10:$B111,$B21)>1,COUNTIF($B$10:$B111,$B21),\"\"),INDEX(INDIRECT(\"'\"&$A$2&\"'!$A:$I\"),MATCH($B21,INDIRECT(\"'\"&$A$2&\"'!$A:$A\"),0),MATCH(\"SIGNATURE\",'1'!Titre,0))))","v":""}]
[13,null,{"$f":"IF($B22=\"\",\"\",INDEX(INDIRECT(\"'\"&$A$2&\"'!$A:$I\"),MATCH($B22,INDIRECT(\"'\"&$A$2&\"'!$A:$A\"),0),MATCH(C$9,'1'!Titre,0)))","v":""},{"$f":"IF($B22=\"\",\"\",INDEX(INDIRECT(\"'\"&$A$2&\"'!$A:$I\"),MATCH($B22,INDIRECT(\"'\"&$A$2&\"'!$A:$A\"),0),MATCH(D$9,'1'!Titre,0)))","v":""},{"$f":"IF($B22=\"\",\"\",INDEX(INDIRECT(\"'\"&$A$2&\"'!$A:$I\"),MATCH($B22,INDIRECT(\"'\"&$A$2&\"'!$A:$A\"),0),MATCH(E$9,'1'!Titre,0)))","v":""},{"$f":"IF($B22=\"\",\"\",INDEX(INDIRECT(\"'\"&$A$2&\"'!$A:$I\"),MATCH($B22,INDIRECT(\"'\"&$A$2&\"'!$A:$A\"),0),MATCH(F$9,'1'!Titre,0)))","v":""},{"$f":"IF($B22=\"\",\"\",INDEX(INDIRECT(\"'\"&$A$2&\"'!$A:$I\"),MATCH($B22,INDIRECT(\"'\"&$A$2&\"'!$A:$A\"),0),MATCH(G$9,'1'!Titre,0)))","v":""},{"$f":"IF($B22=\"\",\"\",INDEX(INDIRECT(\"'\"&$A$2&\"'!$A:$I\"),MATCH($B22,INDIRECT(\"'\"&$A$2&\"'!$A:$A\"),0),MATCH(H$9,'1'!Titre,0)))","v":""},{"$f":"IF($B22=\"\",\"\",IF(INDEX(INDIRECT(\"'\"&$A$2&\"'!$A:$I\"),MATCH($B22,INDIRECT(\"'\"&$A$2&\"'!$A:$A\"),0),MATCH(\"SIGNATURE\",'1'!Titre,0))=\"\",IF(COUNTIF($B$10:$B112,$B22)>1,COUNTIF($B$10:$B112,$B22),\"\"),INDEX(INDIRECT(\"'\"&$A$2&\"'!$A:$I\"),MATCH($B22,INDIRECT(\"'\"&$A$2&\"'!$A:$A\"),0),MATCH(\"SIGNATURE\",'1'!Titre,0))))","v":""}]
[14,null,{"$f":"IF($B23=\"\",\"\",INDEX(INDIRECT(\"'\"&$A$2&\"'!$A:$I\"),MATCH($B23,INDIRECT(\"'\"&$A$2&\"'!$A:$A\"),0),MATCH(C$9,'1'!Titre,0)))","v":""},{"$f":"IF($B23=\"\",\"\",INDEX(INDIRECT(\"'\"&$A$2&\"'!$A:$I\"),MATCH($B23,INDIRECT(\"'\"&$A$2&\"'!$A:$A\"),0),MATCH(D$9,'1'!Titre,0)))","v":""},{"$f":"IF($B23=\"\",\"\",INDEX(INDIRECT(\"'\"&$A$2&\"'!$A:$I\"),MATCH($B23,INDIRECT(\"'\"&$A$2&\"'!$A:$A\"),0),MATCH(E$9,'1'!Titre,0)))","v":""},{"$f":"IF($B23=\"\",\"\",INDEX(INDIRECT(\"'\"&$A$2&\"'!$A:$I\"),MATCH($B23,INDIRECT(\"'\"&$A$2&\"'!$A:$A\"),0),MATCH(F$9,'1'!Titre,0)))","v":""},{"$f":"IF($B23=\"\",\"\",INDEX(INDIRECT(\"'\"&$A$2&\"'!$A:$I\"),MATCH($B23,INDIRECT(\"'\"&$A$2&\"'!$A:$A\"),0),MATCH(G$9,'1'!Titre,0)))","v":""},{"$f":"IF($B23=\"\",\"\",INDEX(INDIRECT(\"'\"&$A$2&\"'!$A:$I\"),MATCH($B23,INDIRECT(\"'\"&$A$2&\"'!$A:$A\"),0),MATCH(H$9,'1'!Titre,0)))","v":""},{"$f":"IF($B23=\"\",\"\",IF(INDEX(INDIRECT(\"'\"&$A$2&\"'!$A:$I\"),MATCH($B23,INDIRECT(\"'\"&$A$2&\"'!$A:$A\"),0),MATCH(\"SIGNATURE\",'1'!Titre,0))=\"\",IF(COUNTIF($B$10:$B113,$B23)>1,COUNTIF($B$10:$B113,$B23),\"\"),INDEX(INDIRECT(\"'\"&$A$2&\"'!$A:$I\"),MATCH($B23,INDIRECT(\"'\"&$A$2&\"'!$A:$A\"),0),MATCH(\"SIGNATURE\",'1'!Titre,0))))","v":""}]
[15,null,{"$f":"IF($B24=\"\",\"\",INDEX(INDIRECT(\"'\"&$A$2&\"'!$A:$I\"),MATCH($B24,INDIRECT(\"'\"&$A$2&\"'!$A:$A\"),0),MATCH(C$9,'1'!Titre,0)))","v":""},{"$f":"IF($B24=\"\",\"\",INDEX(INDIRECT(\"'\"&$A$2&\"'!$A:$I\"),MATCH($B24,INDIRECT(\"'\"&$A$2&\"'!$A:$A\"),0),MATCH(D$9,'1'!Titre,0)))","v":""},{"$f":"IF($B24=\"\",\"\",INDEX(INDIRECT(\"'\"&$A$2&\"'!$A:$I\"),MATCH($B24,INDIRECT(\"'\"&$A$2&\"'!$A:$A\"),0),MATCH(E$9,'1'!Titre,0)))","v":""},{"$f":"IF($B24=\"\",\"\",INDEX(INDIRECT(\"'\"&$A$2&\"'!$A:$I\"),MATCH($B24,INDIRECT(\"'\"&$A$2&\"'!$A:$A\"),0),MATCH(F$9,'1'!Titre,0)))","v":""},{"$f":"IF($B24=\"\",\"\",INDEX(INDIRECT(\"'\"&$A$2&\"'!$A:$I\"),MATCH($B24,INDIRECT(\"'\"&$A$2&\"'!$A:$A\"),0),MATCH(G$9,'1'!Titre,0)))","v":""},{"$f":"IF($B24=\"\",\"\",INDEX(INDIRECT(\"'\"&$A$2&\"'!$A:$I\"),MATCH($B24,INDIRECT(\"'\"&$A$2&\"'!$A:$A\"),0),MATCH(H$9,'1'!Titre,0)))","v":""},{"$f":"IF($B24=\"\",\"\",IF(INDEX(INDIRECT(\"'\"&$A$2&\"'!$A:$I\"),MATCH($B24,INDIRECT(\"'\"&$A$2&\"'!$A:$A\"),0),MATCH(\"SIGNATURE\",'1'!Titre,0))=\"\",IF(COUNTIF($B$10:$B114,$B24)>1,COUNTIF($B$10:$B114,$B24),\"\"),INDEX(INDIRECT(\"'\"&$A$2&\"'!$A:$I\"),MATCH($B24,INDIRECT(\"'\"&$A$2&\"'!$A:$A\"),0),MATCH(\"SIGNATURE\",'1'!Titre,0))))","v":""}]
[16,null,{"$f":"IF($B25=\"\",\"\",INDEX(INDIRECT(\"'\"&$A$2&\"'!$A:$I\"),MATCH($B25,INDIRECT(\"'\"&$A$2&\"'!$A:$A\"),0),MATCH(C$9,'1'!Titre,0)))","v":""},{"$f":"IF($B25=\"\",\"\",INDEX(INDIRECT(\"'\"&$A$2&\"'!$A:$I\"),MATCH($B25,INDIRECT(\"'\"&$A$2&\"'!$A:$A\"),0),MATCH(D$9,'1'!Titre,0)))","v":""},{"$f":"IF($B25=\"\",\"\",INDEX(INDIRECT(\"'\"&$A$2&\"'!$A:$I\"),MATCH($B25,INDIRECT(\"'\"&$A$2&\"'!$A:$A\"),0),MATCH(E$9,'1'!Titre,0)))","v":""},{"$f":"IF($B25=\"\",\"\",INDEX(INDIRECT(\"'\"&$A$2&\"'!$A:$I\"),MATCH($B25,INDIRECT(\"'\"&$A$2&\"'!$A:$A\"),0),MATCH(F$9,'1'!Titre,0)))","v":""},{"$f":"IF($B25=\"\",\"\",INDEX(INDIRECT(\"'\"&$A$2&\"'!$A:$I\"),MATCH($B25,INDIRECT(\"'\"&$A$2&\"'!$A:$A\"),0),MATCH(G$9,'1'!Titre,0)))","v":""},{"$f":"IF($B25=\"\",\"\",INDEX(INDIRECT(\"'\"&$A$2&\"'!$A:$I\"),MATCH($B25,INDIRECT(\"'\"&$A$2&\"'!$A:$A\"),0),MATCH(H$9,'1'!Titre,0)))","v":""},{"$f":"IF($B25=\"\",\"\",IF(INDEX(INDIRECT(\"'\"&$A$2&\"'!$A:$I\"),MATCH($B25,INDIRECT(\"'\"&$A$2&\"'!$A:$A\"),0),MATCH(\"SIGNATURE\",'1'!Titre,0))=\"\",IF(COUNTIF($B$10:$B115,$B25)>1,COUNTIF($B$10:$B115,$B25),\"\"),INDEX(INDIRECT(\"'\"&$A$2&\"'!$A:$I\"),MATCH($B25,INDIRECT(\"'\"&$A$2&\"'!$A:$A\"),0),MATCH(\"SIGNATURE\",'1'!Titre,0))))","v":""}]
[17,null,{"$f":"IF($B26=\"\",\"\",INDEX(INDIRECT(\"'\"&$A$2&\"'!$A:$I\"),MATCH($B26,INDIRECT(\"'\"&$A$2&\"'!$A:$A\"),0),MATCH(C$9,'1'!Titre,0)))","v":""},{"$f":"IF($B26=\"\",\"\",INDEX(INDIRECT(\"'\"&$A$2&\"'!$A:$I\"),MATCH($B26,INDIRECT(\"'\"&$A$2&\"'!$A:$A\"),0),MATCH(D$9,'1'!Titre,0)))","v":""},{"$f":"IF($B26=\"\",\"\",INDEX(INDIRECT(\"'\"&$A$2&\"'!$A:$I\"),MATCH($B26,INDIRECT(\"'\"&$A$2&\"'!$A:$A\"),0),MATCH(E$9,'1'!Titre,0)))","v":""},{"$f":"IF($B26=\"\",\"\",INDEX(INDIRECT(\"'\"&$A$2&\"'!$A:$I\"),MATCH($B26,INDIRECT(\"'\"&$A$2&\"'!$A:$A\"),0),MATCH(F$9,'1'!Titre,0)))","v":""},{"$f":"IF($B26=\"\",\"\",INDEX(INDIRECT(\"'\"&$A$2&\"'!$A:$I\"),MATCH($B26,INDIRECT(\"'\"&$A$2&\"'!$A:$A\"),0),MATCH(G$9,'1'!Titre,0)))","v":""},{"$f":"IF($B26=\"\",\"\",INDEX(INDIRECT(\"'\"&$A$2&\"'!$A:$I\"),MATCH($B26,INDIRECT(\"'\"&$A$2&\"'!$A:$A\"),0),MATCH(H$9,'1'!Titre,0)))","v":""},{"$f":"IF($B26=\"\",\"\",IF(INDEX(INDIRECT(\"'\"&$A$2&\"'!$A:$I\"),MATCH($B26,INDIRECT(\"'\"&$A$2&\"'!$A:$A\"),0),MATCH(\"SIGNATURE\",'1'!Titre,0))=\"\",IF(COUNTIF($B$10:$B116,$B26)>1,COUNTIF($B$10:$B116,$B26),\"\"),INDEX(INDIRECT(\"'\"&$A$2&\"'!$A:$I\"),MATCH($B26,INDIRECT(\"'\"&$A$2&\"'!$A:$A\"),0),MATCH(\"SIGNATURE\",'1'!Titre,0))))","v":""}]
[18,null,{"$f":"IF($B27=\"\",\"\",INDEX(INDIRECT(\"'\"&$A$2&\"'!$A:$I\"),MATCH($B27,INDIRECT(\"'\"&$A$2&\"'!$A:$A\"),0),MATCH(C$9,'1'!Titre,0)))","v":""},{"$f":"IF($B27=\"\",\"\",INDEX(INDIRECT(\"'\"&$A$2&\"'!$A:$I\"),MATCH($B27,INDIRECT(\"'\"&$A$2&\"'!$A:$A\"),0),MATCH(D$9,'1'!Titre,0)))","v":""},{"$f":"IF($B27=\"\",\"\",INDEX(INDIRECT(\"'\"&$A$2&\"'!$A:$I\"),MATCH($B27,INDIRECT(\"'\"&$A$2&\"'!$A:$A\"),0),MATCH(E$9,'1'!Titre,0)))","v":""},{"$f":"IF($B27=\"\",\"\",INDEX(INDIRECT(\"'\"&$A$2&\"'!$A:$I\"),MATCH($B27,INDIRECT(\"'\"&$A$2&\"'!$A:$A\"),0),MATCH(F$9,'1'!Titre,0)))","v":""},{"$f":"IF($B27=\"\",\"\",INDEX(INDIRECT(\"'\"&$A$2&\"'!$A:$I\"),MATCH($B27,INDIRECT(\"'\"&$A$2&\"'!$A:$A\"),0),MATCH(G$9,'1'!Titre,0)))","v":""},{"$f":"IF($B27=\"\",\"\",INDEX(INDIRECT(\"'\"&$A$2&\"'!$A:$I\"),MATCH($B27,INDIRECT(\"'\"&$A$2&\"'!$A:$A\"),0),MATCH(H$9,'1'!Titre,0)))","v":""},{"$f":"IF($B27=\"\",\"\",IF(INDEX(INDIRECT(\"'\"&$A$2&\"'!$A:$I\"),MATCH($B27,INDIRECT(\"'\"&$A$2&\"'!$A:$A\"),0),MATCH(\"SIGNATURE\",'1'!Titre,0))=\"\",IF(COUNTIF($B$10:$B117,$B27)>1,COUNTIF($B$10:$B117,$B27),\"\"),INDEX(INDIRECT(\"'\"&$A$2&\"'!$A:$I\"),MATCH($B27,INDIRECT(\"'\"&$A$2&\"'!$A:$A\"),0),MATCH(\"SIGNATURE\",'1'!Titre,0))))","v":""}]
[19,null,{"$f":"IF($B28=\"\",\"\",INDEX(INDIRECT(\"'\"&$A$2&\"'!$A:$I\"),MATCH($B28,INDIRECT(\"'\"&$A$2&\"'!$A:$A\"),0),MATCH(C$9,'1'!Titre,0)))","v":""},{"$f":"IF($B28=\"\",\"\",INDEX(INDIRECT(\"'\"&$A$2&\"'!$A:$I\"),MATCH($B28,INDIRECT(\"'\"&$A$2&\"'!$A:$A\"),0),MATCH(D$9,'1'!Titre,0)))","v":""},{"$f":"IF($B28=\"\",\"\",INDEX(INDIRECT(\"'\"&$A$2&\"'!$A:$I\"),MATCH($B28,INDIRECT(\"'\"&$A$2&\"'!$A:$A\"),0),MATCH(E$9,'1'!Titre,0)))","v":""},{"$f":"IF($B28=\"\",\"\",INDEX(INDIRECT(\"'\"&$A$2&\"'!$A:$I\"),MATCH($B28,INDIRECT(\"'\"&$A$2&\"'!$A:$A\"),0),MATCH(F$9,'1'!Titre,0)))","v":""},{"$f":"IF($B28=\"\",\"\",INDEX(INDIRECT(\"'\"&$A$2&\"'!$A:$I\"),MATCH($B28,INDIRECT(\"'\"&$A$2&\"'!$A:$A\"),0),MATCH(G$9,'1'!Titre,0)))","v":""},{"$f":"IF($B28=\"\",\"\",INDEX(INDIRECT(\"'\"&$A$2&\"'!$A:$I\"),MATCH($B28,INDIRECT(\"'\"&$A$2&\"'!$A:$A\"),0),MATCH(H$9,'1'!Titre,0)))","v":""},{"$f":"IF($B28=\"\",\"\",IF(INDEX(INDIRECT(\"'\"&$A$2&\"'!$A:$I\"),MATCH($B28,INDIRECT(\"'\"&$A$2&\"'!$A:$A\"),0),MATCH(\"SIGNATURE\",'1'!Titre,0))=\"\",IF(COUNTIF($B$10:$B118,$B28)>1,COUNTIF($B$10:$B118,$B28),\"\"),INDEX(INDIRECT(\"'\"&$A$2&\"'!$A:$I\"),MATCH($B28,INDIRECT(\"'\"&$A$2&\"'!$A:$A\"),0),MATCH(\"SIGNATURE\",'1'!Titre,0))))","v":""}]
[20,null,{"$f":"IF($B29=\"\",\"\",INDEX(INDIRECT(\"'\"&$A$2&\"'!$A:$I\"),MATCH($B29,INDIRECT(\"'\"&$A$2&\"'!$A:$A\"),0),MATCH(C$9,'1'!Titre,0)))","v":""},{"$f":"IF($B29=\"\",\"\",INDEX(INDIRECT(\"'\"&$A$2&\"'!$A:$I\"),MATCH($B29,INDIRECT(\"'\"&$A$2&\"'!$A:$A\"),0),MATCH(D$9,'1'!Titre,0)))","v":""},{"$f":"IF($B29=\"\",\"\",INDEX(INDIRECT(\"'\"&$A$2&\"'!$A:$I\"),MATCH($B29,INDIRECT(\"'\"&$A$2&\"'!$A:$A\"),0),MATCH(E$9,'1'!Titre,0)))","v":""},{"$f":"IF($B29=\"\",\"\",INDEX(INDIRECT(\"'\"&$A$2&\"'!$A:$I\"),MATCH($B29,INDIRECT(\"'\"&$A$2&\"'!$A:$A\"),0),MATCH(F$9,'1'!Titre,0)))","v":""},{"$f":"IF($B29=\"\",\"\",INDEX(INDIRECT(\"'\"&$A$2&\"'!$A:$I\"),MATCH($B29,INDIRECT(\"'\"&$A$2&\"'!$A:$A\"),0),MATCH(G$9,'1'!Titre,0)))","v":""},{"$f":"IF($B29=\"\",\"\",INDEX(INDIRECT(\"'\"&$A$2&\"'!$A:$I\"),MATCH($B29,INDIRECT(\"'\"&$A$2&\"'!$A:$A\"),0),MATCH(H$9,'1'!Titre,0)))","v":""},{"$f":"IF($B29=\"\",\"\",IF(INDEX(INDIRECT(\"'\"&$A$2&\"'!$A:$I\"),MATCH($B29,INDIRECT(\"'\"&$A$2&\"'!$A:$A\"),0),MATCH(\"SIGNATURE\",'1'!Titre,0))=\"\",IF(COUNTIF($B$10:$B119,$B29)>1,COUNTIF($B$10:$B119,$B29),\"\"),INDEX(INDIRECT(\"'\"&$A$2&\"'!$A:$I\"),MATCH($B29,INDIRECT(\"'\"&$A$2&\"'!$A:$A\"),0),MATCH(\"SIGNATURE\",'1'!Titre,0))))","v":""}]
[21,null,{"$f":"IF($B30=\"\",\"\",INDEX(INDIRECT(\"'\"&$A$2&\"'!$A:$I\"),MATCH($B30,INDIRECT(\"'\"&$A$2&\"'!$A:$A\"),0),MATCH(C$9,'1'!Titre,0)))","v":""},{"$f":"IF($B30=\"\",\"\",INDEX(INDIRECT(\"'\"&$A$2&\"'!$A:$I\"),MATCH($B30,INDIRECT(\"'\"&$A$2&\"'!$A:$A\"),0),MATCH(D$9,'1'!Titre,0)))","v":""},{"$f":"IF($B30=\"\",\"\",INDEX(INDIRECT(\"'\"&$A$2&\"'!$A:$I\"),MATCH($B30,INDIRECT(\"'\"&$A$2&\"'!$A:$A\"),0),MATCH(E$9,'1'!Titre,0)))","v":""},{"$f":"IF($B30=\"\",\"\",INDEX(INDIRECT(\"'\"&$A$2&\"'!$A:$I\"),MATCH($B30,INDIRECT(\"'\"&$A$2&\"'!$A:$A\"),0),MATCH(F$9,'1'!Titre,0)))","v":""},{"$f":"IF($B30=\"\",\"\",INDEX(INDIRECT(\"'\"&$A$2&\"'!$A:$I\"),MATCH($B30,INDIRECT(\"'\"&$A$2&\"'!$A:$A\"),0),MATCH(G$9,'1'!Titre,0)))","v":""},{"$f":"IF($B30=\"\",\"\",INDEX(INDIRECT(\"'\"&$A$2&\"'!$A:$I\"),MATCH($B30,INDIRECT(\"'\"&$A$2&\"'!$A:$A\"),0),MATCH(H$9,'1'!Titre,0)))","v":""},{"$f":"IF($B30=\"\",\"\",IF(INDEX(INDIRECT(\"'\"&$A$2&\"'!$A:$I\"),MATCH($B30,INDIRECT(\"'\"&$A$2&\"'!$A:$A\"),0),MATCH(\"SIGNATURE\",'1'!Titre,0))=\"\",IF(COUNTIF($B$10:$B120,$B30)>1,COUNTIF($B$10:$B120,$B30),\"\"),INDEX(INDIRECT(\"'\"&$A$2&\"'!$A:$I\"),MATCH($B30,INDIRECT(\"'\"&$A$2&\"'!$A:$A\"),0),MATCH(\"SIGNATURE\",'1'!Titre,0))))","v":""}]
[22,null,{"$f":"IF($B31=\"\",\"\",INDEX(INDIRECT(\"'\"&$A$2&\"'!$A:$I\"),MATCH($B31,INDIRECT(\"'\"&$A$2&\"'!$A:$A\"),0),MATCH(C$9,'1'!Titre,0)))","v":""},{"$f":"IF($B31=\"\",\"\",INDEX(INDIRECT(\"'\"&$A$2&\"'!$A:$I\"),MATCH($B31,INDIRECT(\"'\"&$A$2&\"'!$A:$A\"),0),MATCH(D$9,'1'!Titre,0)))","v":""},{"$f":"IF($B31=\"\",\"\",INDEX(INDIRECT(\"'\"&$A$2&\"'!$A:$I\"),MATCH($B31,INDIRECT(\"'\"&$A$2&\"'!$A:$A\"),0),MATCH(E$9,'1'!Titre,0)))","v":""},{"$f":"IF($B31=\"\",\"\",INDEX(INDIRECT(\"'\"&$A$2&\"'!$A:$I\"),MATCH($B31,INDIRECT(\"'\"&$A$2&\"'!$A:$A\"),0),MATCH(F$9,'1'!Titre,0)))","v":""},{"$f":"IF($B31=\"\",\"\",INDEX(INDIRECT(\"'\"&$A$2&\"'!$A:$I\"),MATCH($B31,INDIRECT(\"'\"&$A$2&\"'!$A:$A\"),0),MATCH(G$9,'1'!Titre,0)))","v":""},{"$f":"IF($B31=\"\",\"\",INDEX(INDIRECT(\"'\"&$A$2&\"'!$A:$I\"),MATCH($B31,INDIRECT(\"'\"&$A$2&\"'!$A:$A\"),0),MATCH(H$9,'1'!Titre,0)))","v":""},{"$f":"IF($B31=\"\",\"\",IF(INDEX(INDIRECT(\"'\"&$A$2&\"'!$A:$I\"),MATCH($B31,INDIRECT(\"'\"&$A$2&\"'!$A:$A\"),0),MATCH(\"SIGNATURE\",'1'!Titre,0))=\"\",IF(COUNTIF($B$10:$B121,$B31)>1,COUNTIF($B$10:$B121,$B31),\"\"),INDEX(INDIRECT(\"'\"&$A$2&\"'!$A:$I\"),MATCH($B31,INDIRECT(\"'\"&$A$2&\"'!$A:$A\"),0),MATCH(\"SIGNATURE\",'1'!Titre,0))))","v":""}]
[23,null,{"$f":"IF($B32=\"\",\"\",INDEX(INDIRECT(\"'\"&$A$2&\"'!$A:$I\"),MATCH($B32,INDIRECT(\"'\"&$A$2&\"'!$A:$A\"),0),MATCH(C$9,'1'!Titre,0)))","v":""},{"$f":"IF($B32=\"\",\"\",INDEX(INDIRECT(\"'\"&$A$2&\"'!$A:$I\"),MATCH($B32,INDIRECT(\"'\"&$A$2&\"'!$A:$A\"),0),MATCH(D$9,'1'!Titre,0)))","v":""},{"$f":"IF($B32=\"\",\"\",INDEX(INDIRECT(\"'\"&$A$2&\"'!$A:$I\"),MATCH($B32,INDIRECT(\"'\"&$A$2&\"'!$A:$A\"),0),MATCH(E$9,'1'!Titre,0)))","v":""},{"$f":"IF($B32=\"\",\"\",INDEX(INDIRECT(\"'\"&$A$2&\"'!$A:$I\"),MATCH($B32,INDIRECT(\"'\"&$A$2&\"'!$A:$A\"),0),MATCH(F$9,'1'!Titre,0)))","v":""},{"$f":"IF($B32=\"\",\"\",INDEX(INDIRECT(\"'\"&$A$2&\"'!$A:$I\"),MATCH($B32,INDIRECT(\"'\"&$A$2&\"'!$A:$A\"),0),MATCH(G$9,'1'!Titre,0)))","v":""},{"$f":"IF($B32=\"\",\"\",INDEX(INDIRECT(\"'\"&$A$2&\"'!$A:$I\"),MATCH($B32,INDIRECT(\"'\"&$A$2&\"'!$A:$A\"),0),MATCH(H$9,'1'!Titre,0)))","v":""},{"$f":"IF($B32=\"\",\"\",IF(INDEX(INDIRECT(\"'\"&$A$2&\"'!$A:$I\"),MATCH($B32,INDIRECT(\"'\"&$A$2&\"'!$A:$A\"),0),MATCH(\"SIGNATURE\",'1'!Titre,0))=\"\",IF(COUNTIF($B$10:$B122,$B32)>1,COUNTIF($B$10:$B122,$B32),\"\"),INDEX(INDIRECT(\"'\"&$A$2&\"'!$A:$I\"),MATCH($B32,INDIRECT(\"'\"&$A$2&\"'!$A:$A\"),0),MATCH(\"SIGNATURE\",'1'!Titre,0))))","v":""}]
[24,null,{"$f":"IF($B33=\"\",\"\",INDEX(INDIRECT(\"'\"&$A$2&\"'!$A:$I\"),MATCH($B33,INDIRECT(\"'\"&$A$2&\"'!$A:$A\"),0),MATCH(C$9,'1'!Titre,0)))","v":""},{"$f":"IF($B33=\"\",\"\",INDEX(INDIRECT(\"'\"&$A$2&\"'!$A:$I\"),MATCH($B33,INDIRECT(\"'\"&$A$2&\"'!$A:$A\"),0),MATCH(D$9,'1'!Titre,0)))","v":""},{"$f":"IF($B33=\"\",\"\",INDEX(INDIRECT(\"'\"&$A$2&\"'!$A:$I\"),MATCH($B33,INDIRECT(\"'\"&$A$2&\"'!$A:$A\"),0),MATCH(E$9,'1'!Titre,0)))","v":""},{"$f":"IF($B33=\"\",\"\",INDEX(INDIRECT(\"'\"&$A$2&\"'!$A:$I\"),MATCH($B33,INDIRECT(\"'\"&$A$2&\"'!$A:$A\"),0),MATCH(F$9,'1'!Titre,0)))","v":""},{"$f":"IF($B33=\"\",\"\",INDEX(INDIRECT(\"'\"&$A$2&\"'!$A:$I\"),MATCH($B33,INDIRECT(\"'\"&$A$2&\"'!$A:$A\"),0),MATCH(G$9,'1'!Titre,0)))","v":""},{"$f":"IF($B33=\"\",\"\",INDEX(INDIRECT(\"'\"&$A$2&\"'!$A:$I\"),MATCH($B33,INDIRECT(\"'\"&$A$2&\"'!$A:$A\"),0),MATCH(H$9,'1'!Titre,0)))","v":""},{"$f":"IF($B33=\"\",\"\",IF(INDEX(INDIRECT(\"'\"&$A$2&\"'!$A:$I\"),MATCH($B33,INDIRECT(\"'\"&$A$2&\"'!$A:$A\"),0),MATCH(\"SIGNATURE\",'1'!Titre,0))=\"\",IF(COUNTIF($B$10:$B123,$B33)>1,COUNTIF($B$10:$B123,$B33),\"\"),INDEX(INDIRECT(\"'\"&$A$2&\"'!$A:$I\"),MATCH($B33,INDIRECT(\"'\"&$A$2&\"'!$A:$A\"),0),MATCH(\"SIGNATURE\",'1'!Titre,0))))","v":""}]
[25,null,{"$f":"IF($B34=\"\",\"\",INDEX(INDIRECT(\"'\"&$A$2&\"'!$A:$I\"),MATCH($B34,INDIRECT(\"'\"&$A$2&\"'!$A:$A\"),0),MATCH(C$9,'1'!Titre,0)))","v":""},{"$f":"IF($B34=\"\",\"\",INDEX(INDIRECT(\"'\"&$A$2&\"'!$A:$I\"),MATCH($B34,INDIRECT(\"'\"&$A$2&\"'!$A:$A\"),0),MATCH(D$9,'1'!Titre,0)))","v":""},{"$f":"IF($B34=\"\",\"\",INDEX(INDIRECT(\"'\"&$A$2&\"'!$A:$I\"),MATCH($B34,INDIRECT(\"'\"&$A$2&\"'!$A:$A\"),0),MATCH(E$9,'1'!Titre,0)))","v":""},{"$f":"IF($B34=\"\",\"\",INDEX(INDIRECT(\"'\"&$A$2&\"'!$A:$I\"),MATCH($B34,INDIRECT(\"'\"&$A$2&\"'!$A:$A\"),0),MATCH(F$9,'1'!Titre,0)))","v":""},{"$f":"IF($B34=\"\",\"\",INDEX(INDIRECT(\"'\"&$A$2&\"'!$A:$I\"),MATCH($B34,INDIRECT(\"'\"&$A$2&\"'!$A:$A\"),0),MATCH(G$9,'1'!Titre,0)))","v":""},{"$f":"IF($B34=\"\",\"\",INDEX(INDIRECT(\"'\"&$A$2&\"'!$A:$I\"),MATCH($B34,INDIRECT(\"'\"&$A$2&\"'!$A:$A\"),0),MATCH(H$9,'1'!Titre,0)))","v":""},{"$f":"IF($B34=\"\",\"\",IF(INDEX(INDIRECT(\"'\"&$A$2&\"'!$A:$I\"),MATCH($B34,INDIRECT(\"'\"&$A$2&\"'!$A:$A\"),0),MATCH(\"SIGNATURE\",'1'!Titre,0))=\"\",IF(COUNTIF($B$10:$B124,$B34)>1,COUNTIF($B$10:$B124,$B34),\"\"),INDEX(INDIRECT(\"'\"&$A$2&\"'!$A:$I\"),MATCH($B34,INDIRECT(\"'\"&$A$2&\"'!$A:$A\"),0),MATCH(\"SIGNATURE\",'1'!Titre,0))))","v":""}]
[26,null,{"$f":"IF($B35=\"\",\"\",INDEX(INDIRECT(\"'\"&$A$2&\"'!$A:$I\"),MATCH($B35,INDIRECT(\"'\"&$A$2&\"'!$A:$A\"),0),MATCH(C$9,'1'!Titre,0)))","v":""},{"$f":"IF($B35=\"\",\"\",INDEX(INDIRECT(\"'\"&$A$2&\"'!$A:$I\"),MATCH($B35,INDIRECT(\"'\"&$A$2&\"'!$A:$A\"),0),MATCH(D$9,'1'!Titre,0)))","v":""},{"$f":"IF($B35=\"\",\"\",INDEX(INDIRECT(\"'\"&$A$2&\"'!$A:$I\"),MATCH($B35,INDIRECT(\"'\"&$A$2&\"'!$A:$A\"),0),MATCH(E$9,'1'!Titre,0)))","v":""},{"$f":"IF($B35=\"\",\"\",INDEX(INDIRECT(\"'\"&$A$2&\"'!$A:$I\"),MATCH($B35,INDIRECT(\"'\"&$A$2&\"'!$A:$A\"),0),MATCH(F$9,'1'!Titre,0)))","v":""},{"$f":"IF($B35=\"\",\"\",INDEX(INDIRECT(\"'\"&$A$2&\"'!$A:$I\"),MATCH($B35,INDIRECT(\"'\"&$A$2&\"'!$A:$A\"),0),MATCH(G$9,'1'!Titre,0)))","v":""},{"$f":"IF($B35=\"\",\"\",INDEX(INDIRECT(\"'\"&$A$2&\"'!$A:$I\"),MATCH($B35,INDIRECT(\"'\"&$A$2&\"'!$A:$A\"),0),MATCH(H$9,'1'!Titre,0)))","v":""},{"$f":"IF($B35=\"\",\"\",IF(INDEX(INDIRECT(\"'\"&$A$2&\"'!$A:$I\"),MATCH($B35,INDIRECT(\"'\"&$A$2&\"'!$A:$A\"),0),MATCH(\"SIGNATURE\",'1'!Titre,0))=\"\",IF(COUNTIF($B$10:$B125,$B35)>1,COUNTIF($B$10:$B125,$B35),\"\"),INDEX(INDIRECT(\"'\"&$A$2&\"'!$A:$I\"),MATCH($B35,INDIRECT(\"'\"&$A$2&\"'!$A:$A\"),0),MATCH(\"SIGNATURE\",'1'!Titre,0))))","v":""}]
[27,null,{"$f":"IF($B36=\"\",\"\",INDEX(INDIRECT(\"'\"&$A$2&\"'!$A:$I\"),MATCH($B36,INDIRECT(\"'\"&$A$2&\"'!$A:$A\"),0),MATCH(C$9,'1'!Titre,0)))","v":""},{"$f":"IF($B36=\"\",\"\",INDEX(INDIRECT(\"'\"&$A$2&\"'!$A:$I\"),MATCH($B36,INDIRECT(\"'\"&$A$2&\"'!$A:$A\"),0),MATCH(D$9,'1'!Titre,0)))","v":""},{"$f":"IF($B36=\"\",\"\",INDEX(INDIRECT(\"'\"&$A$2&\"'!$A:$I\"),MATCH($B36,INDIRECT(\"'\"&$A$2&\"'!$A:$A\"),0),MATCH(E$9,'1'!Titre,0)))","v":""},{"$f":"IF($B36=\"\",\"\",INDEX(INDIRECT(\"'\"&$A$2&\"'!$A:$I\"),MATCH($B36,INDIRECT(\"'\"&$A$2&\"'!$A:$A\"),0),MATCH(F$9,'1'!Titre,0)))","v":""},{"$f":"IF($B36=\"\",\"\",INDEX(INDIRECT(\"'\"&$A$2&\"'!$A:$I\"),MATCH($B36,INDIRECT(\"'\"&$A$2&\"'!$A:$A\"),0),MATCH(G$9,'1'!Titre,0)))","v":""},{"$f":"IF($B36=\"\",\"\",INDEX(INDIRECT(\"'\"&$A$2&\"'!$A:$I\"),MATCH($B36,INDIRECT(\"'\"&$A$2&\"'!$A:$A\"),0),MATCH(H$9,'1'!Titre,0)))","v":""},{"$f":"IF($B36=\"\",\"\",IF(INDEX(INDIRECT(\"'\"&$A$2&\"'!$A:$I\"),MATCH($B36,INDIRECT(\"'\"&$A$2&\"'!$A:$A\"),0),MATCH(\"SIGNATURE\",'1'!Titre,0))=\"\",IF(COUNTIF($B$10:$B126,$B36)>1,COUNTIF($B$10:$B126,$B36),\"\"),INDEX(INDIRECT(\"'\"&$A$2&\"'!$A:$I\"),MATCH($B36,INDIRECT(\"'\"&$A$2&\"'!$A:$A\"),0),MATCH(\"SIGNATURE\",'1'!Titre,0))))","v":""}]
[28,null,{"$f":"IF($B37=\"\",\"\",INDEX(INDIRECT(\"'\"&$A$2&\"'!$A:$I\"),MATCH($B37,INDIRECT(\"'\"&$A$2&\"'!$A:$A\"),0),MATCH(C$9,'1'!Titre,0)))","v":""},{"$f":"IF($B37=\"\",\"\",INDEX(INDIRECT(\"'\"&$A$2&\"'!$A:$I\"),MATCH($B37,INDIRECT(\"'\"&$A$2&\"'!$A:$A\"),0),MATCH(D$9,'1'!Titre,0)))","v":""},{"$f":"IF($B37=\"\",\"\",INDEX(INDIRECT(\"'\"&$A$2&\"'!$A:$I\"),MATCH($B37,INDIRECT(\"'\"&$A$2&\"'!$A:$A\"),0),MATCH(E$9,'1'!Titre,0)))","v":""},{"$f":"IF($B37=\"\",\"\",INDEX(INDIRECT(\"'\"&$A$2&\"'!$A:$I\"),MATCH($B37,INDIRECT(\"'\"&$A$2&\"'!$A:$A\"),0),MATCH(F$9,'1'!Titre,0)))","v":""},{"$f":"IF($B37=\"\",\"\",INDEX(INDIRECT(\"'\"&$A$2&\"'!$A:$I\"),MATCH($B37,INDIRECT(\"'\"&$A$2&\"'!$A:$A\"),0),MATCH(G$9,'1'!Titre,0)))","v":""},{"$f":"IF($B37=\"\",\"\",INDEX(INDIRECT(\"'\"&$A$2&\"'!$A:$I\"),MATCH($B37,INDIRECT(\"'\"&$A$2&\"'!$A:$A\"),0),MATCH(H$9,'1'!Titre,0)))","v":""},{"$f":"IF($B37=\"\",\"\",IF(INDEX(INDIRECT(\"'\"&$A$2&\"'!$A:$I\"),MATCH($B37,INDIRECT(\"'\"&$A$2&\"'!$A:$A\"),0),MATCH(\"SIGNATURE\",'1'!Titre,0))=\"\",IF(COUNTIF($B$10:$B127,$B37)>1,COUNTIF($B$10:$B127,$B37),\"\"),INDEX(INDIRECT(\"'\"&$A$2&\"'!$A:$I\"),MATCH($B37,INDIRECT(\"'\"&$A$2&\"'!$A:$A\"),0),MATCH(\"SIGNATURE\",'1'!Titre,0))))","v":""}]
[29,null,{"$f":"IF($B38=\"\",\"\",INDEX(INDIRECT(\"'\"&$A$2&\"'!$A:$I\"),MATCH($B38,INDIRECT(\"'\"&$A$2&\"'!$A:$A\"),0),MATCH(C$9,'1'!Titre,0)))","v":""},{"$f":"IF($B38=\"\",\"\",INDEX(INDIRECT(\"'\"&$A$2&\"'!$A:$I\"),MATCH($B38,INDIRECT(\"'\"&$A$2&\"'!$A:$A\"),0),MATCH(D$9,'1'!Titre,0)))","v":""},{"$f":"IF($B38=\"\",\"\",INDEX(INDIRECT(\"'\"&$A$2&\"'!$A:$I\"),MATCH($B38,INDIRECT(\"'\"&$A$2&\"'!$A:$A\"),0),MATCH(E$9,'1'!Titre,0)))","v":""},{"$f":"IF($B38=\"\",\"\",INDEX(INDIRECT(\"'\"&$A$2&\"'!$A:$I\"),MATCH($B38,INDIRECT(\"'\"&$A$2&\"'!$A:$A\"),0),MATCH(F$9,'1'!Titre,0)))","v":""},{"$f":"IF($B38=\"\",\"\",INDEX(INDIRECT(\"'\"&$A$2&\"'!$A:$I\"),MATCH($B38,INDIRECT(\"'\"&$A$2&\"'!$A:$A\"),0),MATCH(G$9,'1'!Titre,0)))","v":""},{"$f":"IF($B38=\"\",\"\",INDEX(INDIRECT(\"'\"&$A$2&\"'!$A:$I\"),MATCH($B38,INDIRECT(\"'\"&$A$2&\"'!$A:$A\"),0),MATCH(H$9,'1'!Titre,0)))","v":""},{"$f":"IF($B38=\"\",\"\",IF(INDEX(INDIRECT(\"'\"&$A$2&\"'!$A:$I\"),MATCH($B38,INDIRECT(\"'\"&$A$2&\"'!$A:$A\"),0),MATCH(\"SIGNATURE\",'1'!Titre,0))=\"\",IF(COUNTIF($B$10:$B128,$B38)>1,COUNTIF($B$10:$B128,$B38),\"\"),INDEX(INDIRECT(\"'\"&$A$2&\"'!$A:$I\"),MATCH($B38,INDIRECT(\"'\"&$A$2&\"'!$A:$A\"),0),MATCH(\"SIGNATURE\",'1'!Titre,0))))","v":""}]
[30,null,{"$f":"IF($B39=\"\",\"\",INDEX(INDIRECT(\"'\"&$A$2&\"'!$A:$I\"),MATCH($B39,INDIRECT(\"'\"&$A$2&\"'!$A:$A\"),0),MATCH(C$9,'1'!Titre,0)))","v":""},{"$f":"IF($B39=\"\",\"\",INDEX(INDIRECT(\"'\"&$A$2&\"'!$A:$I\"),MATCH($B39,INDIRECT(\"'\"&$A$2&\"'!$A:$A\"),0),MATCH(D$9,'1'!Titre,0)))","v":""},{"$f":"IF($B39=\"\",\"\",INDEX(INDIRECT(\"'\"&$A$2&\"'!$A:$I\"),MATCH($B39,INDIRECT(\"'\"&$A$2&\"'!$A:$A\"),0),MATCH(E$9,'1'!Titre,0)))","v":""},{"$f":"IF($B39=\"\",\"\",INDEX(INDIRECT(\"'\"&$A$2&\"'!$A:$I\"),MATCH($B39,INDIRECT(\"'\"&$A$2&\"'!$A:$A\"),0),MATCH(F$9,'1'!Titre,0)))","v":""},{"$f":"IF($B39=\"\",\"\",INDEX(INDIRECT(\"'\"&$A$2&\"'!$A:$I\"),MATCH($B39,INDIRECT(\"'\"&$A$2&\"'!$A:$A\"),0),MATCH(G$9,'1'!Titre,0)))","v":""},{"$f":"IF($B39=\"\",\"\",INDEX(INDIRECT(\"'\"&$A$2&\"'!$A:$I\"),MATCH($B39,INDIRECT(\"'\"&$A$2&\"'!$A:$A\"),0),MATCH(H$9,'1'!Titre,0)))","v":""},{"$f":"IF($B39=\"\",\"\",IF(INDEX(INDIRECT(\"'\"&$A$2&\"'!$A:$I\"),MATCH($B39,INDIRECT(\"'\"&$A$2&\"'!$A:$A\"),0),MATCH(\"SIGNATURE\",'1'!Titre,0))=\"\",IF(COUNTIF($B$10:$B129,$B39)>1,COUNTIF($B$10:$B129,$B39),\"\"),INDEX(INDIRECT(\"'\"&$A$2&\"'!$A:$I\"),MATCH($B39,INDIRECT(\"'\"&$A$2&\"'!$A:$A\"),0),MATCH(\"SIGNATURE\",'1'!Titre,0))))","v":""}]

{"sheet":"4_classement","index":17,"n_rows":39,"n_cols":9,"rows_kept":39,"cut":false,"hidden":false,"merged":[[6,3,6,7],[0,1,0,7],[2,3,2,7],[3,3,3,7],[4,3,4,7],[5,3,5,7]]}
[{"$f":"RIGHT(CELL(\"nomfichier\",A1),LEN(CELL(\"nomfichier\",A1)) - FIND(\"]\",CELL(\"nomfichier\",A1)))","v":"4_classement"},"CLASSEMENTS"]
[{"$f":"LEFT($A$1,FIND(\"_classement\",$A$1)-1)","v":"4"}]
[null,null,"Club organisateur :",{"$f":"IF(club=\"\",\"\",club)","v":""}]
[null,null,"Lieu de l'épreuve :",{"$f":"IF(lieu=\"\",\"\",lieu)","v":""}]
[null,null,"Date de l'épreuve :",{"$f":"IF(date_epreuve=\"\",\"\",date_epreuve)","v":""}]
[null,null,"Catégorie :","3ème catégorie"]
[null,null,"Nb de partants :",{"$f":"COUNTIFS(INDIRECT(\"'\"&$A2&\"'!$B$9:$B$100\"),\"><\",INDIRECT(\"'\"&$A2&\"'!$i$9:$i$100\"),\"<>Non Partant\")","v":0}]
[]
["PLACE","N°","NOM  PRENOM","M/F","FEDERATION","CATE.","CLUB","DEP."]
[1,null,{"$f":"IF($B10=\"\",\"\",INDEX(INDIRECT(\"'\"&$A$2&\"'!$A:$I\"),MATCH($B10,INDIRECT(\"'\"&$A$2&\"'!$A:$A\"),0),MATCH(C$9,'1'!Titre,0)))","v":""},{"$f":"IF($B10=\"\",\"\",INDEX(INDIRECT(\"'\"&$A$2&\"'!$A:$I\"),MATCH($B10,INDIRECT(\"'\"&$A$2&\"'!$A:$A\"),0),MATCH(D$9,'1'!Titre,0)))","v":""},{"$f":"IF($B10=\"\",\"\",INDEX(INDIRECT(\"'\"&$A$2&\"'!$A:$I\"),MATCH($B10,INDIRECT(\"'\"&$A$2&\"'!$A:$A\"),0),MATCH(E$9,'1'!Titre,0)))","v":""},{"$f":"IF($B10=\"\",\"\",INDEX(INDIRECT(\"'\"&$A$2&\"'!$A:$I\"),MATCH($B10,INDIRECT(\"'\"&$A$2&\"'!$A:$A\"),0),MATCH(F$9,'1'!Titre,0)))","v":""},{"$f":"IF($B10=\"\",\"\",INDEX(INDIRECT(\"'\"&$A$2&\"'!$A:$I\"),MATCH($B10,INDIRECT(\"'\"&$A$2&\"'!$A:$A\"),0),MATCH(G$9,'1'!Titre,0)))","v":""},{"$f":"IF($B10=\"\",\"\",INDEX(INDIRECT(\"'\"&$A$2&\"'!$A:$I\"),MATCH($B10,INDIRECT(\"'\"&$A$2&\"'!$A:$A\"),0),MATCH(H$9,'1'!Titre,0)))","v":""},{"$f":"IF($B10=\"\",\"\",IF(INDEX(INDIRECT(\"'\"&$A$2&\"'!$A:$I\"),MATCH($B10,INDIRECT(\"'\"&$A$2&\"'!$A:$A\"),0),MATCH(\"SIGNATURE\",'1'!Titre,0))=\"\",IF(COUNTIF($B$10:$B100,$B10)>1,COUNTIF($B$10:$B100,$B10),\"\"),INDEX(INDIRECT(\"'\"&$A$2&\"'!$A:$I\"),MATCH($B10,INDIRECT(\"'\"&$A$2&\"'!$A:$A\"),0),MATCH(\"SIGNATURE\",'1'!Titre,0))))","v":""}]
[2,null,{"$f":"IF($B11=\"\",\"\",INDEX(INDIRECT(\"'\"&$A$2&\"'!$A:$I\"),MATCH($B11,INDIRECT(\"'\"&$A$2&\"'!$A:$A\"),0),MATCH(C$9,'1'!Titre,0)))","v":""},{"$f":"IF($B11=\"\",\"\",INDEX(INDIRECT(\"'\"&$A$2&\"'!$A:$I\"),MATCH($B11,INDIRECT(\"'\"&$A$2&\"'!$A:$A\"),0),MATCH(D$9,'1'!Titre,0)))","v":""},{"$f":"IF($B11=\"\",\"\",INDEX(INDIRECT(\"'\"&$A$2&\"'!$A:$I\"),MATCH($B11,INDIRECT(\"'\"&$A$2&\"'!$A:$A\"),0),MATCH(E$9,'1'!Titre,0)))","v":""},{"$f":"IF($B11=\"\",\"\",INDEX(INDIRECT(\"'\"&$A$2&\"'!$A:$I\"),MATCH($B11,INDIRECT(\"'\"&$A$2&\"'!$A:$A\"),0),MATCH(F$9,'1'!Titre,0)))","v":""},{"$f":"IF($B11=\"\",\"\",INDEX(INDIRECT(\"'\"&$A$2&\"'!$A:$I\"),MATCH($B11,INDIRECT(\"'\"&$A$2&\"'!$A:$A\"),0),MATCH(G$9,'1'!Titre,0)))","v":""},{"$f":"IF($B11=\"\",\"\",INDEX(INDIRECT(\"'\"&$A$2&\"'!$A:$I\"),MATCH($B11,INDIRECT(\"'\"&$A$2&\"'!$A:$A\"),0),MATCH(H$9,'1'!Titre,0)))","v":""},{"$f":"IF($B11=\"\",\"\",IF(INDEX(INDIRECT(\"'\"&$A$2&\"'!$A:$I\"),MATCH($B11,INDIRECT(\"'\"&$A$2&\"'!$A:$A\"),0),MATCH(\"SIGNATURE\",'1'!Titre,0))=\"\",IF(COUNTIF($B$10:$B101,$B11)>1,COUNTIF($B$10:$B101,$B11),\"\"),INDEX(INDIRECT(\"'\"&$A$2&\"'!$A:$I\"),MATCH($B11,INDIRECT(\"'\"&$A$2&\"'!$A:$A\"),0),MATCH(\"SIGNATURE\",'1'!Titre,0))))","v":""}]
[3,null,{"$f":"IF($B12=\"\",\"\",INDEX(INDIRECT(\"'\"&$A$2&\"'!$A:$I\"),MATCH($B12,INDIRECT(\"'\"&$A$2&\"'!$A:$A\"),0),MATCH(C$9,'1'!Titre,0)))","v":""},{"$f":"IF($B12=\"\",\"\",INDEX(INDIRECT(\"'\"&$A$2&\"'!$A:$I\"),MATCH($B12,INDIRECT(\"'\"&$A$2&\"'!$A:$A\"),0),MATCH(D$9,'1'!Titre,0)))","v":""},{"$f":"IF($B12=\"\",\"\",INDEX(INDIRECT(\"'\"&$A$2&\"'!$A:$I\"),MATCH($B12,INDIRECT(\"'\"&$A$2&\"'!$A:$A\"),0),MATCH(E$9,'1'!Titre,0)))","v":""},{"$f":"IF($B12=\"\",\"\",INDEX(INDIRECT(\"'\"&$A$2&\"'!$A:$I\"),MATCH($B12,INDIRECT(\"'\"&$A$2&\"'!$A:$A\"),0),MATCH(F$9,'1'!Titre,0)))","v":""},{"$f":"IF($B12=\"\",\"\",INDEX(INDIRECT(\"'\"&$A$2&\"'!$A:$I\"),MATCH($B12,INDIRECT(\"'\"&$A$2&\"'!$A:$A\"),0),MATCH(G$9,'1'!Titre,0)))","v":""},{"$f":"IF($B12=\"\",\"\",INDEX(INDIRECT(\"'\"&$A$2&\"'!$A:$I\"),MATCH($B12,INDIRECT(\"'\"&$A$2&\"'!$A:$A\"),0),MATCH(H$9,'1'!Titre,0)))","v":""},{"$f":"IF($B12=\"\",\"\",IF(INDEX(INDIRECT(\"'\"&$A$2&\"'!$A:$I\"),MATCH($B12,INDIRECT(\"'\"&$A$2&\"'!$A:$A\"),0),MATCH(\"SIGNATURE\",'1'!Titre,0))=\"\",IF(COUNTIF($B$10:$B102,$B12)>1,COUNTIF($B$10:$B102,$B12),\"\"),INDEX(INDIRECT(\"'\"&$A$2&\"'!$A:$I\"),MATCH($B12,INDIRECT(\"'\"&$A$2&\"'!$A:$A\"),0),MATCH(\"SIGNATURE\",'1'!Titre,0))))","v":""}]
[4,null,{"$f":"IF($B13=\"\",\"\",INDEX(INDIRECT(\"'\"&$A$2&\"'!$A:$I\"),MATCH($B13,INDIRECT(\"'\"&$A$2&\"'!$A:$A\"),0),MATCH(C$9,'1'!Titre,0)))","v":""},{"$f":"IF($B13=\"\",\"\",INDEX(INDIRECT(\"'\"&$A$2&\"'!$A:$I\"),MATCH($B13,INDIRECT(\"'\"&$A$2&\"'!$A:$A\"),0),MATCH(D$9,'1'!Titre,0)))","v":""},{"$f":"IF($B13=\"\",\"\",INDEX(INDIRECT(\"'\"&$A$2&\"'!$A:$I\"),MATCH($B13,INDIRECT(\"'\"&$A$2&\"'!$A:$A\"),0),MATCH(E$9,'1'!Titre,0)))","v":""},{"$f":"IF($B13=\"\",\"\",INDEX(INDIRECT(\"'\"&$A$2&\"'!$A:$I\"),MATCH($B13,INDIRECT(\"'\"&$A$2&\"'!$A:$A\"),0),MATCH(F$9,'1'!Titre,0)))","v":""},{"$f":"IF($B13=\"\",\"\",INDEX(INDIRECT(\"'\"&$A$2&\"'!$A:$I\"),MATCH($B13,INDIRECT(\"'\"&$A$2&\"'!$A:$A\"),0),MATCH(G$9,'1'!Titre,0)))","v":""},{"$f":"IF($B13=\"\",\"\",INDEX(INDIRECT(\"'\"&$A$2&\"'!$A:$I\"),MATCH($B13,INDIRECT(\"'\"&$A$2&\"'!$A:$A\"),0),MATCH(H$9,'1'!Titre,0)))","v":""},{"$f":"IF($B13=\"\",\"\",IF(INDEX(INDIRECT(\"'\"&$A$2&\"'!$A:$I\"),MATCH($B13,INDIRECT(\"'\"&$A$2&\"'!$A:$A\"),0),MATCH(\"SIGNATURE\",'1'!Titre,0))=\"\",IF(COUNTIF($B$10:$B103,$B13)>1,COUNTIF($B$10:$B103,$B13),\"\"),INDEX(INDIRECT(\"'\"&$A$2&\"'!$A:$I\"),MATCH($B13,INDIRECT(\"'\"&$A$2&\"'!$A:$A\"),0),MATCH(\"SIGNATURE\",'1'!Titre,0))))","v":""}]
[5,null,{"$f":"IF($B14=\"\",\"\",INDEX(INDIRECT(\"'\"&$A$2&\"'!$A:$I\"),MATCH($B14,INDIRECT(\"'\"&$A$2&\"'!$A:$A\"),0),MATCH(C$9,'1'!Titre,0)))","v":""},{"$f":"IF($B14=\"\",\"\",INDEX(INDIRECT(\"'\"&$A$2&\"'!$A:$I\"),MATCH($B14,INDIRECT(\"'\"&$A$2&\"'!$A:$A\"),0),MATCH(D$9,'1'!Titre,0)))","v":""},{"$f":"IF($B14=\"\",\"\",INDEX(INDIRECT(\"'\"&$A$2&\"'!$A:$I\"),MATCH($B14,INDIRECT(\"'\"&$A$2&\"'!$A:$A\"),0),MATCH(E$9,'1'!Titre,0)))","v":""},{"$f":"IF($B14=\"\",\"\",INDEX(INDIRECT(\"'\"&$A$2&\"'!$A:$I\"),MATCH($B14,INDIRECT(\"'\"&$A$2&\"'!$A:$A\"),0),MATCH(F$9,'1'!Titre,0)))","v":""},{"$f":"IF($B14=\"\",\"\",INDEX(INDIRECT(\"'\"&$A$2&\"'!$A:$I\"),MATCH($B14,INDIRECT(\"'\"&$A$2&\"'!$A:$A\"),0),MATCH(G$9,'1'!Titre,0)))","v":""},{"$f":"IF($B14=\"\",\"\",INDEX(INDIRECT(\"'\"&$A$2&\"'!$A:$I\"),MATCH($B14,INDIRECT(\"'\"&$A$2&\"'!$A:$A\"),0),MATCH(H$9,'1'!Titre,0)))","v":""},{"$f":"IF($B14=\"\",\"\",IF(INDEX(INDIRECT(\"'\"&$A$2&\"'!$A:$I\"),MATCH($B14,INDIRECT(\"'\"&$A$2&\"'!$A:$A\"),0),MATCH(\"SIGNATURE\",'1'!Titre,0))=\"\",IF(COUNTIF($B$10:$B104,$B14)>1,COUNTIF($B$10:$B104,$B14),\"\"),INDEX(INDIRECT(\"'\"&$A$2&\"'!$A:$I\"),MATCH($B14,INDIRECT(\"'\"&$A$2&\"'!$A:$A\"),0),MATCH(\"SIGNATURE\",'1'!Titre,0))))","v":""}]
[6,null,{"$f":"IF($B15=\"\",\"\",INDEX(INDIRECT(\"'\"&$A$2&\"'!$A:$I\"),MATCH($B15,INDIRECT(\"'\"&$A$2&\"'!$A:$A\"),0),MATCH(C$9,'1'!Titre,0)))","v":""},{"$f":"IF($B15=\"\",\"\",INDEX(INDIRECT(\"'\"&$A$2&\"'!$A:$I\"),MATCH($B15,INDIRECT(\"'\"&$A$2&\"'!$A:$A\"),0),MATCH(D$9,'1'!Titre,0)))","v":""},{"$f":"IF($B15=\"\",\"\",INDEX(INDIRECT(\"'\"&$A$2&\"'!$A:$I\"),MATCH($B15,INDIRECT(\"'\"&$A$2&\"'!$A:$A\"),0),MATCH(E$9,'1'!Titre,0)))","v":""},{"$f":"IF($B15=\"\",\"\",INDEX(INDIRECT(\"'\"&$A$2&\"'!$A:$I\"),MATCH($B15,INDIRECT(\"'\"&$A$2&\"'!$A:$A\"),0),MATCH(F$9,'1'!Titre,0)))","v":""},{"$f":"IF($B15=\"\",\"\",INDEX(INDIRECT(\"'\"&$A$2&\"'!$A:$I\"),MATCH($B15,INDIRECT(\"'\"&$A$2&\"'!$A:$A\"),0),MATCH(G$9,'1'!Titre,0)))","v":""},{"$f":"IF($B15=\"\",\"\",INDEX(INDIRECT(\"'\"&$A$2&\"'!$A:$I\"),MATCH($B15,INDIRECT(\"'\"&$A$2&\"'!$A:$A\"),0),MATCH(H$9,'1'!Titre,0)))","v":""},{"$f":"IF($B15=\"\",\"\",IF(INDEX(INDIRECT(\"'\"&$A$2&\"'!$A:$I\"),MATCH($B15,INDIRECT(\"'\"&$A$2&\"'!$A:$A\"),0),MATCH(\"SIGNATURE\",'1'!Titre,0))=\"\",IF(COUNTIF($B$10:$B105,$B15)>1,COUNTIF($B$10:$B105,$B15),\"\"),INDEX(INDIRECT(\"'\"&$A$2&\"'!$A:$I\"),MATCH($B15,INDIRECT(\"'\"&$A$2&\"'!$A:$A\"),0),MATCH(\"SIGNATURE\",'1'!Titre,0))))","v":""}]
[7,null,{"$f":"IF($B16=\"\",\"\",INDEX(INDIRECT(\"'\"&$A$2&\"'!$A:$I\"),MATCH($B16,INDIRECT(\"'\"&$A$2&\"'!$A:$A\"),0),MATCH(C$9,'1'!Titre,0)))","v":""},{"$f":"IF($B16=\"\",\"\",INDEX(INDIRECT(\"'\"&$A$2&\"'!$A:$I\"),MATCH($B16,INDIRECT(\"'\"&$A$2&\"'!$A:$A\"),0),MATCH(D$9,'1'!Titre,0)))","v":""},{"$f":"IF($B16=\"\",\"\",INDEX(INDIRECT(\"'\"&$A$2&\"'!$A:$I\"),MATCH($B16,INDIRECT(\"'\"&$A$2&\"'!$A:$A\"),0),MATCH(E$9,'1'!Titre,0)))","v":""},{"$f":"IF($B16=\"\",\"\",INDEX(INDIRECT(\"'\"&$A$2&\"'!$A:$I\"),MATCH($B16,INDIRECT(\"'\"&$A$2&\"'!$A:$A\"),0),MATCH(F$9,'1'!Titre,0)))","v":""},{"$f":"IF($B16=\"\",\"\",INDEX(INDIRECT(\"'\"&$A$2&\"'!$A:$I\"),MATCH($B16,INDIRECT(\"'\"&$A$2&\"'!$A:$A\"),0),MATCH(G$9,'1'!Titre,0)))","v":""},{"$f":"IF($B16=\"\",\"\",INDEX(INDIRECT(\"'\"&$A$2&\"'!$A:$I\"),MATCH($B16,INDIRECT(\"'\"&$A$2&\"'!$A:$A\"),0),MATCH(H$9,'1'!Titre,0)))","v":""},{"$f":"IF($B16=\"\",\"\",IF(INDEX(INDIRECT(\"'\"&$A$2&\"'!$A:$I\"),MATCH($B16,INDIRECT(\"'\"&$A$2&\"'!$A:$A\"),0),MATCH(\"SIGNATURE\",'1'!Titre,0))=\"\",IF(COUNTIF($B$10:$B106,$B16)>1,COUNTIF($B$10:$B106,$B16),\"\"),INDEX(INDIRECT(\"'\"&$A$2&\"'!$A:$I\"),MATCH($B16,INDIRECT(\"'\"&$A$2&\"'!$A:$A\"),0),MATCH(\"SIGNATURE\",'1'!Titre,0))))","v":""}]
[8,null,{"$f":"IF($B17=\"\",\"\",INDEX(INDIRECT(\"'\"&$A$2&\"'!$A:$I\"),MATCH($B17,INDIRECT(\"'\"&$A$2&\"'!$A:$A\"),0),MATCH(C$9,'1'!Titre,0)))","v":""},{"$f":"IF($B17=\"\",\"\",INDEX(INDIRECT(\"'\"&$A$2&\"'!$A:$I\"),MATCH($B17,INDIRECT(\"'\"&$A$2&\"'!$A:$A\"),0),MATCH(D$9,'1'!Titre,0)))","v":""},{"$f":"IF($B17=\"\",\"\",INDEX(INDIRECT(\"'\"&$A$2&\"'!$A:$I\"),MATCH($B17,INDIRECT(\"'\"&$A$2&\"'!$A:$A\"),0),MATCH(E$9,'1'!Titre,0)))","v":""},{"$f":"IF($B17=\"\",\"\",INDEX(INDIRECT(\"'\"&$A$2&\"'!$A:$I\"),MATCH($B17,INDIRECT(\"'\"&$A$2&\"'!$A:$A\"),0),MATCH(F$9,'1'!Titre,0)))","v":""},{"$f":"IF($B17=\"\",\"\",INDEX(INDIRECT(\"'\"&$A$2&\"'!$A:$I\"),MATCH($B17,INDIRECT(\"'\"&$A$2&\"'!$A:$A\"),0),MATCH(G$9,'1'!Titre,0)))","v":""},{"$f":"IF($B17=\"\",\"\",INDEX(INDIRECT(\"'\"&$A$2&\"'!$A:$I\"),MATCH($B17,INDIRECT(\"'\"&$A$2&\"'!$A:$A\"),0),MATCH(H$9,'1'!Titre,0)))","v":""},{"$f":"IF($B17=\"\",\"\",IF(INDEX(INDIRECT(\"'\"&$A$2&\"'!$A:$I\"),MATCH($B17,INDIRECT(\"'\"&$A$2&\"'!$A:$A\"),0),MATCH(\"SIGNATURE\",'1'!Titre,0))=\"\",IF(COUNTIF($B$10:$B107,$B17)>1,COUNTIF($B$10:$B107,$B17),\"\"),INDEX(INDIRECT(\"'\"&$A$2&\"'!$A:$I\"),MATCH($B17,INDIRECT(\"'\"&$A$2&\"'!$A:$A\"),0),MATCH(\"SIGNATURE\",'1'!Titre,0))))","v":""}]
[9,null,{"$f":"IF($B18=\"\",\"\",INDEX(INDIRECT(\"'\"&$A$2&\"'!$A:$I\"),MATCH($B18,INDIRECT(\"'\"&$A$2&\"'!$A:$A\"),0),MATCH(C$9,'1'!Titre,0)))","v":""},{"$f":"IF($B18=\"\",\"\",INDEX(INDIRECT(\"'\"&$A$2&\"'!$A:$I\"),MATCH($B18,INDIRECT(\"'\"&$A$2&\"'!$A:$A\"),0),MATCH(D$9,'1'!Titre,0)))","v":""},{"$f":"IF($B18=\"\",\"\",INDEX(INDIRECT(\"'\"&$A$2&\"'!$A:$I\"),MATCH($B18,INDIRECT(\"'\"&$A$2&\"'!$A:$A\"),0),MATCH(E$9,'1'!Titre,0)))","v":""},{"$f":"IF($B18=\"\",\"\",INDEX(INDIRECT(\"'\"&$A$2&\"'!$A:$I\"),MATCH($B18,INDIRECT(\"'\"&$A$2&\"'!$A:$A\"),0),MATCH(F$9,'1'!Titre,0)))","v":""},{"$f":"IF($B18=\"\",\"\",INDEX(INDIRECT(\"'\"&$A$2&\"'!$A:$I\"),MATCH($B18,INDIRECT(\"'\"&$A$2&\"'!$A:$A\"),0),MATCH(G$9,'1'!Titre,0)))","v":""},{"$f":"IF($B18=\"\",\"\",INDEX(INDIRECT(\"'\"&$A$2&\"'!$A:$I\"),MATCH($B18,INDIRECT(\"'\"&$A$2&\"'!$A:$A\"),0),MATCH(H$9,'1'!Titre,0)))","v":""},{"$f":"IF($B18=\"\",\"\",IF(INDEX(INDIRECT(\"'\"&$A$2&\"'!$A:$I\"),MATCH($B18,INDIRECT(\"'\"&$A$2&\"'!$A:$A\"),0),MATCH(\"SIGNATURE\",'1'!Titre,0))=\"\",IF(COUNTIF($B$10:$B108,$B18)>1,COUNTIF($B$10:$B108,$B18),\"\"),INDEX(INDIRECT(\"'\"&$A$2&\"'!$A:$I\"),MATCH($B18,INDIRECT(\"'\"&$A$2&\"'!$A:$A\"),0),MATCH(\"SIGNATURE\",'1'!Titre,0))))","v":""}]
[10,null,{"$f":"IF($B19=\"\",\"\",INDEX(INDIRECT(\"'\"&$A$2&\"'!$A:$I\"),MATCH($B19,INDIRECT(\"'\"&$A$2&\"'!$A:$A\"),0),MATCH(C$9,'1'!Titre,0)))","v":""},{"$f":"IF($B19=\"\",\"\",INDEX(INDIRECT(\"'\"&$A$2&\"'!$A:$I\"),MATCH($B19,INDIRECT(\"'\"&$A$2&\"'!$A:$A\"),0),MATCH(D$9,'1'!Titre,0)))","v":""},{"$f":"IF($B19=\"\",\"\",INDEX(INDIRECT(\"'\"&$A$2&\"'!$A:$I\"),MATCH($B19,INDIRECT(\"'\"&$A$2&\"'!$A:$A\"),0),MATCH(E$9,'1'!Titre,0)))","v":""},{"$f":"IF($B19=\"\",\"\",INDEX(INDIRECT(\"'\"&$A$2&\"'!$A:$I\"),MATCH($B19,INDIRECT(\"'\"&$A$2&\"'!$A:$A\"),0),MATCH(F$9,'1'!Titre,0)))","v":""},{"$f":"IF($B19=\"\",\"\",INDEX(INDIRECT(\"'\"&$A$2&\"'!$A:$I\"),MATCH($B19,INDIRECT(\"'\"&$A$2&\"'!$A:$A\"),0),MATCH(G$9,'1'!Titre,0)))","v":""},{"$f":"IF($B19=\"\",\"\",INDEX(INDIRECT(\"'\"&$A$2&\"'!$A:$I\"),MATCH($B19,INDIRECT(\"'\"&$A$2&\"'!$A:$A\"),0),MATCH(H$9,'1'!Titre,0)))","v":""},{"$f":"IF($B19=\"\",\"\",IF(INDEX(INDIRECT(\"'\"&$A$2&\"'!$A:$I\"),MATCH($B19,INDIRECT(\"'\"&$A$2&\"'!$A:$A\"),0),MATCH(\"SIGNATURE\",'1'!Titre,0))=\"\",IF(COUNTIF($B$10:$B109,$B19)>1,COUNTIF($B$10:$B109,$B19),\"\"),INDEX(INDIRECT(\"'\"&$A$2&\"'!$A:$I\"),MATCH($B19,INDIRECT(\"'\"&$A$2&\"'!$A:$A\"),0),MATCH(\"SIGNATURE\",'1'!Titre,0))))","v":""}]
[11,null,{"$f":"IF($B20=\"\",\"\",INDEX(INDIRECT(\"'\"&$A$2&\"'!$A:$I\"),MATCH($B20,INDIRECT(\"'\"&$A$2&\"'!$A:$A\"),0),MATCH(C$9,'1'!Titre,0)))","v":""},{"$f":"IF($B20=\"\",\"\",INDEX(INDIRECT(\"'\"&$A$2&\"'!$A:$I\"),MATCH($B20,INDIRECT(\"'\"&$A$2&\"'!$A:$A\"),0),MATCH(D$9,'1'!Titre,0)))","v":""},{"$f":"IF($B20=\"\",\"\",INDEX(INDIRECT(\"'\"&$A$2&\"'!$A:$I\"),MATCH($B20,INDIRECT(\"'\"&$A$2&\"'!$A:$A\"),0),MATCH(E$9,'1'!Titre,0)))","v":""},{"$f":"IF($B20=\"\",\"\",INDEX(INDIRECT(\"'\"&$A$2&\"'!$A:$I\"),MATCH($B20,INDIRECT(\"'\"&$A$2&\"'!$A:$A\"),0),MATCH(F$9,'1'!Titre,0)))","v":""},{"$f":"IF($B20=\"\",\"\",INDEX(INDIRECT(\"'\"&$A$2&\"'!$A:$I\"),MATCH($B20,INDIRECT(\"'\"&$A$2&\"'!$A:$A\"),0),MATCH(G$9,'1'!Titre,0)))","v":""},{"$f":"IF($B20=\"\",\"\",INDEX(INDIRECT(\"'\"&$A$2&\"'!$A:$I\"),MATCH($B20,INDIRECT(\"'\"&$A$2&\"'!$A:$A\"),0),MATCH(H$9,'1'!Titre,0)))","v":""},{"$f":"IF($B20=\"\",\"\",IF(INDEX(INDIRECT(\"'\"&$A$2&\"'!$A:$I\"),MATCH($B20,INDIRECT(\"'\"&$A$2&\"'!$A:$A\"),0),MATCH(\"SIGNATURE\",'1'!Titre,0))=\"\",IF(COUNTIF($B$10:$B110,$B20)>1,COUNTIF($B$10:$B110,$B20),\"\"),INDEX(INDIRECT(\"'\"&$A$2&\"'!$A:$I\"),MATCH($B20,INDIRECT(\"'\"&$A$2&\"'!$A:$A\"),0),MATCH(\"SIGNATURE\",'1'!Titre,0))))","v":""}]
[12,null,{"$f":"IF($B21=\"\",\"\",INDEX(INDIRECT(\"'\"&$A$2&\"'!$A:$I\"),MATCH($B21,INDIRECT(\"'\"&$A$2&\"'!$A:$A\"),0),MATCH(C$9,'1'!Titre,0)))","v":""},{"$f":"IF($B21=\"\",\"\",INDEX(INDIRECT(\"'\"&$A$2&\"'!$A:$I\"),MATCH($B21,INDIRECT(\"'\"&$A$2&\"'!$A:$A\"),0),MATCH(D$9,'1'!Titre,0)))","v":""},{"$f":"IF($B21=\"\",\"\",INDEX(INDIRECT(\"'\"&$A$2&\"'!$A:$I\"),MATCH($B21,INDIRECT(\"'\"&$A$2&\"'!$A:$A\"),0),MATCH(E$9,'1'!Titre,0)))","v":""},{"$f":"IF($B21=\"\",\"\",INDEX(INDIRECT(\"'\"&$A$2&\"'!$A:$I\"),MATCH($B21,INDIRECT(\"'\"&$A$2&\"'!$A:$A\"),0),MATCH(F$9,'1'!Titre,0)))","v":""},{"$f":"IF($B21=\"\",\"\",INDEX(INDIRECT(\"'\"&$A$2&\"'!$A:$I\"),MATCH($B21,INDIRECT(\"'\"&$A$2&\"'!$A:$A\"),0),MATCH(G$9,'1'!Titre,0)))","v":""},{"$f":"IF($B21=\"\",\"\",INDEX(INDIRECT(\"'\"&$A$2&\"'!$A:$I\"),MATCH($B21,INDIRECT(\"'\"&$A$2&\"'!$A:$A\"),0),MATCH(H$9,'1'!Titre,0)))","v":""},{"$f":"IF($B21=\"\",\"\",IF(INDEX(INDIRECT(\"'\"&$A$2&\"'!$A:$I\"),MATCH($B21,INDIRECT(\"'\"&$A$2&\"'!$A:$A\"),0),MATCH(\"SIGNATURE\",'1'!Titre,0))=\"\",IF(COUNTIF($B$10:$B111,$B21)>1,COUNTIF($B$10:$B111,$B21),\"\"),INDEX(INDIRECT(\"'\"&$A$2&\"'!$A:$I\"),MATCH($B21,INDIRECT(\"'\"&$A$2&\"'!$A:$A\"),0),MATCH(\"SIGNATURE\",'1'!Titre,0))))","v":""}]
[13,null,{"$f":"IF($B22=\"\",\"\",INDEX(INDIRECT(\"'\"&$A$2&\"'!$A:$I\"),MATCH($B22,INDIRECT(\"'\"&$A$2&\"'!$A:$A\"),0),MATCH(C$9,'1'!Titre,0)))","v":""},{"$f":"IF($B22=\"\",\"\",INDEX(INDIRECT(\"'\"&$A$2&\"'!$A:$I\"),MATCH($B22,INDIRECT(\"'\"&$A$2&\"'!$A:$A\"),0),MATCH(D$9,'1'!Titre,0)))","v":""},{"$f":"IF($B22=\"\",\"\",INDEX(INDIRECT(\"'\"&$A$2&\"'!$A:$I\"),MATCH($B22,INDIRECT(\"'\"&$A$2&\"'!$A:$A\"),0),MATCH(E$9,'1'!Titre,0)))","v":""},{"$f":"IF($B22=\"\",\"\",INDEX(INDIRECT(\"'\"&$A$2&\"'!$A:$I\"),MATCH($B22,INDIRECT(\"'\"&$A$2&\"'!$A:$A\"),0),MATCH(F$9,'1'!Titre,0)))","v":""},{"$f":"IF($B22=\"\",\"\",INDEX(INDIRECT(\"'\"&$A$2&\"'!$A:$I\"),MATCH($B22,INDIRECT(\"'\"&$A$2&\"'!$A:$A\"),0),MATCH(G$9,'1'!Titre,0)))","v":""},{"$f":"IF($B22=\"\",\"\",INDEX(INDIRECT(\"'\"&$A$2&\"'!$A:$I\"),MATCH($B22,INDIRECT(\"'\"&$A$2&\"'!$A:$A\"),0),MATCH(H$9,'1'!Titre,0)))","v":""},{"$f":"IF($B22=\"\",\"\",IF(INDEX(INDIRECT(\"'\"&$A$2&\"'!$A:$I\"),MATCH($B22,INDIRECT(\"'\"&$A$2&\"'!$A:$A\"),0),MATCH(\"SIGNATURE\",'1'!Titre,0))=\"\",IF(COUNTIF($B$10:$B112,$B22)>1,COUNTIF($B$10:$B112,$B22),\"\"),INDEX(INDIRECT(\"'\"&$A$2&\"'!$A:$I\"),MATCH($B22,INDIRECT(\"'\"&$A$2&\"'!$A:$A\"),0),MATCH(\"SIGNATURE\",'1'!Titre,0))))","v":""}]
[14,null,{"$f":"IF($B23=\"\",\"\",INDEX(INDIRECT(\"'\"&$A$2&\"'!$A:$I\"),MATCH($B23,INDIRECT(\"'\"&$A$2&\"'!$A:$A\"),0),MATCH(C$9,'1'!Titre,0)))","v":""},{"$f":"IF($B23=\"\",\"\",INDEX(INDIRECT(\"'\"&$A$2&\"'!$A:$I\"),MATCH($B23,INDIRECT(\"'\"&$A$2&\"'!$A:$A\"),0),MATCH(D$9,'1'!Titre,0)))","v":""},{"$f":"IF($B23=\"\",\"\",INDEX(INDIRECT(\"'\"&$A$2&\"'!$A:$I\"),MATCH($B23,INDIRECT(\"'\"&$A$2&\"'!$A:$A\"),0),MATCH(E$9,'1'!Titre,0)))","v":""},{"$f":"IF($B23=\"\",\"\",INDEX(INDIRECT(\"'\"&$A$2&\"'!$A:$I\"),MATCH($B23,INDIRECT(\"'\"&$A$2&\"'!$A:$A\"),0),MATCH(F$9,'1'!Titre,0)))","v":""},{"$f":"IF($B23=\"\",\"\",INDEX(INDIRECT(\"'\"&$A$2&\"'!$A:$I\"),MATCH($B23,INDIRECT(\"'\"&$A$2&\"'!$A:$A\"),0),MATCH(G$9,'1'!Titre,0)))","v":""},{"$f":"IF($B23=\"\",\"\",INDEX(INDIRECT(\"'\"&$A$2&\"'!$A:$I\"),MATCH($B23,INDIRECT(\"'\"&$A$2&\"'!$A:$A\"),0),MATCH(H$9,'1'!Titre,0)))","v":""},{"$f":"IF($B23=\"\",\"\",IF(INDEX(INDIRECT(\"'\"&$A$2&\"'!$A:$I\"),MATCH($B23,INDIRECT(\"'\"&$A$2&\"'!$A:$A\"),0),MATCH(\"SIGNATURE\",'1'!Titre,0))=\"\",IF(COUNTIF($B$10:$B113,$B23)>1,COUNTIF($B$10:$B113,$B23),\"\"),INDEX(INDIRECT(\"'\"&$A$2&\"'!$A:$I\"),MATCH($B23,INDIRECT(\"'\"&$A$2&\"'!$A:$A\"),0),MATCH(\"SIGNATURE\",'1'!Titre,0))))","v":""}]
[15,null,{"$f":"IF($B24=\"\",\"\",INDEX(INDIRECT(\"'\"&$A$2&\"'!$A:$I\"),MATCH($B24,INDIRECT(\"'\"&$A$2&\"'!$A:$A\"),0),MATCH(C$9,'1'!Titre,0)))","v":""},{"$f":"IF($B24=\"\",\"\",INDEX(INDIRECT(\"'\"&$A$2&\"'!$A:$I\"),MATCH($B24,INDIRECT(\"'\"&$A$2&\"'!$A:$A\"),0),MATCH(D$9,'1'!Titre,0)))","v":""},{"$f":"IF($B24=\"\",\"\",INDEX(INDIRECT(\"'\"&$A$2&\"'!$A:$I\"),MATCH($B24,INDIRECT(\"'\"&$A$2&\"'!$A:$A\"),0),MATCH(E$9,'1'!Titre,0)))","v":""},{"$f":"IF($B24=\"\",\"\",INDEX(INDIRECT(\"'\"&$A$2&\"'!$A:$I\"),MATCH($B24,INDIRECT(\"'\"&$A$2&\"'!$A:$A\"),0),MATCH(F$9,'1'!Titre,0)))","v":""},{"$f":"IF($B24=\"\",\"\",INDEX(INDIRECT(\"'\"&$A$2&\"'!$A:$I\"),MATCH($B24,INDIRECT(\"'\"&$A$2&\"'!$A:$A\"),0),MATCH(G$9,'1'!Titre,0)))","v":""},{"$f":"IF($B24=\"\",\"\",INDEX(INDIRECT(\"'\"&$A$2&\"'!$A:$I\"),MATCH($B24,INDIRECT(\"'\"&$A$2&\"'!$A:$A\"),0),MATCH(H$9,'1'!Titre,0)))","v":""},{"$f":"IF($B24=\"\",\"\",IF(INDEX(INDIRECT(\"'\"&$A$2&\"'!$A:$I\"),MATCH($B24,INDIRECT(\"'\"&$A$2&\"'!$A:$A\"),0),MATCH(\"SIGNATURE\",'1'!Titre,0))=\"\",IF(COUNTIF($B$10:$B114,$B24)>1,COUNTIF($B$10:$B114,$B24),\"\"),INDEX(INDIRECT(\"'\"&$A$2&\"'!$A:$I\"),MATCH($B24,INDIRECT(\"'\"&$A$2&\"'!$A:$A\"),0),MATCH(\"SIGNATURE\",'1'!Titre,0))))","v":""}]
[16,null,{"$f":"IF($B25=\"\",\"\",INDEX(INDIRECT(\"'\"&$A$2&\"'!$A:$I\"),MATCH($B25,INDIRECT(\"'\"&$A$2&\"'!$A:$A\"),0),MATCH(C$9,'1'!Titre,0)))","v":""},{"$f":"IF($B25=\"\",\"\",INDEX(INDIRECT(\"'\"&$A$2&\"'!$A:$I\"),MATCH($B25,INDIRECT(\"'\"&$A$2&\"'!$A:$A\"),0),MATCH(D$9,'1'!Titre,0)))","v":""},{"$f":"IF($B25=\"\",\"\",INDEX(INDIRECT(\"'\"&$A$2&\"'!$A:$I\"),MATCH($B25,INDIRECT(\"'\"&$A$2&\"'!$A:$A\"),0),MATCH(E$9,'1'!Titre,0)))","v":""},{"$f":"IF($B25=\"\",\"\",INDEX(INDIRECT(\"'\"&$A$2&\"'!$A:$I\"),MATCH($B25,INDIRECT(\"'\"&$A$2&\"'!$A:$A\"),0),MATCH(F$9,'1'!Titre,0)))","v":""},{"$f":"IF($B25=\"\",\"\",INDEX(INDIRECT(\"'\"&$A$2&\"'!$A:$I\"),MATCH($B25,INDIRECT(\"'\"&$A$2&\"'!$A:$A\"),0),MATCH(G$9,'1'!Titre,0)))","v":""},{"$f":"IF($B25=\"\",\"\",INDEX(INDIRECT(\"'\"&$A$2&\"'!$A:$I\"),MATCH($B25,INDIRECT(\"'\"&$A$2&\"'!$A:$A\"),0),MATCH(H$9,'1'!Titre,0)))","v":""},{"$f":"IF($B25=\"\",\"\",IF(INDEX(INDIRECT(\"'\"&$A$2&\"'!$A:$I\"),MATCH($B25,INDIRECT(\"'\"&$A$2&\"'!$A:$A\"),0),MATCH(\"SIGNATURE\",'1'!Titre,0))=\"\",IF(COUNTIF($B$10:$B115,$B25)>1,COUNTIF($B$10:$B115,$B25),\"\"),INDEX(INDIRECT(\"'\"&$A$2&\"'!$A:$I\"),MATCH($B25,INDIRECT(\"'\"&$A$2&\"'!$A:$A\"),0),MATCH(\"SIGNATURE\",'1'!Titre,0))))","v":""}]
[17,null,{"$f":"IF($B26=\"\",\"\",INDEX(INDIRECT(\"'\"&$A$2&\"'!$A:$I\"),MATCH($B26,INDIRECT(\"'\"&$A$2&\"'!$A:$A\"),0),MATCH(C$9,'1'!Titre,0)))","v":""},{"$f":"IF($B26=\"\",\"\",INDEX(INDIRECT(\"'\"&$A$2&\"'!$A:$I\"),MATCH($B26,INDIRECT(\"'\"&$A$2&\"'!$A:$A\"),0),MATCH(D$9,'1'!Titre,0)))","v":""},{"$f":"IF($B26=\"\",\"\",INDEX(INDIRECT(\"'\"&$A$2&\"'!$A:$I\"),MATCH($B26,INDIRECT(\"'\"&$A$2&\"'!$A:$A\"),0),MATCH(E$9,'1'!Titre,0)))","v":""},{"$f":"IF($B26=\"\",\"\",INDEX(INDIRECT(\"'\"&$A$2&\"'!$A:$I\"),MATCH($B26,INDIRECT(\"'\"&$A$2&\"'!$A:$A\"),0),MATCH(F$9,'1'!Titre,0)))","v":""},{"$f":"IF($B26=\"\",\"\",INDEX(INDIRECT(\"'\"&$A$2&\"'!$A:$I\"),MATCH($B26,INDIRECT(\"'\"&$A$2&\"'!$A:$A\"),0),MATCH(G$9,'1'!Titre,0)))","v":""},{"$f":"IF($B26=\"\",\"\",INDEX(INDIRECT(\"'\"&$A$2&\"'!$A:$I\"),MATCH($B26,INDIRECT(\"'\"&$A$2&\"'!$A:$A\"),0),MATCH(H$9,'1'!Titre,0)))","v":""},{"$f":"IF($B26=\"\",\"\",IF(INDEX(INDIRECT(\"'\"&$A$2&\"'!$A:$I\"),MATCH($B26,INDIRECT(\"'\"&$A$2&\"'!$A:$A\"),0),MATCH(\"SIGNATURE\",'1'!Titre,0))=\"\",IF(COUNTIF($B$10:$B116,$B26)>1,COUNTIF($B$10:$B116,$B26),\"\"),INDEX(INDIRECT(\"'\"&$A$2&\"'!$A:$I\"),MATCH($B26,INDIRECT(\"'\"&$A$2&\"'!$A:$A\"),0),MATCH(\"SIGNATURE\",'1'!Titre,0))))","v":""}]
[18,null,{"$f":"IF($B27=\"\",\"\",INDEX(INDIRECT(\"'\"&$A$2&\"'!$A:$I\"),MATCH($B27,INDIRECT(\"'\"&$A$2&\"'!$A:$A\"),0),MATCH(C$9,'1'!Titre,0)))","v":""},{"$f":"IF($B27=\"\",\"\",INDEX(INDIRECT(\"'\"&$A$2&\"'!$A:$I\"),MATCH($B27,INDIRECT(\"'\"&$A$2&\"'!$A:$A\"),0),MATCH(D$9,'1'!Titre,0)))","v":""},{"$f":"IF($B27=\"\",\"\",INDEX(INDIRECT(\"'\"&$A$2&\"'!$A:$I\"),MATCH($B27,INDIRECT(\"'\"&$A$2&\"'!$A:$A\"),0),MATCH(E$9,'1'!Titre,0)))","v":""},{"$f":"IF($B27=\"\",\"\",INDEX(INDIRECT(\"'\"&$A$2&\"'!$A:$I\"),MATCH($B27,INDIRECT(\"'\"&$A$2&\"'!$A:$A\"),0),MATCH(F$9,'1'!Titre,0)))","v":""},{"$f":"IF($B27=\"\",\"\",INDEX(INDIRECT(\"'\"&$A$2&\"'!$A:$I\"),MATCH($B27,INDIRECT(\"'\"&$A$2&\"'!$A:$A\"),0),MATCH(G$9,'1'!Titre,0)))","v":""},{"$f":"IF($B27=\"\",\"\",INDEX(INDIRECT(\"'\"&$A$2&\"'!$A:$I\"),MATCH($B27,INDIRECT(\"'\"&$A$2&\"'!$A:$A\"),0),MATCH(H$9,'1'!Titre,0)))","v":""},{"$f":"IF($B27=\"\",\"\",IF(INDEX(INDIRECT(\"'\"&$A$2&\"'!$A:$I\"),MATCH($B27,INDIRECT(\"'\"&$A$2&\"'!$A:$A\"),0),MATCH(\"SIGNATURE\",'1'!Titre,0))=\"\",IF(COUNTIF($B$10:$B117,$B27)>1,COUNTIF($B$10:$B117,$B27),\"\"),INDEX(INDIRECT(\"'\"&$A$2&\"'!$A:$I\"),MATCH($B27,INDIRECT(\"'\"&$A$2&\"'!$A:$A\"),0),MATCH(\"SIGNATURE\",'1'!Titre,0))))","v":""}]
[19,null,{"$f":"IF($B28=\"\",\"\",INDEX(INDIRECT(\"'\"&$A$2&\"'!$A:$I\"),MATCH($B28,INDIRECT(\"'\"&$A$2&\"'!$A:$A\"),0),MATCH(C$9,'1'!Titre,0)))","v":""},{"$f":"IF($B28=\"\",\"\",INDEX(INDIRECT(\"'\"&$A$2&\"'!$A:$I\"),MATCH($B28,INDIRECT(\"'\"&$A$2&\"'!$A:$A\"),0),MATCH(D$9,'1'!Titre,0)))","v":""},{"$f":"IF($B28=\"\",\"\",INDEX(INDIRECT(\"'\"&$A$2&\"'!$A:$I\"),MATCH($B28,INDIRECT(\"'\"&$A$2&\"'!$A:$A\"),0),MATCH(E$9,'1'!Titre,0)))","v":""},{"$f":"IF($B28=\"\",\"\",INDEX(INDIRECT(\"'\"&$A$2&\"'!$A:$I\"),MATCH($B28,INDIRECT(\"'\"&$A$2&\"'!$A:$A\"),0),MATCH(F$9,'1'!Titre,0)))","v":""},{"$f":"IF($B28=\"\",\"\",INDEX(INDIRECT(\"'\"&$A$2&\"'!$A:$I\"),MATCH($B28,INDIRECT(\"'\"&$A$2&\"'!$A:$A\"),0),MATCH(G$9,'1'!Titre,0)))","v":""},{"$f":"IF($B28=\"\",\"\",INDEX(INDIRECT(\"'\"&$A$2&\"'!$A:$I\"),MATCH($B28,INDIRECT(\"'\"&$A$2&\"'!$A:$A\"),0),MATCH(H$9,'1'!Titre,0)))","v":""},{"$f":"IF($B28=\"\",\"\",IF(INDEX(INDIRECT(\"'\"&$A$2&\"'!$A:$I\"),MATCH($B28,INDIRECT(\"'\"&$A$2&\"'!$A:$A\"),0),MATCH(\"SIGNATURE\",'1'!Titre,0))=\"\",IF(COUNTIF($B$10:$B118,$B28)>1,COUNTIF($B$10:$B118,$B28),\"\"),INDEX(INDIRECT(\"'\"&$A$2&\"'!$A:$I\"),MATCH($B28,INDIRECT(\"'\"&$A$2&\"'!$A:$A\"),0),MATCH(\"SIGNATURE\",'1'!Titre,0))))","v":""}]
[20,null,{"$f":"IF($B29=\"\",\"\",INDEX(INDIRECT(\"'\"&$A$2&\"'!$A:$I\"),MATCH($B29,INDIRECT(\"'\"&$A$2&\"'!$A:$A\"),0),MATCH(C$9,'1'!Titre,0)))","v":""},{"$f":"IF($B29=\"\",\"\",INDEX(INDIRECT(\"'\"&$A$2&\"'!$A:$I\"),MATCH($B29,INDIRECT(\"'\"&$A$2&\"'!$A:$A\"),0),MATCH(D$9,'1'!Titre,0)))","v":""},{"$f":"IF($B29=\"\",\"\",INDEX(INDIRECT(\"'\"&$A$2&\"'!$A:$I\"),MATCH($B29,INDIRECT(\"'\"&$A$2&\"'!$A:$A\"),0),MATCH(E$9,'1'!Titre,0)))","v":""},{"$f":"IF($B29=\"\",\"\",INDEX(INDIRECT(\"'\"&$A$2&\"'!$A:$I\"),MATCH($B29,INDIRECT(\"'\"&$A$2&\"'!$A:$A\"),0),MATCH(F$9,'1'!Titre,0)))","v":""},{"$f":"IF($B29=\"\",\"\",INDEX(INDIRECT(\"'\"&$A$2&\"'!$A:$I\"),MATCH($B29,INDIRECT(\"'\"&$A$2&\"'!$A:$A\"),0),MATCH(G$9,'1'!Titre,0)))","v":""},{"$f":"IF($B29=\"\",\"\",INDEX(INDIRECT(\"'\"&$A$2&\"'!$A:$I\"),MATCH($B29,INDIRECT(\"'\"&$A$2&\"'!$A:$A\"),0),MATCH(H$9,'1'!Titre,0)))","v":""},{"$f":"IF($B29=\"\",\"\",IF(INDEX(INDIRECT(\"'\"&$A$2&\"'!$A:$I\"),MATCH($B29,INDIRECT(\"'\"&$A$2&\"'!$A:$A\"),0),MATCH(\"SIGNATURE\",'1'!Titre,0))=\"\",IF(COUNTIF($B$10:$B119,$B29)>1,COUNTIF($B$10:$B119,$B29),\"\"),INDEX(INDIRECT(\"'\"&$A$2&\"'!$A:$I\"),MATCH($B29,INDIRECT(\"'\"&$A$2&\"'!$A:$A\"),0),MATCH(\"SIGNATURE\",'1'!Titre,0))))","v":""}]
[21,null,{"$f":"IF($B30=\"\",\"\",INDEX(INDIRECT(\"'\"&$A$2&\"'!$A:$I\"),MATCH($B30,INDIRECT(\"'\"&$A$2&\"'!$A:$A\"),0),MATCH(C$9,'1'!Titre,0)))","v":""},{"$f":"IF($B30=\"\",\"\",INDEX(INDIRECT(\"'\"&$A$2&\"'!$A:$I\"),MATCH($B30,INDIRECT(\"'\"&$A$2&\"'!$A:$A\"),0),MATCH(D$9,'1'!Titre,0)))","v":""},{"$f":"IF($B30=\"\",\"\",INDEX(INDIRECT(\"'\"&$A$2&\"'!$A:$I\"),MATCH($B30,INDIRECT(\"'\"&$A$2&\"'!$A:$A\"),0),MATCH(E$9,'1'!Titre,0)))","v":""},{"$f":"IF($B30=\"\",\"\",INDEX(INDIRECT(\"'\"&$A$2&\"'!$A:$I\"),MATCH($B30,INDIRECT(\"'\"&$A$2&\"'!$A:$A\"),0),MATCH(F$9,'1'!Titre,0)))","v":""},{"$f":"IF($B30=\"\",\"\",INDEX(INDIRECT(\"'\"&$A$2&\"'!$A:$I\"),MATCH($B30,INDIRECT(\"'\"&$A$2&\"'!$A:$A\"),0),MATCH(G$9,'1'!Titre,0)))","v":""},{"$f":"IF($B30=\"\",\"\",INDEX(INDIRECT(\"'\"&$A$2&\"'!$A:$I\"),MATCH($B30,INDIRECT(\"'\"&$A$2&\"'!$A:$A\"),0),MATCH(H$9,'1'!Titre,0)))","v":""},{"$f":"IF($B30=\"\",\"\",IF(INDEX(INDIRECT(\"'\"&$A$2&\"'!$A:$I\"),MATCH($B30,INDIRECT(\"'\"&$A$2&\"'!$A:$A\"),0),MATCH(\"SIGNATURE\",'1'!Titre,0))=\"\",IF(COUNTIF($B$10:$B120,$B30)>1,COUNTIF($B$10:$B120,$B30),\"\"),INDEX(INDIRECT(\"'\"&$A$2&\"'!$A:$I\"),MATCH($B30,INDIRECT(\"'\"&$A$2&\"'!$A:$A\"),0),MATCH(\"SIGNATURE\",'1'!Titre,0))))","v":""}]
[22,null,{"$f":"IF($B31=\"\",\"\",INDEX(INDIRECT(\"'\"&$A$2&\"'!$A:$I\"),MATCH($B31,INDIRECT(\"'\"&$A$2&\"'!$A:$A\"),0),MATCH(C$9,'1'!Titre,0)))","v":""},{"$f":"IF($B31=\"\",\"\",INDEX(INDIRECT(\"'\"&$A$2&\"'!$A:$I\"),MATCH($B31,INDIRECT(\"'\"&$A$2&\"'!$A:$A\"),0),MATCH(D$9,'1'!Titre,0)))","v":""},{"$f":"IF($B31=\"\",\"\",INDEX(INDIRECT(\"'\"&$A$2&\"'!$A:$I\"),MATCH($B31,INDIRECT(\"'\"&$A$2&\"'!$A:$A\"),0),MATCH(E$9,'1'!Titre,0)))","v":""},{"$f":"IF($B31=\"\",\"\",INDEX(INDIRECT(\"'\"&$A$2&\"'!$A:$I\"),MATCH($B31,INDIRECT(\"'\"&$A$2&\"'!$A:$A\"),0),MATCH(F$9,'1'!Titre,0)))","v":""},{"$f":"IF($B31=\"\",\"\",INDEX(INDIRECT(\"'\"&$A$2&\"'!$A:$I\"),MATCH($B31,INDIRECT(\"'\"&$A$2&\"'!$A:$A\"),0),MATCH(G$9,'1'!Titre,0)))","v":""},{"$f":"IF($B31=\"\",\"\",INDEX(INDIRECT(\"'\"&$A$2&\"'!$A:$I\"),MATCH($B31,INDIRECT(\"'\"&$A$2&\"'!$A:$A\"),0),MATCH(H$9,'1'!Titre,0)))","v":""},{"$f":"IF($B31=\"\",\"\",IF(INDEX(INDIRECT(\"'\"&$A$2&\"'!$A:$I\"),MATCH($B31,INDIRECT(\"'\"&$A$2&\"'!$A:$A\"),0),MATCH(\"SIGNATURE\",'1'!Titre,0))=\"\",IF(COUNTIF($B$10:$B121,$B31)>1,COUNTIF($B$10:$B121,$B31),\"\"),INDEX(INDIRECT(\"'\"&$A$2&\"'!$A:$I\"),MATCH($B31,INDIRECT(\"'\"&$A$2&\"'!$A:$A\"),0),MATCH(\"SIGNATURE\",'1'!Titre,0))))","v":""}]
[23,null,{"$f":"IF($B32=\"\",\"\",INDEX(INDIRECT(\"'\"&$A$2&\"'!$A:$I\"),MATCH($B32,INDIRECT(\"'\"&$A$2&\"'!$A:$A\"),0),MATCH(C$9,'1'!Titre,0)))","v":""},{"$f":"IF($B32=\"\",\"\",INDEX(INDIRECT(\"'\"&$A$2&\"'!$A:$I\"),MATCH($B32,INDIRECT(\"'\"&$A$2&\"'!$A:$A\"),0),MATCH(D$9,'1'!Titre,0)))","v":""},{"$f":"IF($B32=\"\",\"\",INDEX(INDIRECT(\"'\"&$A$2&\"'!$A:$I\"),MATCH($B32,INDIRECT(\"'\"&$A$2&\"'!$A:$A\"),0),MATCH(E$9,'1'!Titre,0)))","v":""},{"$f":"IF($B32=\"\",\"\",INDEX(INDIRECT(\"'\"&$A$2&\"'!$A:$I\"),MATCH($B32,INDIRECT(\"'\"&$A$2&\"'!$A:$A\"),0),MATCH(F$9,'1'!Titre,0)))","v":""},{"$f":"IF($B32=\"\",\"\",INDEX(INDIRECT(\"'\"&$A$2&\"'!$A:$I\"),MATCH($B32,INDIRECT(\"'\"&$A$2&\"'!$A:$A\"),0),MATCH(G$9,'1'!Titre,0)))","v":""},{"$f":"IF($B32=\"\",\"\",INDEX(INDIRECT(\"'\"&$A$2&\"'!$A:$I\"),MATCH($B32,INDIRECT(\"'\"&$A$2&\"'!$A:$A\"),0),MATCH(H$9,'1'!Titre,0)))","v":""},{"$f":"IF($B32=\"\",\"\",IF(INDEX(INDIRECT(\"'\"&$A$2&\"'!$A:$I\"),MATCH($B32,INDIRECT(\"'\"&$A$2&\"'!$A:$A\"),0),MATCH(\"SIGNATURE\",'1'!Titre,0))=\"\",IF(COUNTIF($B$10:$B122,$B32)>1,COUNTIF($B$10:$B122,$B32),\"\"),INDEX(INDIRECT(\"'\"&$A$2&\"'!$A:$I\"),MATCH($B32,INDIRECT(\"'\"&$A$2&\"'!$A:$A\"),0),MATCH(\"SIGNATURE\",'1'!Titre,0))))","v":""}]
[24,null,{"$f":"IF($B33=\"\",\"\",INDEX(INDIRECT(\"'\"&$A$2&\"'!$A:$I\"),MATCH($B33,INDIRECT(\"'\"&$A$2&\"'!$A:$A\"),0),MATCH(C$9,'1'!Titre,0)))","v":""},{"$f":"IF($B33=\"\",\"\",INDEX(INDIRECT(\"'\"&$A$2&\"'!$A:$I\"),MATCH($B33,INDIRECT(\"'\"&$A$2&\"'!$A:$A\"),0),MATCH(D$9,'1'!Titre,0)))","v":""},{"$f":"IF($B33=\"\",\"\",INDEX(INDIRECT(\"'\"&$A$2&\"'!$A:$I\"),MATCH($B33,INDIRECT(\"'\"&$A$2&\"'!$A:$A\"),0),MATCH(E$9,'1'!Titre,0)))","v":""},{"$f":"IF($B33=\"\",\"\",INDEX(INDIRECT(\"'\"&$A$2&\"'!$A:$I\"),MATCH($B33,INDIRECT(\"'\"&$A$2&\"'!$A:$A\"),0),MATCH(F$9,'1'!Titre,0)))","v":""},{"$f":"IF($B33=\"\",\"\",INDEX(INDIRECT(\"'\"&$A$2&\"'!$A:$I\"),MATCH($B33,INDIRECT(\"'\"&$A$2&\"'!$A:$A\"),0),MATCH(G$9,'1'!Titre,0)))","v":""},{"$f":"IF($B33=\"\",\"\",INDEX(INDIRECT(\"'\"&$A$2&\"'!$A:$I\"),MATCH($B33,INDIRECT(\"'\"&$A$2&\"'!$A:$A\"),0),MATCH(H$9,'1'!Titre,0)))","v":""},{"$f":"IF($B33=\"\",\"\",IF(INDEX(INDIRECT(\"'\"&$A$2&\"'!$A:$I\"),MATCH($B33,INDIRECT(\"'\"&$A$2&\"'!$A:$A\"),0),MATCH(\"SIGNATURE\",'1'!Titre,0))=\"\",IF(COUNTIF($B$10:$B123,$B33)>1,COUNTIF($B$10:$B123,$B33),\"\"),INDEX(INDIRECT(\"'\"&$A$2&\"'!$A:$I\"),MATCH($B33,INDIRECT(\"'\"&$A$2&\"'!$A:$A\"),0),MATCH(\"SIGNATURE\",'1'!Titre,0))))","v":""}]
[25,null,{"$f":"IF($B34=\"\",\"\",INDEX(INDIRECT(\"'\"&$A$2&\"'!$A:$I\"),MATCH($B34,INDIRECT(\"'\"&$A$2&\"'!$A:$A\"),0),MATCH(C$9,'1'!Titre,0)))","v":""},{"$f":"IF($B34=\"\",\"\",INDEX(INDIRECT(\"'\"&$A$2&\"'!$A:$I\"),MATCH($B34,INDIRECT(\"'\"&$A$2&\"'!$A:$A\"),0),MATCH(D$9,'1'!Titre,0)))","v":""},{"$f":"IF($B34=\"\",\"\",INDEX(INDIRECT(\"'\"&$A$2&\"'!$A:$I\"),MATCH($B34,INDIRECT(\"'\"&$A$2&\"'!$A:$A\"),0),MATCH(E$9,'1'!Titre,0)))","v":""},{"$f":"IF($B34=\"\",\"\",INDEX(INDIRECT(\"'\"&$A$2&\"'!$A:$I\"),MATCH($B34,INDIRECT(\"'\"&$A$2&\"'!$A:$A\"),0),MATCH(F$9,'1'!Titre,0)))","v":""},{"$f":"IF($B34=\"\",\"\",INDEX(INDIRECT(\"'\"&$A$2&\"'!$A:$I\"),MATCH($B34,INDIRECT(\"'\"&$A$2&\"'!$A:$A\"),0),MATCH(G$9,'1'!Titre,0)))","v":""},{"$f":"IF($B34=\"\",\"\",INDEX(INDIRECT(\"'\"&$A$2&\"'!$A:$I\"),MATCH($B34,INDIRECT(\"'\"&$A$2&\"'!$A:$A\"),0),MATCH(H$9,'1'!Titre,0)))","v":""},{"$f":"IF($B34=\"\",\"\",IF(INDEX(INDIRECT(\"'\"&$A$2&\"'!$A:$I\"),MATCH($B34,INDIRECT(\"'\"&$A$2&\"'!$A:$A\"),0),MATCH(\"SIGNATURE\",'1'!Titre,0))=\"\",IF(COUNTIF($B$10:$B124,$B34)>1,COUNTIF($B$10:$B124,$B34),\"\"),INDEX(INDIRECT(\"'\"&$A$2&\"'!$A:$I\"),MATCH($B34,INDIRECT(\"'\"&$A$2&\"'!$A:$A\"),0),MATCH(\"SIGNATURE\",'1'!Titre,0))))","v":""}]
[26,null,{"$f":"IF($B35=\"\",\"\",INDEX(INDIRECT(\"'\"&$A$2&\"'!$A:$I\"),MATCH($B35,INDIRECT(\"'\"&$A$2&\"'!$A:$A\"),0),MATCH(C$9,'1'!Titre,0)))","v":""},{"$f":"IF($B35=\"\",\"\",INDEX(INDIRECT(\"'\"&$A$2&\"'!$A:$I\"),MATCH($B35,INDIRECT(\"'\"&$A$2&\"'!$A:$A\"),0),MATCH(D$9,'1'!Titre,0)))","v":""},{"$f":"IF($B35=\"\",\"\",INDEX(INDIRECT(\"'\"&$A$2&\"'!$A:$I\"),MATCH($B35,INDIRECT(\"'\"&$A$2&\"'!$A:$A\"),0),MATCH(E$9,'1'!Titre,0)))","v":""},{"$f":"IF($B35=\"\",\"\",INDEX(INDIRECT(\"'\"&$A$2&\"'!$A:$I\"),MATCH($B35,INDIRECT(\"'\"&$A$2&\"'!$A:$A\"),0),MATCH(F$9,'1'!Titre,0)))","v":""},{"$f":"IF($B35=\"\",\"\",INDEX(INDIRECT(\"'\"&$A$2&\"'!$A:$I\"),MATCH($B35,INDIRECT(\"'\"&$A$2&\"'!$A:$A\"),0),MATCH(G$9,'1'!Titre,0)))","v":""},{"$f":"IF($B35=\"\",\"\",INDEX(INDIRECT(\"'\"&$A$2&\"'!$A:$I\"),MATCH($B35,INDIRECT(\"'\"&$A$2&\"'!$A:$A\"),0),MATCH(H$9,'1'!Titre,0)))","v":""},{"$f":"IF($B35=\"\",\"\",IF(INDEX(INDIRECT(\"'\"&$A$2&\"'!$A:$I\"),MATCH($B35,INDIRECT(\"'\"&$A$2&\"'!$A:$A\"),0),MATCH(\"SIGNATURE\",'1'!Titre,0))=\"\",IF(COUNTIF($B$10:$B125,$B35)>1,COUNTIF($B$10:$B125,$B35),\"\"),INDEX(INDIRECT(\"'\"&$A$2&\"'!$A:$I\"),MATCH($B35,INDIRECT(\"'\"&$A$2&\"'!$A:$A\"),0),MATCH(\"SIGNATURE\",'1'!Titre,0))))","v":""}]
[27,null,{"$f":"IF($B36=\"\",\"\",INDEX(INDIRECT(\"'\"&$A$2&\"'!$A:$I\"),MATCH($B36,INDIRECT(\"'\"&$A$2&\"'!$A:$A\"),0),MATCH(C$9,'1'!Titre,0)))","v":""},{"$f":"IF($B36=\"\",\"\",INDEX(INDIRECT(\"'\"&$A$2&\"'!$A:$I\"),MATCH($B36,INDIRECT(\"'\"&$A$2&\"'!$A:$A\"),0),MATCH(D$9,'1'!Titre,0)))","v":""},{"$f":"IF($B36=\"\",\"\",INDEX(INDIRECT(\"'\"&$A$2&\"'!$A:$I\"),MATCH($B36,INDIRECT(\"'\"&$A$2&\"'!$A:$A\"),0),MATCH(E$9,'1'!Titre,0)))","v":""},{"$f":"IF($B36=\"\",\"\",INDEX(INDIRECT(\"'\"&$A$2&\"'!$A:$I\"),MATCH($B36,INDIRECT(\"'\"&$A$2&\"'!$A:$A\"),0),MATCH(F$9,'1'!Titre,0)))","v":""},{"$f":"IF($B36=\"\",\"\",INDEX(INDIRECT(\"'\"&$A$2&\"'!$A:$I\"),MATCH($B36,INDIRECT(\"'\"&$A$2&\"'!$A:$A\"),0),MATCH(G$9,'1'!Titre,0)))","v":""},{"$f":"IF($B36=\"\",\"\",INDEX(INDIRECT(\"'\"&$A$2&\"'!$A:$I\"),MATCH($B36,INDIRECT(\"'\"&$A$2&\"'!$A:$A\"),0),MATCH(H$9,'1'!Titre,0)))","v":""},{"$f":"IF($B36=\"\",\"\",IF(INDEX(INDIRECT(\"'\"&$A$2&\"'!$A:$I\"),MATCH($B36,INDIRECT(\"'\"&$A$2&\"'!$A:$A\"),0),MATCH(\"SIGNATURE\",'1'!Titre,0))=\"\",IF(COUNTIF($B$10:$B126,$B36)>1,COUNTIF($B$10:$B126,$B36),\"\"),INDEX(INDIRECT(\"'\"&$A$2&\"'!$A:$I\"),MATCH($B36,INDIRECT(\"'\"&$A$2&\"'!$A:$A\"),0),MATCH(\"SIGNATURE\",'1'!Titre,0))))","v":""}]
[28,null,{"$f":"IF($B37=\"\",\"\",INDEX(INDIRECT(\"'\"&$A$2&\"'!$A:$I\"),MATCH($B37,INDIRECT(\"'\"&$A$2&\"'!$A:$A\"),0),MATCH(C$9,'1'!Titre,0)))","v":""},{"$f":"IF($B37=\"\",\"\",INDEX(INDIRECT(\"'\"&$A$2&\"'!$A:$I\"),MATCH($B37,INDIRECT(\"'\"&$A$2&\"'!$A:$A\"),0),MATCH(D$9,'1'!Titre,0)))","v":""},{"$f":"IF($B37=\"\",\"\",INDEX(INDIRECT(\"'\"&$A$2&\"'!$A:$I\"),MATCH($B37,INDIRECT(\"'\"&$A$2&\"'!$A:$A\"),0),MATCH(E$9,'1'!Titre,0)))","v":""},{"$f":"IF($B37=\"\",\"\",INDEX(INDIRECT(\"'\"&$A$2&\"'!$A:$I\"),MATCH($B37,INDIRECT(\"'\"&$A$2&\"'!$A:$A\"),0),MATCH(F$9,'1'!Titre,0)))","v":""},{"$f":"IF($B37=\"\",\"\",INDEX(INDIRECT(\"'\"&$A$2&\"'!$A:$I\"),MATCH($B37,INDIRECT(\"'\"&$A$2&\"'!$A:$A\"),0),MATCH(G$9,'1'!Titre,0)))","v":""},{"$f":"IF($B37=\"\",\"\",INDEX(INDIRECT(\"'\"&$A$2&\"'!$A:$I\"),MATCH($B37,INDIRECT(\"'\"&$A$2&\"'!$A:$A\"),0),MATCH(H$9,'1'!Titre,0)))","v":""},{"$f":"IF($B37=\"\",\"\",IF(INDEX(INDIRECT(\"'\"&$A$2&\"'!$A:$I\"),MATCH($B37,INDIRECT(\"'\"&$A$2&\"'!$A:$A\"),0),MATCH(\"SIGNATURE\",'1'!Titre,0))=\"\",IF(COUNTIF($B$10:$B127,$B37)>1,COUNTIF($B$10:$B127,$B37),\"\"),INDEX(INDIRECT(\"'\"&$A$2&\"'!$A:$I\"),MATCH($B37,INDIRECT(\"'\"&$A$2&\"'!$A:$A\"),0),MATCH(\"SIGNATURE\",'1'!Titre,0))))","v":""}]
[29,null,{"$f":"IF($B38=\"\",\"\",INDEX(INDIRECT(\"'\"&$A$2&\"'!$A:$I\"),MATCH($B38,INDIRECT(\"'\"&$A$2&\"'!$A:$A\"),0),MATCH(C$9,'1'!Titre,0)))","v":""},{"$f":"IF($B38=\"\",\"\",INDEX(INDIRECT(\"'\"&$A$2&\"'!$A:$I\"),MATCH($B38,INDIRECT(\"'\"&$A$2&\"'!$A:$A\"),0),MATCH(D$9,'1'!Titre,0)))","v":""},{"$f":"IF($B38=\"\",\"\",INDEX(INDIRECT(\"'\"&$A$2&\"'!$A:$I\"),MATCH($B38,INDIRECT(\"'\"&$A$2&\"'!$A:$A\"),0),MATCH(E$9,'1'!Titre,0)))","v":""},{"$f":"IF($B38=\"\",\"\",INDEX(INDIRECT(\"'\"&$A$2&\"'!$A:$I\"),MATCH($B38,INDIRECT(\"'\"&$A$2&\"'!$A:$A\"),0),MATCH(F$9,'1'!Titre,0)))","v":""},{"$f":"IF($B38=\"\",\"\",INDEX(INDIRECT(\"'\"&$A$2&\"'!$A:$I\"),MATCH($B38,INDIRECT(\"'\"&$A$2&\"'!$A:$A\"),0),MATCH(G$9,'1'!Titre,0)))","v":""},{"$f":"IF($B38=\"\",\"\",INDEX(INDIRECT(\"'\"&$A$2&\"'!$A:$I\"),MATCH($B38,INDIRECT(\"'\"&$A$2&\"'!$A:$A\"),0),MATCH(H$9,'1'!Titre,0)))","v":""},{"$f":"IF($B38=\"\",\"\",IF(INDEX(INDIRECT(\"'\"&$A$2&\"'!$A:$I\"),MATCH($B38,INDIRECT(\"'\"&$A$2&\"'!$A:$A\"),0),MATCH(\"SIGNATURE\",'1'!Titre,0))=\"\",IF(COUNTIF($B$10:$B128,$B38)>1,COUNTIF($B$10:$B128,$B38),\"\"),INDEX(INDIRECT(\"'\"&$A$2&\"'!$A:$I\"),MATCH($B38,INDIRECT(\"'\"&$A$2&\"'!$A:$A\"),0),MATCH(\"SIGNATURE\",'1'!Titre,0))))","v":""}]
[30,null,{"$f":"IF($B39=\"\",\"\",INDEX(INDIRECT(\"'\"&$A$2&\"'!$A:$I\"),MATCH($B39,INDIRECT(\"'\"&$A$2&\"'!$A:$A\"),0),MATCH(C$9,'1'!Titre,0)))","v":""},{"$f":"IF($B39=\"\",\"\",INDEX(INDIRECT(\"'\"&$A$2&\"'!$A:$I\"),MATCH($B39,INDIRECT(\"'\"&$A$2&\"'!$A:$A\"),0),MATCH(D$9,'1'!Titre,0)))","v":""},{"$f":"IF($B39=\"\",\"\",INDEX(INDIRECT(\"'\"&$A$2&\"'!$A:$I\"),MATCH($B39,INDIRECT(\"'\"&$A$2&\"'!$A:$A\"),0),MATCH(E$9,'1'!Titre,0)))","v":""},{"$f":"IF($B39=\"\",\"\",INDEX(INDIRECT(\"'\"&$A$2&\"'!$A:$I\"),MATCH($B39,INDIRECT(\"'\"&$A$2&\"'!$A:$A\"),0),MATCH(F$9,'1'!Titre,0)))","v":""},{"$f":"IF($B39=\"\",\"\",INDEX(INDIRECT(\"'\"&$A$2&\"'!$A:$I\"),MATCH($B39,INDIRECT(\"'\"&$A$2&\"'!$A:$A\"),0),MATCH(G$9,'1'!Titre,0)))","v":""},{"$f":"IF($B39=\"\",\"\",INDEX(INDIRECT(\"'\"&$A$2&\"'!$A:$I\"),MATCH($B39,INDIRECT(\"'\"&$A$2&\"'!$A:$A\"),0),MATCH(H$9,'1'!Titre,0)))","v":""},{"$f":"IF($B39=\"\",\"\",IF(INDEX(INDIRECT(\"'\"&$A$2&\"'!$A:$I\"),MATCH($B39,INDIRECT(\"'\"&$A$2&\"'!$A:$A\"),0),MATCH(\"SIGNATURE\",'1'!Titre,0))=\"\",IF(COUNTIF($B$10:$B129,$B39)>1,COUNTIF($B$10:$B129,$B39),\"\"),INDEX(INDIRECT(\"'\"&$A$2&\"'!$A:$I\"),MATCH($B39,INDIRECT(\"'\"&$A$2&\"'!$A:$A\"),0),MATCH(\"SIGNATURE\",'1'!Titre,0))))","v":""}]

{"sheet":"FEM_classement","index":18,"n_rows":39,"n_cols":9,"rows_kept":39,"cut":false,"hidden":false,"merged":[[6,3,6,7],[0,1,0,7],[2,3,2,7],[3,3,3,7],[4,3,4,7],[5,3,5,7]]}
[{"$f":"RIGHT(CELL(\"nomfichier\",A1),LEN(CELL(\"nomfichier\",A1)) - FIND(\"]\",CELL(\"nomfichier\",A1)))","v":"FEM_classement"},"CLASSEMENTS"]
[{"$f":"LEFT($A$1,FIND(\"_classement\",$A$1)-1)","v":"FEM"}]
[null,null,"Club organisateur :",{"$f":"IF(club=\"\",\"\",club)","v":""}]
[null,null,"Lieu de l'épreuve :",{"$f":"IF(lieu=\"\",\"\",lieu)","v":""}]
[null,null,"Date de l'épreuve :",{"$f":"IF(date_epreuve=\"\",\"\",date_epreuve)","v":""}]
[null,null,"Catégorie :","Féminines"]
[null,null,"Nb de partants :",{"$f":"COUNTIFS(INDIRECT(\"'\"&$A2&\"'!$B$9:$B$100\"),\"><\",INDIRECT(\"'\"&$A2&\"'!$i$9:$i$100\"),\"<>Non Partant\")","v":0}]
[]
["PLACE","N°","NOM  PRENOM","M/F","FEDERATION","CATE.","CLUB","DEP."]
[1,null,{"$f":"IF($B10=\"\",\"\",INDEX(INDIRECT(\"'\"&$A$2&\"'!$A:$I\"),MATCH($B10,INDIRECT(\"'\"&$A$2&\"'!$A:$A\"),0),MATCH(C$9,'1'!Titre,0)))","v":""},{"$f":"IF($B10=\"\",\"\",INDEX(INDIRECT(\"'\"&$A$2&\"'!$A:$I\"),MATCH($B10,INDIRECT(\"'\"&$A$2&\"'!$A:$A\"),0),MATCH(D$9,'1'!Titre,0)))","v":""},{"$f":"IF($B10=\"\",\"\",INDEX(INDIRECT(\"'\"&$A$2&\"'!$A:$I\"),MATCH($B10,INDIRECT(\"'\"&$A$2&\"'!$A:$A\"),0),MATCH(E$9,'1'!Titre,0)))","v":""},{"$f":"IF($B10=\"\",\"\",INDEX(INDIRECT(\"'\"&$A$2&\"'!$A:$I\"),MATCH($B10,INDIRECT(\"'\"&$A$2&\"'!$A:$A\"),0),MATCH(F$9,'1'!Titre,0)))","v":""},{"$f":"IF($B10=\"\",\"\",INDEX(INDIRECT(\"'\"&$A$2&\"'!$A:$I\"),MATCH($B10,INDIRECT(\"'\"&$A$2&\"'!$A:$A\"),0),MATCH(G$9,'1'!Titre,0)))","v":""},{"$f":"IF($B10=\"\",\"\",INDEX(INDIRECT(\"'\"&$A$2&\"'!$A:$I\"),MATCH($B10,INDIRECT(\"'\"&$A$2&\"'!$A:$A\"),0),MATCH(H$9,'1'!Titre,0)))","v":""},{"$f":"IF($B10=\"\",\"\",IF(INDEX(INDIRECT(\"'\"&$A$2&\"'!$A:$I\"),MATCH($B10,INDIRECT(\"'\"&$A$2&\"'!$A:$A\"),0),MATCH(\"SIGNATURE\",'1'!Titre,0))=\"\",IF(COUNTIF($B$10:$B100,$B10)>1,COUNTIF($B$10:$B100,$B10),\"\"),INDEX(INDIRECT(\"'\"&$A$2&\"'!$A:$I\"),MATCH($B10,INDIRECT(\"'\"&$A$2&\"'!$A:$A\"),0),MATCH(\"SIGNATURE\",'1'!Titre,0))))","v":""}]
[2,null,{"$f":"IF($B11=\"\",\"\",INDEX(INDIRECT(\"'\"&$A$2&\"'!$A:$I\"),MATCH($B11,INDIRECT(\"'\"&$A$2&\"'!$A:$A\"),0),MATCH(C$9,'1'!Titre,0)))","v":""},{"$f":"IF($B11=\"\",\"\",INDEX(INDIRECT(\"'\"&$A$2&\"'!$A:$I\"),MATCH($B11,INDIRECT(\"'\"&$A$2&\"'!$A:$A\"),0),MATCH(D$9,'1'!Titre,0)))","v":""},{"$f":"IF($B11=\"\",\"\",INDEX(INDIRECT(\"'\"&$A$2&\"'!$A:$I\"),MATCH($B11,INDIRECT(\"'\"&$A$2&\"'!$A:$A\"),0),MATCH(E$9,'1'!Titre,0)))","v":""},{"$f":"IF($B11=\"\",\"\",INDEX(INDIRECT(\"'\"&$A$2&\"'!$A:$I\"),MATCH($B11,INDIRECT(\"'\"&$A$2&\"'!$A:$A\"),0),MATCH(F$9,'1'!Titre,0)))","v":""},{"$f":"IF($B11=\"\",\"\",INDEX(INDIRECT(\"'\"&$A$2&\"'!$A:$I\"),MATCH($B11,INDIRECT(\"'\"&$A$2&\"'!$A:$A\"),0),MATCH(G$9,'1'!Titre,0)))","v":""},{"$f":"IF($B11=\"\",\"\",INDEX(INDIRECT(\"'\"&$A$2&\"'!$A:$I\"),MATCH($B11,INDIRECT(\"'\"&$A$2&\"'!$A:$A\"),0),MATCH(H$9,'1'!Titre,0)))","v":""},{"$f":"IF($B11=\"\",\"\",IF(INDEX(INDIRECT(\"'\"&$A$2&\"'!$A:$I\"),MATCH($B11,INDIRECT(\"'\"&$A$2&\"'!$A:$A\"),0),MATCH(\"SIGNATURE\",'1'!Titre,0))=\"\",IF(COUNTIF($B$10:$B101,$B11)>1,COUNTIF($B$10:$B101,$B11),\"\"),INDEX(INDIRECT(\"'\"&$A$2&\"'!$A:$I\"),MATCH($B11,INDIRECT(\"'\"&$A$2&\"'!$A:$A\"),0),MATCH(\"SIGNATURE\",'1'!Titre,0))))","v":""}]
[3,null,{"$f":"IF($B12=\"\",\"\",INDEX(INDIRECT(\"'\"&$A$2&\"'!$A:$I\"),MATCH($B12,INDIRECT(\"'\"&$A$2&\"'!$A:$A\"),0),MATCH(C$9,'1'!Titre,0)))","v":""},{"$f":"IF($B12=\"\",\"\",INDEX(INDIRECT(\"'\"&$A$2&\"'!$A:$I\"),MATCH($B12,INDIRECT(\"'\"&$A$2&\"'!$A:$A\"),0),MATCH(D$9,'1'!Titre,0)))","v":""},{"$f":"IF($B12=\"\",\"\",INDEX(INDIRECT(\"'\"&$A$2&\"'!$A:$I\"),MATCH($B12,INDIRECT(\"'\"&$A$2&\"'!$A:$A\"),0),MATCH(E$9,'1'!Titre,0)))","v":""},{"$f":"IF($B12=\"\",\"\",INDEX(INDIRECT(\"'\"&$A$2&\"'!$A:$I\"),MATCH($B12,INDIRECT(\"'\"&$A$2&\"'!$A:$A\"),0),MATCH(F$9,'1'!Titre,0)))","v":""},{"$f":"IF($B12=\"\",\"\",INDEX(INDIRECT(\"'\"&$A$2&\"'!$A:$I\"),MATCH($B12,INDIRECT(\"'\"&$A$2&\"'!$A:$A\"),0),MATCH(G$9,'1'!Titre,0)))","v":""},{"$f":"IF($B12=\"\",\"\",INDEX(INDIRECT(\"'\"&$A$2&\"'!$A:$I\"),MATCH($B12,INDIRECT(\"'\"&$A$2&\"'!$A:$A\"),0),MATCH(H$9,'1'!Titre,0)))","v":""},{"$f":"IF($B12=\"\",\"\",IF(INDEX(INDIRECT(\"'\"&$A$2&\"'!$A:$I\"),MATCH($B12,INDIRECT(\"'\"&$A$2&\"'!$A:$A\"),0),MATCH(\"SIGNATURE\",'1'!Titre,0))=\"\",IF(COUNTIF($B$10:$B102,$B12)>1,COUNTIF($B$10:$B102,$B12),\"\"),INDEX(INDIRECT(\"'\"&$A$2&\"'!$A:$I\"),MATCH($B12,INDIRECT(\"'\"&$A$2&\"'!$A:$A\"),0),MATCH(\"SIGNATURE\",'1'!Titre,0))))","v":""}]
[4,null,{"$f":"IF($B13=\"\",\"\",INDEX(INDIRECT(\"'\"&$A$2&\"'!$A:$I\"),MATCH($B13,INDIRECT(\"'\"&$A$2&\"'!$A:$A\"),0),MATCH(C$9,'1'!Titre,0)))","v":""},{"$f":"IF($B13=\"\",\"\",INDEX(INDIRECT(\"'\"&$A$2&\"'!$A:$I\"),MATCH($B13,INDIRECT(\"'\"&$A$2&\"'!$A:$A\"),0),MATCH(D$9,'1'!Titre,0)))","v":""},{"$f":"IF($B13=\"\",\"\",INDEX(INDIRECT(\"'\"&$A$2&\"'!$A:$I\"),MATCH($B13,INDIRECT(\"'\"&$A$2&\"'!$A:$A\"),0),MATCH(E$9,'1'!Titre,0)))","v":""},{"$f":"IF($B13=\"\",\"\",INDEX(INDIRECT(\"'\"&$A$2&\"'!$A:$I\"),MATCH($B13,INDIRECT(\"'\"&$A$2&\"'!$A:$A\"),0),MATCH(F$9,'1'!Titre,0)))","v":""},{"$f":"IF($B13=\"\",\"\",INDEX(INDIRECT(\"'\"&$A$2&\"'!$A:$I\"),MATCH($B13,INDIRECT(\"'\"&$A$2&\"'!$A:$A\"),0),MATCH(G$9,'1'!Titre,0)))","v":""},{"$f":"IF($B13=\"\",\"\",INDEX(INDIRECT(\"'\"&$A$2&\"'!$A:$I\"),MATCH($B13,INDIRECT(\"'\"&$A$2&\"'!$A:$A\"),0),MATCH(H$9,'1'!Titre,0)))","v":""},{"$f":"IF($B13=\"\",\"\",IF(INDEX(INDIRECT(\"'\"&$A$2&\"'!$A:$I\"),MATCH($B13,INDIRECT(\"'\"&$A$2&\"'!$A:$A\"),0),MATCH(\"SIGNATURE\",'1'!Titre,0))=\"\",IF(COUNTIF($B$10:$B103,$B13)>1,COUNTIF($B$10:$B103,$B13),\"\"),INDEX(INDIRECT(\"'\"&$A$2&\"'!$A:$I\"),MATCH($B13,INDIRECT(\"'\"&$A$2&\"'!$A:$A\"),0),MATCH(\"SIGNATURE\",'1'!Titre,0))))","v":""}]
[5,null,{"$f":"IF($B14=\"\",\"\",INDEX(INDIRECT(\"'\"&$A$2&\"'!$A:$I\"),MATCH($B14,INDIRECT(\"'\"&$A$2&\"'!$A:$A\"),0),MATCH(C$9,'1'!Titre,0)))","v":""},{"$f":"IF($B14=\"\",\"\",INDEX(INDIRECT(\"'\"&$A$2&\"'!$A:$I\"),MATCH($B14,INDIRECT(\"'\"&$A$2&\"'!$A:$A\"),0),MATCH(D$9,'1'!Titre,0)))","v":""},{"$f":"IF($B14=\"\",\"\",INDEX(INDIRECT(\"'\"&$A$2&\"'!$A:$I\"),MATCH($B14,INDIRECT(\"'\"&$A$2&\"'!$A:$A\"),0),MATCH(E$9,'1'!Titre,0)))","v":""},{"$f":"IF($B14=\"\",\"\",INDEX(INDIRECT(\"'\"&$A$2&\"'!$A:$I\"),MATCH($B14,INDIRECT(\"'\"&$A$2&\"'!$A:$A\"),0),MATCH(F$9,'1'!Titre,0)))","v":""},{"$f":"IF($B14=\"\",\"\",INDEX(INDIRECT(\"'\"&$A$2&\"'!$A:$I\"),MATCH($B14,INDIRECT(\"'\"&$A$2&\"'!$A:$A\"),0),MATCH(G$9,'1'!Titre,0)))","v":""},{"$f":"IF($B14=\"\",\"\",INDEX(INDIRECT(\"'\"&$A$2&\"'!$A:$I\"),MATCH($B14,INDIRECT(\"'\"&$A$2&\"'!$A:$A\"),0),MATCH(H$9,'1'!Titre,0)))","v":""},{"$f":"IF($B14=\"\",\"\",IF(INDEX(INDIRECT(\"'\"&$A$2&\"'!$A:$I\"),MATCH($B14,INDIRECT(\"'\"&$A$2&\"'!$A:$A\"),0),MATCH(\"SIGNATURE\",'1'!Titre,0))=\"\",IF(COUNTIF($B$10:$B104,$B14)>1,COUNTIF($B$10:$B104,$B14),\"\"),INDEX(INDIRECT(\"'\"&$A$2&\"'!$A:$I\"),MATCH($B14,INDIRECT(\"'\"&$A$2&\"'!$A:$A\"),0),MATCH(\"SIGNATURE\",'1'!Titre,0))))","v":""}]
[6,null,{"$f":"IF($B15=\"\",\"\",INDEX(INDIRECT(\"'\"&$A$2&\"'!$A:$I\"),MATCH($B15,INDIRECT(\"'\"&$A$2&\"'!$A:$A\"),0),MATCH(C$9,'1'!Titre,0)))","v":""},{"$f":"IF($B15=\"\",\"\",INDEX(INDIRECT(\"'\"&$A$2&\"'!$A:$I\"),MATCH($B15,INDIRECT(\"'\"&$A$2&\"'!$A:$A\"),0),MATCH(D$9,'1'!Titre,0)))","v":""},{"$f":"IF($B15=\"\",\"\",INDEX(INDIRECT(\"'\"&$A$2&\"'!$A:$I\"),MATCH($B15,INDIRECT(\"'\"&$A$2&\"'!$A:$A\"),0),MATCH(E$9,'1'!Titre,0)))","v":""},{"$f":"IF($B15=\"\",\"\",INDEX(INDIRECT(\"'\"&$A$2&\"'!$A:$I\"),MATCH($B15,INDIRECT(\"'\"&$A$2&\"'!$A:$A\"),0),MATCH(F$9,'1'!Titre,0)))","v":""},{"$f":"IF($B15=\"\",\"\",INDEX(INDIRECT(\"'\"&$A$2&\"'!$A:$I\"),MATCH($B15,INDIRECT(\"'\"&$A$2&\"'!$A:$A\"),0),MATCH(G$9,'1'!Titre,0)))","v":""},{"$f":"IF($B15=\"\",\"\",INDEX(INDIRECT(\"'\"&$A$2&\"'!$A:$I\"),MATCH($B15,INDIRECT(\"'\"&$A$2&\"'!$A:$A\"),0),MATCH(H$9,'1'!Titre,0)))","v":""},{"$f":"IF($B15=\"\",\"\",IF(INDEX(INDIRECT(\"'\"&$A$2&\"'!$A:$I\"),MATCH($B15,INDIRECT(\"'\"&$A$2&\"'!$A:$A\"),0),MATCH(\"SIGNATURE\",'1'!Titre,0))=\"\",IF(COUNTIF($B$10:$B105,$B15)>1,COUNTIF($B$10:$B105,$B15),\"\"),INDEX(INDIRECT(\"'\"&$A$2&\"'!$A:$I\"),MATCH($B15,INDIRECT(\"'\"&$A$2&\"'!$A:$A\"),0),MATCH(\"SIGNATURE\",'1'!Titre,0))))","v":""}]
[7,null,{"$f":"IF($B16=\"\",\"\",INDEX(INDIRECT(\"'\"&$A$2&\"'!$A:$I\"),MATCH($B16,INDIRECT(\"'\"&$A$2&\"'!$A:$A\"),0),MATCH(C$9,'1'!Titre,0)))","v":""},{"$f":"IF($B16=\"\",\"\",INDEX(INDIRECT(\"'\"&$A$2&\"'!$A:$I\"),MATCH($B16,INDIRECT(\"'\"&$A$2&\"'!$A:$A\"),0),MATCH(D$9,'1'!Titre,0)))","v":""},{"$f":"IF($B16=\"\",\"\",INDEX(INDIRECT(\"'\"&$A$2&\"'!$A:$I\"),MATCH($B16,INDIRECT(\"'\"&$A$2&\"'!$A:$A\"),0),MATCH(E$9,'1'!Titre,0)))","v":""},{"$f":"IF($B16=\"\",\"\",INDEX(INDIRECT(\"'\"&$A$2&\"'!$A:$I\"),MATCH($B16,INDIRECT(\"'\"&$A$2&\"'!$A:$A\"),0),MATCH(F$9,'1'!Titre,0)))","v":""},{"$f":"IF($B16=\"\",\"\",INDEX(INDIRECT(\"'\"&$A$2&\"'!$A:$I\"),MATCH($B16,INDIRECT(\"'\"&$A$2&\"'!$A:$A\"),0),MATCH(G$9,'1'!Titre,0)))","v":""},{"$f":"IF($B16=\"\",\"\",INDEX(INDIRECT(\"'\"&$A$2&\"'!$A:$I\"),MATCH($B16,INDIRECT(\"'\"&$A$2&\"'!$A:$A\"),0),MATCH(H$9,'1'!Titre,0)))","v":""},{"$f":"IF($B16=\"\",\"\",IF(INDEX(INDIRECT(\"'\"&$A$2&\"'!$A:$I\"),MATCH($B16,INDIRECT(\"'\"&$A$2&\"'!$A:$A\"),0),MATCH(\"SIGNATURE\",'1'!Titre,0))=\"\",IF(COUNTIF($B$10:$B106,$B16)>1,COUNTIF($B$10:$B106,$B16),\"\"),INDEX(INDIRECT(\"'\"&$A$2&\"'!$A:$I\"),MATCH($B16,INDIRECT(\"'\"&$A$2&\"'!$A:$A\"),0),MATCH(\"SIGNATURE\",'1'!Titre,0))))","v":""}]
[8,null,{"$f":"IF($B17=\"\",\"\",INDEX(INDIRECT(\"'\"&$A$2&\"'!$A:$I\"),MATCH($B17,INDIRECT(\"'\"&$A$2&\"'!$A:$A\"),0),MATCH(C$9,'1'!Titre,0)))","v":""},{"$f":"IF($B17=\"\",\"\",INDEX(INDIRECT(\"'\"&$A$2&\"'!$A:$I\"),MATCH($B17,INDIRECT(\"'\"&$A$2&\"'!$A:$A\"),0),MATCH(D$9,'1'!Titre,0)))","v":""},{"$f":"IF($B17=\"\",\"\",INDEX(INDIRECT(\"'\"&$A$2&\"'!$A:$I\"),MATCH($B17,INDIRECT(\"'\"&$A$2&\"'!$A:$A\"),0),MATCH(E$9,'1'!Titre,0)))","v":""},{"$f":"IF($B17=\"\",\"\",INDEX(INDIRECT(\"'\"&$A$2&\"'!$A:$I\"),MATCH($B17,INDIRECT(\"'\"&$A$2&\"'!$A:$A\"),0),MATCH(F$9,'1'!Titre,0)))","v":""},{"$f":"IF($B17=\"\",\"\",INDEX(INDIRECT(\"'\"&$A$2&\"'!$A:$I\"),MATCH($B17,INDIRECT(\"'\"&$A$2&\"'!$A:$A\"),0),MATCH(G$9,'1'!Titre,0)))","v":""},{"$f":"IF($B17=\"\",\"\",INDEX(INDIRECT(\"'\"&$A$2&\"'!$A:$I\"),MATCH($B17,INDIRECT(\"'\"&$A$2&\"'!$A:$A\"),0),MATCH(H$9,'1'!Titre,0)))","v":""},{"$f":"IF($B17=\"\",\"\",IF(INDEX(INDIRECT(\"'\"&$A$2&\"'!$A:$I\"),MATCH($B17,INDIRECT(\"'\"&$A$2&\"'!$A:$A\"),0),MATCH(\"SIGNATURE\",'1'!Titre,0))=\"\",IF(COUNTIF($B$10:$B107,$B17)>1,COUNTIF($B$10:$B107,$B17),\"\"),INDEX(INDIRECT(\"'\"&$A$2&\"'!$A:$I\"),MATCH($B17,INDIRECT(\"'\"&$A$2&\"'!$A:$A\"),0),MATCH(\"SIGNATURE\",'1'!Titre,0))))","v":""}]
[9,null,{"$f":"IF($B18=\"\",\"\",INDEX(INDIRECT(\"'\"&$A$2&\"'!$A:$I\"),MATCH($B18,INDIRECT(\"'\"&$A$2&\"'!$A:$A\"),0),MATCH(C$9,'1'!Titre,0)))","v":""},{"$f":"IF($B18=\"\",\"\",INDEX(INDIRECT(\"'\"&$A$2&\"'!$A:$I\"),MATCH($B18,INDIRECT(\"'\"&$A$2&\"'!$A:$A\"),0),MATCH(D$9,'1'!Titre,0)))","v":""},{"$f":"IF($B18=\"\",\"\",INDEX(INDIRECT(\"'\"&$A$2&\"'!$A:$I\"),MATCH($B18,INDIRECT(\"'\"&$A$2&\"'!$A:$A\"),0),MATCH(E$9,'1'!Titre,0)))","v":""},{"$f":"IF($B18=\"\",\"\",INDEX(INDIRECT(\"'\"&$A$2&\"'!$A:$I\"),MATCH($B18,INDIRECT(\"'\"&$A$2&\"'!$A:$A\"),0),MATCH(F$9,'1'!Titre,0)))","v":""},{"$f":"IF($B18=\"\",\"\",INDEX(INDIRECT(\"'\"&$A$2&\"'!$A:$I\"),MATCH($B18,INDIRECT(\"'\"&$A$2&\"'!$A:$A\"),0),MATCH(G$9,'1'!Titre,0)))","v":""},{"$f":"IF($B18=\"\",\"\",INDEX(INDIRECT(\"'\"&$A$2&\"'!$A:$I\"),MATCH($B18,INDIRECT(\"'\"&$A$2&\"'!$A:$A\"),0),MATCH(H$9,'1'!Titre,0)))","v":""},{"$f":"IF($B18=\"\",\"\",IF(INDEX(INDIRECT(\"'\"&$A$2&\"'!$A:$I\"),MATCH($B18,INDIRECT(\"'\"&$A$2&\"'!$A:$A\"),0),MATCH(\"SIGNATURE\",'1'!Titre,0))=\"\",IF(COUNTIF($B$10:$B108,$B18)>1,COUNTIF($B$10:$B108,$B18),\"\"),INDEX(INDIRECT(\"'\"&$A$2&\"'!$A:$I\"),MATCH($B18,INDIRECT(\"'\"&$A$2&\"'!$A:$A\"),0),MATCH(\"SIGNATURE\",'1'!Titre,0))))","v":""}]
[10,null,{"$f":"IF($B19=\"\",\"\",INDEX(INDIRECT(\"'\"&$A$2&\"'!$A:$I\"),MATCH($B19,INDIRECT(\"'\"&$A$2&\"'!$A:$A\"),0),MATCH(C$9,'1'!Titre,0)))","v":""},{"$f":"IF($B19=\"\",\"\",INDEX(INDIRECT(\"'\"&$A$2&\"'!$A:$I\"),MATCH($B19,INDIRECT(\"'\"&$A$2&\"'!$A:$A\"),0),MATCH(D$9,'1'!Titre,0)))","v":""},{"$f":"IF($B19=\"\",\"\",INDEX(INDIRECT(\"'\"&$A$2&\"'!$A:$I\"),MATCH($B19,INDIRECT(\"'\"&$A$2&\"'!$A:$A\"),0),MATCH(E$9,'1'!Titre,0)))","v":""},{"$f":"IF($B19=\"\",\"\",INDEX(INDIRECT(\"'\"&$A$2&\"'!$A:$I\"),MATCH($B19,INDIRECT(\"'\"&$A$2&\"'!$A:$A\"),0),MATCH(F$9,'1'!Titre,0)))","v":""},{"$f":"IF($B19=\"\",\"\",INDEX(INDIRECT(\"'\"&$A$2&\"'!$A:$I\"),MATCH($B19,INDIRECT(\"'\"&$A$2&\"'!$A:$A\"),0),MATCH(G$9,'1'!Titre,0)))","v":""},{"$f":"IF($B19=\"\",\"\",INDEX(INDIRECT(\"'\"&$A$2&\"'!$A:$I\"),MATCH($B19,INDIRECT(\"'\"&$A$2&\"'!$A:$A\"),0),MATCH(H$9,'1'!Titre,0)))","v":""},{"$f":"IF($B19=\"\",\"\",IF(INDEX(INDIRECT(\"'\"&$A$2&\"'!$A:$I\"),MATCH($B19,INDIRECT(\"'\"&$A$2&\"'!$A:$A\"),0),MATCH(\"SIGNATURE\",'1'!Titre,0))=\"\",IF(COUNTIF($B$10:$B109,$B19)>1,COUNTIF($B$10:$B109,$B19),\"\"),INDEX(INDIRECT(\"'\"&$A$2&\"'!$A:$I\"),MATCH($B19,INDIRECT(\"'\"&$A$2&\"'!$A:$A\"),0),MATCH(\"SIGNATURE\",'1'!Titre,0))))","v":""}]
[11,null,{"$f":"IF($B20=\"\",\"\",INDEX(INDIRECT(\"'\"&$A$2&\"'!$A:$I\"),MATCH($B20,INDIRECT(\"'\"&$A$2&\"'!$A:$A\"),0),MATCH(C$9,'1'!Titre,0)))","v":""},{"$f":"IF($B20=\"\",\"\",INDEX(INDIRECT(\"'\"&$A$2&\"'!$A:$I\"),MATCH($B20,INDIRECT(\"'\"&$A$2&\"'!$A:$A\"),0),MATCH(D$9,'1'!Titre,0)))","v":""},{"$f":"IF($B20=\"\",\"\",INDEX(INDIRECT(\"'\"&$A$2&\"'!$A:$I\"),MATCH($B20,INDIRECT(\"'\"&$A$2&\"'!$A:$A\"),0),MATCH(E$9,'1'!Titre,0)))","v":""},{"$f":"IF($B20=\"\",\"\",INDEX(INDIRECT(\"'\"&$A$2&\"'!$A:$I\"),MATCH($B20,INDIRECT(\"'\"&$A$2&\"'!$A:$A\"),0),MATCH(F$9,'1'!Titre,0)))","v":""},{"$f":"IF($B20=\"\",\"\",INDEX(INDIRECT(\"'\"&$A$2&\"'!$A:$I\"),MATCH($B20,INDIRECT(\"'\"&$A$2&\"'!$A:$A\"),0),MATCH(G$9,'1'!Titre,0)))","v":""},{"$f":"IF($B20=\"\",\"\",INDEX(INDIRECT(\"'\"&$A$2&\"'!$A:$I\"),MATCH($B20,INDIRECT(\"'\"&$A$2&\"'!$A:$A\"),0),MATCH(H$9,'1'!Titre,0)))","v":""},{"$f":"IF($B20=\"\",\"\",IF(INDEX(INDIRECT(\"'\"&$A$2&\"'!$A:$I\"),MATCH($B20,INDIRECT(\"'\"&$A$2&\"'!$A:$A\"),0),MATCH(\"SIGNATURE\",'1'!Titre,0))=\"\",IF(COUNTIF($B$10:$B110,$B20)>1,COUNTIF($B$10:$B110,$B20),\"\"),INDEX(INDIRECT(\"'\"&$A$2&\"'!$A:$I\"),MATCH($B20,INDIRECT(\"'\"&$A$2&\"'!$A:$A\"),0),MATCH(\"SIGNATURE\",'1'!Titre,0))))","v":""}]
[12,null,{"$f":"IF($B21=\"\",\"\",INDEX(INDIRECT(\"'\"&$A$2&\"'!$A:$I\"),MATCH($B21,INDIRECT(\"'\"&$A$2&\"'!$A:$A\"),0),MATCH(C$9,'1'!Titre,0)))","v":""},{"$f":"IF($B21=\"\",\"\",INDEX(INDIRECT(\"'\"&$A$2&\"'!$A:$I\"),MATCH($B21,INDIRECT(\"'\"&$A$2&\"'!$A:$A\"),0),MATCH(D$9,'1'!Titre,0)))","v":""},{"$f":"IF($B21=\"\",\"\",INDEX(INDIRECT(\"'\"&$A$2&\"'!$A:$I\"),MATCH($B21,INDIRECT(\"'\"&$A$2&\"'!$A:$A\"),0),MATCH(E$9,'1'!Titre,0)))","v":""},{"$f":"IF($B21=\"\",\"\",INDEX(INDIRECT(\"'\"&$A$2&\"'!$A:$I\"),MATCH($B21,INDIRECT(\"'\"&$A$2&\"'!$A:$A\"),0),MATCH(F$9,'1'!Titre,0)))","v":""},{"$f":"IF($B21=\"\",\"\",INDEX(INDIRECT(\"'\"&$A$2&\"'!$A:$I\"),MATCH($B21,INDIRECT(\"'\"&$A$2&\"'!$A:$A\"),0),MATCH(G$9,'1'!Titre,0)))","v":""},{"$f":"IF($B21=\"\",\"\",INDEX(INDIRECT(\"'\"&$A$2&\"'!$A:$I\"),MATCH($B21,INDIRECT(\"'\"&$A$2&\"'!$A:$A\"),0),MATCH(H$9,'1'!Titre,0)))","v":""},{"$f":"IF($B21=\"\",\"\",IF(INDEX(INDIRECT(\"'\"&$A$2&\"'!$A:$I\"),MATCH($B21,INDIRECT(\"'\"&$A$2&\"'!$A:$A\"),0),MATCH(\"SIGNATURE\",'1'!Titre,0))=\"\",IF(COUNTIF($B$10:$B111,$B21)>1,COUNTIF($B$10:$B111,$B21),\"\"),INDEX(INDIRECT(\"'\"&$A$2&\"'!$A:$I\"),MATCH($B21,INDIRECT(\"'\"&$A$2&\"'!$A:$A\"),0),MATCH(\"SIGNATURE\",'1'!Titre,0))))","v":""}]
[13,null,{"$f":"IF($B22=\"\",\"\",INDEX(INDIRECT(\"'\"&$A$2&\"'!$A:$I\"),MATCH($B22,INDIRECT(\"'\"&$A$2&\"'!$A:$A\"),0),MATCH(C$9,'1'!Titre,0)))","v":""},{"$f":"IF($B22=\"\",\"\",INDEX(INDIRECT(\"'\"&$A$2&\"'!$A:$I\"),MATCH($B22,INDIRECT(\"'\"&$A$2&\"'!$A:$A\"),0),MATCH(D$9,'1'!Titre,0)))","v":""},{"$f":"IF($B22=\"\",\"\",INDEX(INDIRECT(\"'\"&$A$2&\"'!$A:$I\"),MATCH($B22,INDIRECT(\"'\"&$A$2&\"'!$A:$A\"),0),MATCH(E$9,'1'!Titre,0)))","v":""},{"$f":"IF($B22=\"\",\"\",INDEX(INDIRECT(\"'\"&$A$2&\"'!$A:$I\"),MATCH($B22,INDIRECT(\"'\"&$A$2&\"'!$A:$A\"),0),MATCH(F$9,'1'!Titre,0)))","v":""},{"$f":"IF($B22=\"\",\"\",INDEX(INDIRECT(\"'\"&$A$2&\"'!$A:$I\"),MATCH($B22,INDIRECT(\"'\"&$A$2&\"'!$A:$A\"),0),MATCH(G$9,'1'!Titre,0)))","v":""},{"$f":"IF($B22=\"\",\"\",INDEX(INDIRECT(\"'\"&$A$2&\"'!$A:$I\"),MATCH($B22,INDIRECT(\"'\"&$A$2&\"'!$A:$A\"),0),MATCH(H$9,'1'!Titre,0)))","v":""},{"$f":"IF($B22=\"\",\"\",IF(INDEX(INDIRECT(\"'\"&$A$2&\"'!$A:$I\"),MATCH($B22,INDIRECT(\"'\"&$A$2&\"'!$A:$A\"),0),MATCH(\"SIGNATURE\",'1'!Titre,0))=\"\",IF(COUNTIF($B$10:$B112,$B22)>1,COUNTIF($B$10:$B112,$B22),\"\"),INDEX(INDIRECT(\"'\"&$A$2&\"'!$A:$I\"),MATCH($B22,INDIRECT(\"'\"&$A$2&\"'!$A:$A\"),0),MATCH(\"SIGNATURE\",'1'!Titre,0))))","v":""}]
[14,null,{"$f":"IF($B23=\"\",\"\",INDEX(INDIRECT(\"'\"&$A$2&\"'!$A:$I\"),MATCH($B23,INDIRECT(\"'\"&$A$2&\"'!$A:$A\"),0),MATCH(C$9,'1'!Titre,0)))","v":""},{"$f":"IF($B23=\"\",\"\",INDEX(INDIRECT(\"'\"&$A$2&\"'!$A:$I\"),MATCH($B23,INDIRECT(\"'\"&$A$2&\"'!$A:$A\"),0),MATCH(D$9,'1'!Titre,0)))","v":""},{"$f":"IF($B23=\"\",\"\",INDEX(INDIRECT(\"'\"&$A$2&\"'!$A:$I\"),MATCH($B23,INDIRECT(\"'\"&$A$2&\"'!$A:$A\"),0),MATCH(E$9,'1'!Titre,0)))","v":""},{"$f":"IF($B23=\"\",\"\",INDEX(INDIRECT(\"'\"&$A$2&\"'!$A:$I\"),MATCH($B23,INDIRECT(\"'\"&$A$2&\"'!$A:$A\"),0),MATCH(F$9,'1'!Titre,0)))","v":""},{"$f":"IF($B23=\"\",\"\",INDEX(INDIRECT(\"'\"&$A$2&\"'!$A:$I\"),MATCH($B23,INDIRECT(\"'\"&$A$2&\"'!$A:$A\"),0),MATCH(G$9,'1'!Titre,0)))","v":""},{"$f":"IF($B23=\"\",\"\",INDEX(INDIRECT(\"'\"&$A$2&\"'!$A:$I\"),MATCH($B23,INDIRECT(\"'\"&$A$2&\"'!$A:$A\"),0),MATCH(H$9,'1'!Titre,0)))","v":""},{"$f":"IF($B23=\"\",\"\",IF(INDEX(INDIRECT(\"'\"&$A$2&\"'!$A:$I\"),MATCH($B23,INDIRECT(\"'\"&$A$2&\"'!$A:$A\"),0),MATCH(\"SIGNATURE\",'1'!Titre,0))=\"\",IF(COUNTIF($B$10:$B113,$B23)>1,COUNTIF($B$10:$B113,$B23),\"\"),INDEX(INDIRECT(\"'\"&$A$2&\"'!$A:$I\"),MATCH($B23,INDIRECT(\"'\"&$A$2&\"'!$A:$A\"),0),MATCH(\"SIGNATURE\",'1'!Titre,0))))","v":""}]
[15,null,{"$f":"IF($B24=\"\",\"\",INDEX(INDIRECT(\"'\"&$A$2&\"'!$A:$I\"),MATCH($B24,INDIRECT(\"'\"&$A$2&\"'!$A:$A\"),0),MATCH(C$9,'1'!Titre,0)))","v":""},{"$f":"IF($B24=\"\",\"\",INDEX(INDIRECT(\"'\"&$A$2&\"'!$A:$I\"),MATCH($B24,INDIRECT(\"'\"&$A$2&\"'!$A:$A\"),0),MATCH(D$9,'1'!Titre,0)))","v":""},{"$f":"IF($B24=\"\",\"\",INDEX(INDIRECT(\"'\"&$A$2&\"'!$A:$I\"),MATCH($B24,INDIRECT(\"'\"&$A$2&\"'!$A:$A\"),0),MATCH(E$9,'1'!Titre,0)))","v":""},{"$f":"IF($B24=\"\",\"\",INDEX(INDIRECT(\"'\"&$A$2&\"'!$A:$I\"),MATCH($B24,INDIRECT(\"'\"&$A$2&\"'!$A:$A\"),0),MATCH(F$9,'1'!Titre,0)))","v":""},{"$f":"IF($B24=\"\",\"\",INDEX(INDIRECT(\"'\"&$A$2&\"'!$A:$I\"),MATCH($B24,INDIRECT(\"'\"&$A$2&\"'!$A:$A\"),0),MATCH(G$9,'1'!Titre,0)))","v":""},{"$f":"IF($B24=\"\",\"\",INDEX(INDIRECT(\"'\"&$A$2&\"'!$A:$I\"),MATCH($B24,INDIRECT(\"'\"&$A$2&\"'!$A:$A\"),0),MATCH(H$9,'1'!Titre,0)))","v":""},{"$f":"IF($B24=\"\",\"\",IF(INDEX(INDIRECT(\"'\"&$A$2&\"'!$A:$I\"),MATCH($B24,INDIRECT(\"'\"&$A$2&\"'!$A:$A\"),0),MATCH(\"SIGNATURE\",'1'!Titre,0))=\"\",IF(COUNTIF($B$10:$B114,$B24)>1,COUNTIF($B$10:$B114,$B24),\"\"),INDEX(INDIRECT(\"'\"&$A$2&\"'!$A:$I\"),MATCH($B24,INDIRECT(\"'\"&$A$2&\"'!$A:$A\"),0),MATCH(\"SIGNATURE\",'1'!Titre,0))))","v":""}]
[16,null,{"$f":"IF($B25=\"\",\"\",INDEX(INDIRECT(\"'\"&$A$2&\"'!$A:$I\"),MATCH($B25,INDIRECT(\"'\"&$A$2&\"'!$A:$A\"),0),MATCH(C$9,'1'!Titre,0)))","v":""},{"$f":"IF($B25=\"\",\"\",INDEX(INDIRECT(\"'\"&$A$2&\"'!$A:$I\"),MATCH($B25,INDIRECT(\"'\"&$A$2&\"'!$A:$A\"),0),MATCH(D$9,'1'!Titre,0)))","v":""},{"$f":"IF($B25=\"\",\"\",INDEX(INDIRECT(\"'\"&$A$2&\"'!$A:$I\"),MATCH($B25,INDIRECT(\"'\"&$A$2&\"'!$A:$A\"),0),MATCH(E$9,'1'!Titre,0)))","v":""},{"$f":"IF($B25=\"\",\"\",INDEX(INDIRECT(\"'\"&$A$2&\"'!$A:$I\"),MATCH($B25,INDIRECT(\"'\"&$A$2&\"'!$A:$A\"),0),MATCH(F$9,'1'!Titre,0)))","v":""},{"$f":"IF($B25=\"\",\"\",INDEX(INDIRECT(\"'\"&$A$2&\"'!$A:$I\"),MATCH($B25,INDIRECT(\"'\"&$A$2&\"'!$A:$A\"),0),MATCH(G$9,'1'!Titre,0)))","v":""},{"$f":"IF($B25=\"\",\"\",INDEX(INDIRECT(\"'\"&$A$2&\"'!$A:$I\"),MATCH($B25,INDIRECT(\"'\"&$A$2&\"'!$A:$A\"),0),MATCH(H$9,'1'!Titre,0)))","v":""},{"$f":"IF($B25=\"\",\"\",IF(INDEX(INDIRECT(\"'\"&$A$2&\"'!$A:$I\"),MATCH($B25,INDIRECT(\"'\"&$A$2&\"'!$A:$A\"),0),MATCH(\"SIGNATURE\",'1'!Titre,0))=\"\",IF(COUNTIF($B$10:$B115,$B25)>1,COUNTIF($B$10:$B115,$B25),\"\"),INDEX(INDIRECT(\"'\"&$A$2&\"'!$A:$I\"),MATCH($B25,INDIRECT(\"'\"&$A$2&\"'!$A:$A\"),0),MATCH(\"SIGNATURE\",'1'!Titre,0))))","v":""}]
[17,null,{"$f":"IF($B26=\"\",\"\",INDEX(INDIRECT(\"'\"&$A$2&\"'!$A:$I\"),MATCH($B26,INDIRECT(\"'\"&$A$2&\"'!$A:$A\"),0),MATCH(C$9,'1'!Titre,0)))","v":""},{"$f":"IF($B26=\"\",\"\",INDEX(INDIRECT(\"'\"&$A$2&\"'!$A:$I\"),MATCH($B26,INDIRECT(\"'\"&$A$2&\"'!$A:$A\"),0),MATCH(D$9,'1'!Titre,0)))","v":""},{"$f":"IF($B26=\"\",\"\",INDEX(INDIRECT(\"'\"&$A$2&\"'!$A:$I\"),MATCH($B26,INDIRECT(\"'\"&$A$2&\"'!$A:$A\"),0),MATCH(E$9,'1'!Titre,0)))","v":""},{"$f":"IF($B26=\"\",\"\",INDEX(INDIRECT(\"'\"&$A$2&\"'!$A:$I\"),MATCH($B26,INDIRECT(\"'\"&$A$2&\"'!$A:$A\"),0),MATCH(F$9,'1'!Titre,0)))","v":""},{"$f":"IF($B26=\"\",\"\",INDEX(INDIRECT(\"'\"&$A$2&\"'!$A:$I\"),MATCH($B26,INDIRECT(\"'\"&$A$2&\"'!$A:$A\"),0),MATCH(G$9,'1'!Titre,0)))","v":""},{"$f":"IF($B26=\"\",\"\",INDEX(INDIRECT(\"'\"&$A$2&\"'!$A:$I\"),MATCH($B26,INDIRECT(\"'\"&$A$2&\"'!$A:$A\"),0),MATCH(H$9,'1'!Titre,0)))","v":""},{"$f":"IF($B26=\"\",\"\",IF(INDEX(INDIRECT(\"'\"&$A$2&\"'!$A:$I\"),MATCH($B26,INDIRECT(\"'\"&$A$2&\"'!$A:$A\"),0),MATCH(\"SIGNATURE\",'1'!Titre,0))=\"\",IF(COUNTIF($B$10:$B116,$B26)>1,COUNTIF($B$10:$B116,$B26),\"\"),INDEX(INDIRECT(\"'\"&$A$2&\"'!$A:$I\"),MATCH($B26,INDIRECT(\"'\"&$A$2&\"'!$A:$A\"),0),MATCH(\"SIGNATURE\",'1'!Titre,0))))","v":""}]
[18,null,{"$f":"IF($B27=\"\",\"\",INDEX(INDIRECT(\"'\"&$A$2&\"'!$A:$I\"),MATCH($B27,INDIRECT(\"'\"&$A$2&\"'!$A:$A\"),0),MATCH(C$9,'1'!Titre,0)))","v":""},{"$f":"IF($B27=\"\",\"\",INDEX(INDIRECT(\"'\"&$A$2&\"'!$A:$I\"),MATCH($B27,INDIRECT(\"'\"&$A$2&\"'!$A:$A\"),0),MATCH(D$9,'1'!Titre,0)))","v":""},{"$f":"IF($B27=\"\",\"\",INDEX(INDIRECT(\"'\"&$A$2&\"'!$A:$I\"),MATCH($B27,INDIRECT(\"'\"&$A$2&\"'!$A:$A\"),0),MATCH(E$9,'1'!Titre,0)))","v":""},{"$f":"IF($B27=\"\",\"\",INDEX(INDIRECT(\"'\"&$A$2&\"'!$A:$I\"),MATCH($B27,INDIRECT(\"'\"&$A$2&\"'!$A:$A\"),0),MATCH(F$9,'1'!Titre,0)))","v":""},{"$f":"IF($B27=\"\",\"\",INDEX(INDIRECT(\"'\"&$A$2&\"'!$A:$I\"),MATCH($B27,INDIRECT(\"'\"&$A$2&\"'!$A:$A\"),0),MATCH(G$9,'1'!Titre,0)))","v":""},{"$f":"IF($B27=\"\",\"\",INDEX(INDIRECT(\"'\"&$A$2&\"'!$A:$I\"),MATCH($B27,INDIRECT(\"'\"&$A$2&\"'!$A:$A\"),0),MATCH(H$9,'1'!Titre,0)))","v":""},{"$f":"IF($B27=\"\",\"\",IF(INDEX(INDIRECT(\"'\"&$A$2&\"'!$A:$I\"),MATCH($B27,INDIRECT(\"'\"&$A$2&\"'!$A:$A\"),0),MATCH(\"SIGNATURE\",'1'!Titre,0))=\"\",IF(COUNTIF($B$10:$B117,$B27)>1,COUNTIF($B$10:$B117,$B27),\"\"),INDEX(INDIRECT(\"'\"&$A$2&\"'!$A:$I\"),MATCH($B27,INDIRECT(\"'\"&$A$2&\"'!$A:$A\"),0),MATCH(\"SIGNATURE\",'1'!Titre,0))))","v":""}]
[19,null,{"$f":"IF($B28=\"\",\"\",INDEX(INDIRECT(\"'\"&$A$2&\"'!$A:$I\"),MATCH($B28,INDIRECT(\"'\"&$A$2&\"'!$A:$A\"),0),MATCH(C$9,'1'!Titre,0)))","v":""},{"$f":"IF($B28=\"\",\"\",INDEX(INDIRECT(\"'\"&$A$2&\"'!$A:$I\"),MATCH($B28,INDIRECT(\"'\"&$A$2&\"'!$A:$A\"),0),MATCH(D$9,'1'!Titre,0)))","v":""},{"$f":"IF($B28=\"\",\"\",INDEX(INDIRECT(\"'\"&$A$2&\"'!$A:$I\"),MATCH($B28,INDIRECT(\"'\"&$A$2&\"'!$A:$A\"),0),MATCH(E$9,'1'!Titre,0)))","v":""},{"$f":"IF($B28=\"\",\"\",INDEX(INDIRECT(\"'\"&$A$2&\"'!$A:$I\"),MATCH($B28,INDIRECT(\"'\"&$A$2&\"'!$A:$A\"),0),MATCH(F$9,'1'!Titre,0)))","v":""},{"$f":"IF($B28=\"\",\"\",INDEX(INDIRECT(\"'\"&$A$2&\"'!$A:$I\"),MATCH($B28,INDIRECT(\"'\"&$A$2&\"'!$A:$A\"),0),MATCH(G$9,'1'!Titre,0)))","v":""},{"$f":"IF($B28=\"\",\"\",INDEX(INDIRECT(\"'\"&$A$2&\"'!$A:$I\"),MATCH($B28,INDIRECT(\"'\"&$A$2&\"'!$A:$A\"),0),MATCH(H$9,'1'!Titre,0)))","v":""},{"$f":"IF($B28=\"\",\"\",IF(INDEX(INDIRECT(\"'\"&$A$2&\"'!$A:$I\"),MATCH($B28,INDIRECT(\"'\"&$A$2&\"'!$A:$A\"),0),MATCH(\"SIGNATURE\",'1'!Titre,0))=\"\",IF(COUNTIF($B$10:$B118,$B28)>1,COUNTIF($B$10:$B118,$B28),\"\"),INDEX(INDIRECT(\"'\"&$A$2&\"'!$A:$I\"),MATCH($B28,INDIRECT(\"'\"&$A$2&\"'!$A:$A\"),0),MATCH(\"SIGNATURE\",'1'!Titre,0))))","v":""}]
[20,null,{"$f":"IF($B29=\"\",\"\",INDEX(INDIRECT(\"'\"&$A$2&\"'!$A:$I\"),MATCH($B29,INDIRECT(\"'\"&$A$2&\"'!$A:$A\"),0),MATCH(C$9,'1'!Titre,0)))","v":""},{"$f":"IF($B29=\"\",\"\",INDEX(INDIRECT(\"'\"&$A$2&\"'!$A:$I\"),MATCH($B29,INDIRECT(\"'\"&$A$2&\"'!$A:$A\"),0),MATCH(D$9,'1'!Titre,0)))","v":""},{"$f":"IF($B29=\"\",\"\",INDEX(INDIRECT(\"'\"&$A$2&\"'!$A:$I\"),MATCH($B29,INDIRECT(\"'\"&$A$2&\"'!$A:$A\"),0),MATCH(E$9,'1'!Titre,0)))","v":""},{"$f":"IF($B29=\"\",\"\",INDEX(INDIRECT(\"'\"&$A$2&\"'!$A:$I\"),MATCH($B29,INDIRECT(\"'\"&$A$2&\"'!$A:$A\"),0),MATCH(F$9,'1'!Titre,0)))","v":""},{"$f":"IF($B29=\"\",\"\",INDEX(INDIRECT(\"'\"&$A$2&\"'!$A:$I\"),MATCH($B29,INDIRECT(\"'\"&$A$2&\"'!$A:$A\"),0),MATCH(G$9,'1'!Titre,0)))","v":""},{"$f":"IF($B29=\"\",\"\",INDEX(INDIRECT(\"'\"&$A$2&\"'!$A:$I\"),MATCH($B29,INDIRECT(\"'\"&$A$2&\"'!$A:$A\"),0),MATCH(H$9,'1'!Titre,0)))","v":""},{"$f":"IF($B29=\"\",\"\",IF(INDEX(INDIRECT(\"'\"&$A$2&\"'!$A:$I\"),MATCH($B29,INDIRECT(\"'\"&$A$2&\"'!$A:$A\"),0),MATCH(\"SIGNATURE\",'1'!Titre,0))=\"\",IF(COUNTIF($B$10:$B119,$B29)>1,COUNTIF($B$10:$B119,$B29),\"\"),INDEX(INDIRECT(\"'\"&$A$2&\"'!$A:$I\"),MATCH($B29,INDIRECT(\"'\"&$A$2&\"'!$A:$A\"),0),MATCH(\"SIGNATURE\",'1'!Titre,0))))","v":""}]
[21,null,{"$f":"IF($B30=\"\",\"\",INDEX(INDIRECT(\"'\"&$A$2&\"'!$A:$I\"),MATCH($B30,INDIRECT(\"'\"&$A$2&\"'!$A:$A\"),0),MATCH(C$9,'1'!Titre,0)))","v":""},{"$f":"IF($B30=\"\",\"\",INDEX(INDIRECT(\"'\"&$A$2&\"'!$A:$I\"),MATCH($B30,INDIRECT(\"'\"&$A$2&\"'!$A:$A\"),0),MATCH(D$9,'1'!Titre,0)))","v":""},{"$f":"IF($B30=\"\",\"\",INDEX(INDIRECT(\"'\"&$A$2&\"'!$A:$I\"),MATCH($B30,INDIRECT(\"'\"&$A$2&\"'!$A:$A\"),0),MATCH(E$9,'1'!Titre,0)))","v":""},{"$f":"IF($B30=\"\",\"\",INDEX(INDIRECT(\"'\"&$A$2&\"'!$A:$I\"),MATCH($B30,INDIRECT(\"'\"&$A$2&\"'!$A:$A\"),0),MATCH(F$9,'1'!Titre,0)))","v":""},{"$f":"IF($B30=\"\",\"\",INDEX(INDIRECT(\"'\"&$A$2&\"'!$A:$I\"),MATCH($B30,INDIRECT(\"'\"&$A$2&\"'!$A:$A\"),0),MATCH(G$9,'1'!Titre,0)))","v":""},{"$f":"IF($B30=\"\",\"\",INDEX(INDIRECT(\"'\"&$A$2&\"'!$A:$I\"),MATCH($B30,INDIRECT(\"'\"&$A$2&\"'!$A:$A\"),0),MATCH(H$9,'1'!Titre,0)))","v":""},{"$f":"IF($B30=\"\",\"\",IF(INDEX(INDIRECT(\"'\"&$A$2&\"'!$A:$I\"),MATCH($B30,INDIRECT(\"'\"&$A$2&\"'!$A:$A\"),0),MATCH(\"SIGNATURE\",'1'!Titre,0))=\"\",IF(COUNTIF($B$10:$B120,$B30)>1,COUNTIF($B$10:$B120,$B30),\"\"),INDEX(INDIRECT(\"'\"&$A$2&\"'!$A:$I\"),MATCH($B30,INDIRECT(\"'\"&$A$2&\"'!$A:$A\"),0),MATCH(\"SIGNATURE\",'1'!Titre,0))))","v":""}]
[22,null,{"$f":"IF($B31=\"\",\"\",INDEX(INDIRECT(\"'\"&$A$2&\"'!$A:$I\"),MATCH($B31,INDIRECT(\"'\"&$A$2&\"'!$A:$A\"),0),MATCH(C$9,'1'!Titre,0)))","v":""},{"$f":"IF($B31=\"\",\"\",INDEX(INDIRECT(\"'\"&$A$2&\"'!$A:$I\"),MATCH($B31,INDIRECT(\"'\"&$A$2&\"'!$A:$A\"),0),MATCH(D$9,'1'!Titre,0)))","v":""},{"$f":"IF($B31=\"\",\"\",INDEX(INDIRECT(\"'\"&$A$2&\"'!$A:$I\"),MATCH($B31,INDIRECT(\"'\"&$A$2&\"'!$A:$A\"),0),MATCH(E$9,'1'!Titre,0)))","v":""},{"$f":"IF($B31=\"\",\"\",INDEX(INDIRECT(\"'\"&$A$2&\"'!$A:$I\"),MATCH($B31,INDIRECT(\"'\"&$A$2&\"'!$A:$A\"),0),MATCH(F$9,'1'!Titre,0)))","v":""},{"$f":"IF($B31=\"\",\"\",INDEX(INDIRECT(\"'\"&$A$2&\"'!$A:$I\"),MATCH($B31,INDIRECT(\"'\"&$A$2&\"'!$A:$A\"),0),MATCH(G$9,'1'!Titre,0)))","v":""},{"$f":"IF($B31=\"\",\"\",INDEX(INDIRECT(\"'\"&$A$2&\"'!$A:$I\"),MATCH($B31,INDIRECT(\"'\"&$A$2&\"'!$A:$A\"),0),MATCH(H$9,'1'!Titre,0)))","v":""},{"$f":"IF($B31=\"\",\"\",IF(INDEX(INDIRECT(\"'\"&$A$2&\"'!$A:$I\"),MATCH($B31,INDIRECT(\"'\"&$A$2&\"'!$A:$A\"),0),MATCH(\"SIGNATURE\",'1'!Titre,0))=\"\",IF(COUNTIF($B$10:$B121,$B31)>1,COUNTIF($B$10:$B121,$B31),\"\"),INDEX(INDIRECT(\"'\"&$A$2&\"'!$A:$I\"),MATCH($B31,INDIRECT(\"'\"&$A$2&\"'!$A:$A\"),0),MATCH(\"SIGNATURE\",'1'!Titre,0))))","v":""}]
[23,null,{"$f":"IF($B32=\"\",\"\",INDEX(INDIRECT(\"'\"&$A$2&\"'!$A:$I\"),MATCH($B32,INDIRECT(\"'\"&$A$2&\"'!$A:$A\"),0),MATCH(C$9,'1'!Titre,0)))","v":""},{"$f":"IF($B32=\"\",\"\",INDEX(INDIRECT(\"'\"&$A$2&\"'!$A:$I\"),MATCH($B32,INDIRECT(\"'\"&$A$2&\"'!$A:$A\"),0),MATCH(D$9,'1'!Titre,0)))","v":""},{"$f":"IF($B32=\"\",\"\",INDEX(INDIRECT(\"'\"&$A$2&\"'!$A:$I\"),MATCH($B32,INDIRECT(\"'\"&$A$2&\"'!$A:$A\"),0),MATCH(E$9,'1'!Titre,0)))","v":""},{"$f":"IF($B32=\"\",\"\",INDEX(INDIRECT(\"'\"&$A$2&\"'!$A:$I\"),MATCH($B32,INDIRECT(\"'\"&$A$2&\"'!$A:$A\"),0),MATCH(F$9,'1'!Titre,0)))","v":""},{"$f":"IF($B32=\"\",\"\",INDEX(INDIRECT(\"'\"&$A$2&\"'!$A:$I\"),MATCH($B32,INDIRECT(\"'\"&$A$2&\"'!$A:$A\"),0),MATCH(G$9,'1'!Titre,0)))","v":""},{"$f":"IF($B32=\"\",\"\",INDEX(INDIRECT(\"'\"&$A$2&\"'!$A:$I\"),MATCH($B32,INDIRECT(\"'\"&$A$2&\"'!$A:$A\"),0),MATCH(H$9,'1'!Titre,0)))","v":""},{"$f":"IF($B32=\"\",\"\",IF(INDEX(INDIRECT(\"'\"&$A$2&\"'!$A:$I\"),MATCH($B32,INDIRECT(\"'\"&$A$2&\"'!$A:$A\"),0),MATCH(\"SIGNATURE\",'1'!Titre,0))=\"\",IF(COUNTIF($B$10:$B122,$B32)>1,COUNTIF($B$10:$B122,$B32),\"\"),INDEX(INDIRECT(\"'\"&$A$2&\"'!$A:$I\"),MATCH($B32,INDIRECT(\"'\"&$A$2&\"'!$A:$A\"),0),MATCH(\"SIGNATURE\",'1'!Titre,0))))","v":""}]
[24,null,{"$f":"IF($B33=\"\",\"\",INDEX(INDIRECT(\"'\"&$A$2&\"'!$A:$I\"),MATCH($B33,INDIRECT(\"'\"&$A$2&\"'!$A:$A\"),0),MATCH(C$9,'1'!Titre,0)))","v":""},{"$f":"IF($B33=\"\",\"\",INDEX(INDIRECT(\"'\"&$A$2&\"'!$A:$I\"),MATCH($B33,INDIRECT(\"'\"&$A$2&\"'!$A:$A\"),0),MATCH(D$9,'1'!Titre,0)))","v":""},{"$f":"IF($B33=\"\",\"\",INDEX(INDIRECT(\"'\"&$A$2&\"'!$A:$I\"),MATCH($B33,INDIRECT(\"'\"&$A$2&\"'!$A:$A\"),0),MATCH(E$9,'1'!Titre,0)))","v":""},{"$f":"IF($B33=\"\",\"\",INDEX(INDIRECT(\"'\"&$A$2&\"'!$A:$I\"),MATCH($B33,INDIRECT(\"'\"&$A$2&\"'!$A:$A\"),0),MATCH(F$9,'1'!Titre,0)))","v":""},{"$f":"IF($B33=\"\",\"\",INDEX(INDIRECT(\"'\"&$A$2&\"'!$A:$I\"),MATCH($B33,INDIRECT(\"'\"&$A$2&\"'!$A:$A\"),0),MATCH(G$9,'1'!Titre,0)))","v":""},{"$f":"IF($B33=\"\",\"\",INDEX(INDIRECT(\"'\"&$A$2&\"'!$A:$I\"),MATCH($B33,INDIRECT(\"'\"&$A$2&\"'!$A:$A\"),0),MATCH(H$9,'1'!Titre,0)))","v":""},{"$f":"IF($B33=\"\",\"\",IF(INDEX(INDIRECT(\"'\"&$A$2&\"'!$A:$I\"),MATCH($B33,INDIRECT(\"'\"&$A$2&\"'!$A:$A\"),0),MATCH(\"SIGNATURE\",'1'!Titre,0))=\"\",IF(COUNTIF($B$10:$B123,$B33)>1,COUNTIF($B$10:$B123,$B33),\"\"),INDEX(INDIRECT(\"'\"&$A$2&\"'!$A:$I\"),MATCH($B33,INDIRECT(\"'\"&$A$2&\"'!$A:$A\"),0),MATCH(\"SIGNATURE\",'1'!Titre,0))))","v":""}]
[25,null,{"$f":"IF($B34=\"\",\"\",INDEX(INDIRECT(\"'\"&$A$2&\"'!$A:$I\"),MATCH($B34,INDIRECT(\"'\"&$A$2&\"'!$A:$A\"),0),MATCH(C$9,'1'!Titre,0)))","v":""},{"$f":"IF($B34=\"\",\"\",INDEX(INDIRECT(\"'\"&$A$2&\"'!$A:$I\"),MATCH($B34,INDIRECT(\"'\"&$A$2&\"'!$A:$A\"),0),MATCH(D$9,'1'!Titre,0)))","v":""},{"$f":"IF($B34=\"\",\"\",INDEX(INDIRECT(\"'\"&$A$2&\"'!$A:$I\"),MATCH($B34,INDIRECT(\"'\"&$A$2&\"'!$A:$A\"),0),MATCH(E$9,'1'!Titre,0)))","v":""},{"$f":"IF($B34=\"\",\"\",INDEX(INDIRECT(\"'\"&$A$2&\"'!$A:$I\"),MATCH($B34,INDIRECT(\"'\"&$A$2&\"'!$A:$A\"),0),MATCH(F$9,'1'!Titre,0)))","v":""},{"$f":"IF($B34=\"\",\"\",INDEX(INDIRECT(\"'\"&$A$2&\"'!$A:$I\"),MATCH($B34,INDIRECT(\"'\"&$A$2&\"'!$A:$A\"),0),MATCH(G$9,'1'!Titre,0)))","v":""},{"$f":"IF($B34=\"\",\"\",INDEX(INDIRECT(\"'\"&$A$2&\"'!$A:$I\"),MATCH($B34,INDIRECT(\"'\"&$A$2&\"'!$A:$A\"),0),MATCH(H$9,'1'!Titre,0)))","v":""},{"$f":"IF($B34=\"\",\"\",IF(INDEX(INDIRECT(\"'\"&$A$2&\"'!$A:$I\"),MATCH($B34,INDIRECT(\"'\"&$A$2&\"'!$A:$A\"),0),MATCH(\"SIGNATURE\",'1'!Titre,0))=\"\",IF(COUNTIF($B$10:$B124,$B34)>1,COUNTIF($B$10:$B124,$B34),\"\"),INDEX(INDIRECT(\"'\"&$A$2&\"'!$A:$I\"),MATCH($B34,INDIRECT(\"'\"&$A$2&\"'!$A:$A\"),0),MATCH(\"SIGNATURE\",'1'!Titre,0))))","v":""}]
[26,null,{"$f":"IF($B35=\"\",\"\",INDEX(INDIRECT(\"'\"&$A$2&\"'!$A:$I\"),MATCH($B35,INDIRECT(\"'\"&$A$2&\"'!$A:$A\"),0),MATCH(C$9,'1'!Titre,0)))","v":""},{"$f":"IF($B35=\"\",\"\",INDEX(INDIRECT(\"'\"&$A$2&\"'!$A:$I\"),MATCH($B35,INDIRECT(\"'\"&$A$2&\"'!$A:$A\"),0),MATCH(D$9,'1'!Titre,0)))","v":""},{"$f":"IF($B35=\"\",\"\",INDEX(INDIRECT(\"'\"&$A$2&\"'!$A:$I\"),MATCH($B35,INDIRECT(\"'\"&$A$2&\"'!$A:$A\"),0),MATCH(E$9,'1'!Titre,0)))","v":""},{"$f":"IF($B35=\"\",\"\",INDEX(INDIRECT(\"'\"&$A$2&\"'!$A:$I\"),MATCH($B35,INDIRECT(\"'\"&$A$2&\"'!$A:$A\"),0),MATCH(F$9,'1'!Titre,0)))","v":""},{"$f":"IF($B35=\"\",\"\",INDEX(INDIRECT(\"'\"&$A$2&\"'!$A:$I\"),MATCH($B35,INDIRECT(\"'\"&$A$2&\"'!$A:$A\"),0),MATCH(G$9,'1'!Titre,0)))","v":""},{"$f":"IF($B35=\"\",\"\",INDEX(INDIRECT(\"'\"&$A$2&\"'!$A:$I\"),MATCH($B35,INDIRECT(\"'\"&$A$2&\"'!$A:$A\"),0),MATCH(H$9,'1'!Titre,0)))","v":""},{"$f":"IF($B35=\"\",\"\",IF(INDEX(INDIRECT(\"'\"&$A$2&\"'!$A:$I\"),MATCH($B35,INDIRECT(\"'\"&$A$2&\"'!$A:$A\"),0),MATCH(\"SIGNATURE\",'1'!Titre,0))=\"\",IF(COUNTIF($B$10:$B125,$B35)>1,COUNTIF($B$10:$B125,$B35),\"\"),INDEX(INDIRECT(\"'\"&$A$2&\"'!$A:$I\"),MATCH($B35,INDIRECT(\"'\"&$A$2&\"'!$A:$A\"),0),MATCH(\"SIGNATURE\",'1'!Titre,0))))","v":""}]
[27,null,{"$f":"IF($B36=\"\",\"\",INDEX(INDIRECT(\"'\"&$A$2&\"'!$A:$I\"),MATCH($B36,INDIRECT(\"'\"&$A$2&\"'!$A:$A\"),0),MATCH(C$9,'1'!Titre,0)))","v":""},{"$f":"IF($B36=\"\",\"\",INDEX(INDIRECT(\"'\"&$A$2&\"'!$A:$I\"),MATCH($B36,INDIRECT(\"'\"&$A$2&\"'!$A:$A\"),0),MATCH(D$9,'1'!Titre,0)))","v":""},{"$f":"IF($B36=\"\",\"\",INDEX(INDIRECT(\"'\"&$A$2&\"'!$A:$I\"),MATCH($B36,INDIRECT(\"'\"&$A$2&\"'!$A:$A\"),0),MATCH(E$9,'1'!Titre,0)))","v":""},{"$f":"IF($B36=\"\",\"\",INDEX(INDIRECT(\"'\"&$A$2&\"'!$A:$I\"),MATCH($B36,INDIRECT(\"'\"&$A$2&\"'!$A:$A\"),0),MATCH(F$9,'1'!Titre,0)))","v":""},{"$f":"IF($B36=\"\",\"\",INDEX(INDIRECT(\"'\"&$A$2&\"'!$A:$I\"),MATCH($B36,INDIRECT(\"'\"&$A$2&\"'!$A:$A\"),0),MATCH(G$9,'1'!Titre,0)))","v":""},{"$f":"IF($B36=\"\",\"\",INDEX(INDIRECT(\"'\"&$A$2&\"'!$A:$I\"),MATCH($B36,INDIRECT(\"'\"&$A$2&\"'!$A:$A\"),0),MATCH(H$9,'1'!Titre,0)))","v":""},{"$f":"IF($B36=\"\",\"\",IF(INDEX(INDIRECT(\"'\"&$A$2&\"'!$A:$I\"),MATCH($B36,INDIRECT(\"'\"&$A$2&\"'!$A:$A\"),0),MATCH(\"SIGNATURE\",'1'!Titre,0))=\"\",IF(COUNTIF($B$10:$B126,$B36)>1,COUNTIF($B$10:$B126,$B36),\"\"),INDEX(INDIRECT(\"'\"&$A$2&\"'!$A:$I\"),MATCH($B36,INDIRECT(\"'\"&$A$2&\"'!$A:$A\"),0),MATCH(\"SIGNATURE\",'1'!Titre,0))))","v":""}]
[28,null,{"$f":"IF($B37=\"\",\"\",INDEX(INDIRECT(\"'\"&$A$2&\"'!$A:$I\"),MATCH($B37,INDIRECT(\"'\"&$A$2&\"'!$A:$A\"),0),MATCH(C$9,'1'!Titre,0)))","v":""},{"$f":"IF($B37=\"\",\"\",INDEX(INDIRECT(\"'\"&$A$2&\"'!$A:$I\"),MATCH($B37,INDIRECT(\"'\"&$A$2&\"'!$A:$A\"),0),MATCH(D$9,'1'!Titre,0)))","v":""},{"$f":"IF($B37=\"\",\"\",INDEX(INDIRECT(\"'\"&$A$2&\"'!$A:$I\"),MATCH($B37,INDIRECT(\"'\"&$A$2&\"'!$A:$A\"),0),MATCH(E$9,'1'!Titre,0)))","v":""},{"$f":"IF($B37=\"\",\"\",INDEX(INDIRECT(\"'\"&$A$2&\"'!$A:$I\"),MATCH($B37,INDIRECT(\"'\"&$A$2&\"'!$A:$A\"),0),MATCH(F$9,'1'!Titre,0)))","v":""},{"$f":"IF($B37=\"\",\"\",INDEX(INDIRECT(\"'\"&$A$2&\"'!$A:$I\"),MATCH($B37,INDIRECT(\"'\"&$A$2&\"'!$A:$A\"),0),MATCH(G$9,'1'!Titre,0)))","v":""},{"$f":"IF($B37=\"\",\"\",INDEX(INDIRECT(\"'\"&$A$2&\"'!$A:$I\"),MATCH($B37,INDIRECT(\"'\"&$A$2&\"'!$A:$A\"),0),MATCH(H$9,'1'!Titre,0)))","v":""},{"$f":"IF($B37=\"\",\"\",IF(INDEX(INDIRECT(\"'\"&$A$2&\"'!$A:$I\"),MATCH($B37,INDIRECT(\"'\"&$A$2&\"'!$A:$A\"),0),MATCH(\"SIGNATURE\",'1'!Titre,0))=\"\",IF(COUNTIF($B$10:$B127,$B37)>1,COUNTIF($B$10:$B127,$B37),\"\"),INDEX(INDIRECT(\"'\"&$A$2&\"'!$A:$I\"),MATCH($B37,INDIRECT(\"'\"&$A$2&\"'!$A:$A\"),0),MATCH(\"SIGNATURE\",'1'!Titre,0))))","v":""}]
[29,null,{"$f":"IF($B38=\"\",\"\",INDEX(INDIRECT(\"'\"&$A$2&\"'!$A:$I\"),MATCH($B38,INDIRECT(\"'\"&$A$2&\"'!$A:$A\"),0),MATCH(C$9,'1'!Titre,0)))","v":""},{"$f":"IF($B38=\"\",\"\",INDEX(INDIRECT(\"'\"&$A$2&\"'!$A:$I\"),MATCH($B38,INDIRECT(\"'\"&$A$2&\"'!$A:$A\"),0),MATCH(D$9,'1'!Titre,0)))","v":""},{"$f":"IF($B38=\"\",\"\",INDEX(INDIRECT(\"'\"&$A$2&\"'!$A:$I\"),MATCH($B38,INDIRECT(\"'\"&$A$2&\"'!$A:$A\"),0),MATCH(E$9,'1'!Titre,0)))","v":""},{"$f":"IF($B38=\"\",\"\",INDEX(INDIRECT(\"'\"&$A$2&\"'!$A:$I\"),MATCH($B38,INDIRECT(\"'\"&$A$2&\"'!$A:$A\"),0),MATCH(F$9,'1'!Titre,0)))","v":""},{"$f":"IF($B38=\"\",\"\",INDEX(INDIRECT(\"'\"&$A$2&\"'!$A:$I\"),MATCH($B38,INDIRECT(\"'\"&$A$2&\"'!$A:$A\"),0),MATCH(G$9,'1'!Titre,0)))","v":""},{"$f":"IF($B38=\"\",\"\",INDEX(INDIRECT(\"'\"&$A$2&\"'!$A:$I\"),MATCH($B38,INDIRECT(\"'\"&$A$2&\"'!$A:$A\"),0),MATCH(H$9,'1'!Titre,0)))","v":""},{"$f":"IF($B38=\"\",\"\",IF(INDEX(INDIRECT(\"'\"&$A$2&\"'!$A:$I\"),MATCH($B38,INDIRECT(\"'\"&$A$2&\"'!$A:$A\"),0),MATCH(\"SIGNATURE\",'1'!Titre,0))=\"\",IF(COUNTIF($B$10:$B128,$B38)>1,COUNTIF($B$10:$B128,$B38),\"\"),INDEX(INDIRECT(\"'\"&$A$2&\"'!$A:$I\"),MATCH($B38,INDIRECT(\"'\"&$A$2&\"'!$A:$A\"),0),MATCH(\"SIGNATURE\",'1'!Titre,0))))","v":""}]
[30,null,{"$f":"IF($B39=\"\",\"\",INDEX(INDIRECT(\"'\"&$A$2&\"'!$A:$I\"),MATCH($B39,INDIRECT(\"'\"&$A$2&\"'!$A:$A\"),0),MATCH(C$9,'1'!Titre,0)))","v":""},{"$f":"IF($B39=\"\",\"\",INDEX(INDIRECT(\"'\"&$A$2&\"'!$A:$I\"),MATCH($B39,INDIRECT(\"'\"&$A$2&\"'!$A:$A\"),0),MATCH(D$9,'1'!Titre,0)))","v":""},{"$f":"IF($B39=\"\",\"\",INDEX(INDIRECT(\"'\"&$A$2&\"'!$A:$I\"),MATCH($B39,INDIRECT(\"'\"&$A$2&\"'!$A:$A\"),0),MATCH(E$9,'1'!Titre,0)))","v":""},{"$f":"IF($B39=\"\",\"\",INDEX(INDIRECT(\"'\"&$A$2&\"'!$A:$I\"),MATCH($B39,INDIRECT(\"'\"&$A$2&\"'!$A:$A\"),0),MATCH(F$9,'1'!Titre,0)))","v":""},{"$f":"IF($B39=\"\",\"\",INDEX(INDIRECT(\"'\"&$A$2&\"'!$A:$I\"),MATCH($B39,INDIRECT(\"'\"&$A$2&\"'!$A:$A\"),0),MATCH(G$9,'1'!Titre,0)))","v":""},{"$f":"IF($B39=\"\",\"\",INDEX(INDIRECT(\"'\"&$A$2&\"'!$A:$I\"),MATCH($B39,INDIRECT(\"'\"&$A$2&\"'!$A:$A\"),0),MATCH(H$9,'1'!Titre,0)))","v":""},{"$f":"IF($B39=\"\",\"\",IF(INDEX(INDIRECT(\"'\"&$A$2&\"'!$A:$I\"),MATCH($B39,INDIRECT(\"'\"&$A$2&\"'!$A:$A\"),0),MATCH(\"SIGNATURE\",'1'!Titre,0))=\"\",IF(COUNTIF($B$10:$B129,$B39)>1,COUNTIF($B$10:$B129,$B39),\"\"),INDEX(INDIRECT(\"'\"&$A$2&\"'!$A:$I\"),MATCH($B39,INDIRECT(\"'\"&$A$2&\"'!$A:$A\"),0),MATCH(\"SIGNATURE\",'1'!Titre,0))))","v":""}]

{"sheet":"15-16_classement","index":19,"n_rows":39,"n_cols":9,"rows_kept":39,"cut":false,"hidden":false,"merged":[[6,3,6,7],[0,1,0,7],[2,3,2,7],[3,3,3,7],[4,3,4,7],[5,3,5,7]]}
[{"$f":"RIGHT(CELL(\"nomfichier\",A1),LEN(CELL(\"nomfichier\",A1)) - FIND(\"]\",CELL(\"nomfichier\",A1)))","v":"15-16_classement"},"CLASSEMENTS"]
[{"$f":"LEFT($A$1,FIND(\"_classement\",$A$1)-1)","v":"15-16"}]
[null,null,"Club organisateur :",{"$f":"IF(club=\"\",\"\",club)","v":""}]
[null,null,"Lieu de l'épreuve :",{"$f":"IF(lieu=\"\",\"\",lieu)","v":""}]
[null,null,"Date de l'épreuve :",{"$f":"IF(date_epreuve=\"\",\"\",date_epreuve)","v":""}]
[null,null,"Catégorie :","15 / 16 ans"]
[null,null,"Nb de partants :",{"$f":"COUNTIFS(INDIRECT(\"'\"&$A2&\"'!$B$9:$B$100\"),\"><\",INDIRECT(\"'\"&$A2&\"'!$i$9:$i$100\"),\"<>Non Partant\")","v":0}]
[]
["PLACE","N°","NOM  PRENOM","M/F","FEDERATION","CATE.","CLUB","DEP."]
[1,null,{"$f":"IF($B10=\"\",\"\",INDEX(INDIRECT(\"'\"&$A$2&\"'!$A:$I\"),MATCH($B10,INDIRECT(\"'\"&$A$2&\"'!$A:$A\"),0),MATCH(C$9,'1'!Titre,0)))","v":""},{"$f":"IF($B10=\"\",\"\",INDEX(INDIRECT(\"'\"&$A$2&\"'!$A:$I\"),MATCH($B10,INDIRECT(\"'\"&$A$2&\"'!$A:$A\"),0),MATCH(D$9,'1'!Titre,0)))","v":""},{"$f":"IF($B10=\"\",\"\",INDEX(INDIRECT(\"'\"&$A$2&\"'!$A:$I\"),MATCH($B10,INDIRECT(\"'\"&$A$2&\"'!$A:$A\"),0),MATCH(E$9,'1'!Titre,0)))","v":""},{"$f":"IF($B10=\"\",\"\",INDEX(INDIRECT(\"'\"&$A$2&\"'!$A:$I\"),MATCH($B10,INDIRECT(\"'\"&$A$2&\"'!$A:$A\"),0),MATCH(F$9,'1'!Titre,0)))","v":""},{"$f":"IF($B10=\"\",\"\",INDEX(INDIRECT(\"'\"&$A$2&\"'!$A:$I\"),MATCH($B10,INDIRECT(\"'\"&$A$2&\"'!$A:$A\"),0),MATCH(G$9,'1'!Titre,0)))","v":""},{"$f":"IF($B10=\"\",\"\",INDEX(INDIRECT(\"'\"&$A$2&\"'!$A:$I\"),MATCH($B10,INDIRECT(\"'\"&$A$2&\"'!$A:$A\"),0),MATCH(H$9,'1'!Titre,0)))","v":""},{"$f":"IF($B10=\"\",\"\",IF(INDEX(INDIRECT(\"'\"&$A$2&\"'!$A:$I\"),MATCH($B10,INDIRECT(\"'\"&$A$2&\"'!$A:$A\"),0),MATCH(\"SIGNATURE\",'1'!Titre,0))=\"\",IF(COUNTIF($B$10:$B100,$B10)>1,COUNTIF($B$10:$B100,$B10),\"\"),INDEX(INDIRECT(\"'\"&$A$2&\"'!$A:$I\"),MATCH($B10,INDIRECT(\"'\"&$A$2&\"'!$A:$A\"),0),MATCH(\"SIGNATURE\",'1'!Titre,0))))","v":""}]
[2,null,{"$f":"IF($B11=\"\",\"\",INDEX(INDIRECT(\"'\"&$A$2&\"'!$A:$I\"),MATCH($B11,INDIRECT(\"'\"&$A$2&\"'!$A:$A\"),0),MATCH(C$9,'1'!Titre,0)))","v":""},{"$f":"IF($B11=\"\",\"\",INDEX(INDIRECT(\"'\"&$A$2&\"'!$A:$I\"),MATCH($B11,INDIRECT(\"'\"&$A$2&\"'!$A:$A\"),0),MATCH(D$9,'1'!Titre,0)))","v":""},{"$f":"IF($B11=\"\",\"\",INDEX(INDIRECT(\"'\"&$A$2&\"'!$A:$I\"),MATCH($B11,INDIRECT(\"'\"&$A$2&\"'!$A:$A\"),0),MATCH(E$9,'1'!Titre,0)))","v":""},{"$f":"IF($B11=\"\",\"\",INDEX(INDIRECT(\"'\"&$A$2&\"'!$A:$I\"),MATCH($B11,INDIRECT(\"'\"&$A$2&\"'!$A:$A\"),0),MATCH(F$9,'1'!Titre,0)))","v":""},{"$f":"IF($B11=\"\",\"\",INDEX(INDIRECT(\"'\"&$A$2&\"'!$A:$I\"),MATCH($B11,INDIRECT(\"'\"&$A$2&\"'!$A:$A\"),0),MATCH(G$9,'1'!Titre,0)))","v":""},{"$f":"IF($B11=\"\",\"\",INDEX(INDIRECT(\"'\"&$A$2&\"'!$A:$I\"),MATCH($B11,INDIRECT(\"'\"&$A$2&\"'!$A:$A\"),0),MATCH(H$9,'1'!Titre,0)))","v":""},{"$f":"IF($B11=\"\",\"\",IF(INDEX(INDIRECT(\"'\"&$A$2&\"'!$A:$I\"),MATCH($B11,INDIRECT(\"'\"&$A$2&\"'!$A:$A\"),0),MATCH(\"SIGNATURE\",'1'!Titre,0))=\"\",IF(COUNTIF($B$10:$B101,$B11)>1,COUNTIF($B$10:$B101,$B11),\"\"),INDEX(INDIRECT(\"'\"&$A$2&\"'!$A:$I\"),MATCH($B11,INDIRECT(\"'\"&$A$2&\"'!$A:$A\"),0),MATCH(\"SIGNATURE\",'1'!Titre,0))))","v":""}]
[3,null,{"$f":"IF($B12=\"\",\"\",INDEX(INDIRECT(\"'\"&$A$2&\"'!$A:$I\"),MATCH($B12,INDIRECT(\"'\"&$A$2&\"'!$A:$A\"),0),MATCH(C$9,'1'!Titre,0)))","v":""},{"$f":"IF($B12=\"\",\"\",INDEX(INDIRECT(\"'\"&$A$2&\"'!$A:$I\"),MATCH($B12,INDIRECT(\"'\"&$A$2&\"'!$A:$A\"),0),MATCH(D$9,'1'!Titre,0)))","v":""},{"$f":"IF($B12=\"\",\"\",INDEX(INDIRECT(\"'\"&$A$2&\"'!$A:$I\"),MATCH($B12,INDIRECT(\"'\"&$A$2&\"'!$A:$A\"),0),MATCH(E$9,'1'!Titre,0)))","v":""},{"$f":"IF($B12=\"\",\"\",INDEX(INDIRECT(\"'\"&$A$2&\"'!$A:$I\"),MATCH($B12,INDIRECT(\"'\"&$A$2&\"'!$A:$A\"),0),MATCH(F$9,'1'!Titre,0)))","v":""},{"$f":"IF($B12=\"\",\"\",INDEX(INDIRECT(\"'\"&$A$2&\"'!$A:$I\"),MATCH($B12,INDIRECT(\"'\"&$A$2&\"'!$A:$A\"),0),MATCH(G$9,'1'!Titre,0)))","v":""},{"$f":"IF($B12=\"\",\"\",INDEX(INDIRECT(\"'\"&$A$2&\"'!$A:$I\"),MATCH($B12,INDIRECT(\"'\"&$A$2&\"'!$A:$A\"),0),MATCH(H$9,'1'!Titre,0)))","v":""},{"$f":"IF($B12=\"\",\"\",IF(INDEX(INDIRECT(\"'\"&$A$2&\"'!$A:$I\"),MATCH($B12,INDIRECT(\"'\"&$A$2&\"'!$A:$A\"),0),MATCH(\"SIGNATURE\",'1'!Titre,0))=\"\",IF(COUNTIF($B$10:$B102,$B12)>1,COUNTIF($B$10:$B102,$B12),\"\"),INDEX(INDIRECT(\"'\"&$A$2&\"'!$A:$I\"),MATCH($B12,INDIRECT(\"'\"&$A$2&\"'!$A:$A\"),0),MATCH(\"SIGNATURE\",'1'!Titre,0))))","v":""}]
[4,null,{"$f":"IF($B13=\"\",\"\",INDEX(INDIRECT(\"'\"&$A$2&\"'!$A:$I\"),MATCH($B13,INDIRECT(\"'\"&$A$2&\"'!$A:$A\"),0),MATCH(C$9,'1'!Titre,0)))","v":""},{"$f":"IF($B13=\"\",\"\",INDEX(INDIRECT(\"'\"&$A$2&\"'!$A:$I\"),MATCH($B13,INDIRECT(\"'\"&$A$2&\"'!$A:$A\"),0),MATCH(D$9,'1'!Titre,0)))","v":""},{"$f":"IF($B13=\"\",\"\",INDEX(INDIRECT(\"'\"&$A$2&\"'!$A:$I\"),MATCH($B13,INDIRECT(\"'\"&$A$2&\"'!$A:$A\"),0),MATCH(E$9,'1'!Titre,0)))","v":""},{"$f":"IF($B13=\"\",\"\",INDEX(INDIRECT(\"'\"&$A$2&\"'!$A:$I\"),MATCH($B13,INDIRECT(\"'\"&$A$2&\"'!$A:$A\"),0),MATCH(F$9,'1'!Titre,0)))","v":""},{"$f":"IF($B13=\"\",\"\",INDEX(INDIRECT(\"'\"&$A$2&\"'!$A:$I\"),MATCH($B13,INDIRECT(\"'\"&$A$2&\"'!$A:$A\"),0),MATCH(G$9,'1'!Titre,0)))","v":""},{"$f":"IF($B13=\"\",\"\",INDEX(INDIRECT(\"'\"&$A$2&\"'!$A:$I\"),MATCH($B13,INDIRECT(\"'\"&$A$2&\"'!$A:$A\"),0),MATCH(H$9,'1'!Titre,0)))","v":""},{"$f":"IF($B13=\"\",\"\",IF(INDEX(INDIRECT(\"'\"&$A$2&\"'!$A:$I\"),MATCH($B13,INDIRECT(\"'\"&$A$2&\"'!$A:$A\"),0),MATCH(\"SIGNATURE\",'1'!Titre,0))=\"\",IF(COUNTIF($B$10:$B103,$B13)>1,COUNTIF($B$10:$B103,$B13),\"\"),INDEX(INDIRECT(\"'\"&$A$2&\"'!$A:$I\"),MATCH($B13,INDIRECT(\"'\"&$A$2&\"'!$A:$A\"),0),MATCH(\"SIGNATURE\",'1'!Titre,0))))","v":""}]
[5,null,{"$f":"IF($B14=\"\",\"\",INDEX(INDIRECT(\"'\"&$A$2&\"'!$A:$I\"),MATCH($B14,INDIRECT(\"'\"&$A$2&\"'!$A:$A\"),0),MATCH(C$9,'1'!Titre,0)))","v":""},{"$f":"IF($B14=\"\",\"\",INDEX(INDIRECT(\"'\"&$A$2&\"'!$A:$I\"),MATCH($B14,INDIRECT(\"'\"&$A$2&\"'!$A:$A\"),0),MATCH(D$9,'1'!Titre,0)))","v":""},{"$f":"IF($B14=\"\",\"\",INDEX(INDIRECT(\"'\"&$A$2&\"'!$A:$I\"),MATCH($B14,INDIRECT(\"'\"&$A$2&\"'!$A:$A\"),0),MATCH(E$9,'1'!Titre,0)))","v":""},{"$f":"IF($B14=\"\",\"\",INDEX(INDIRECT(\"'\"&$A$2&\"'!$A:$I\"),MATCH($B14,INDIRECT(\"'\"&$A$2&\"'!$A:$A\"),0),MATCH(F$9,'1'!Titre,0)))","v":""},{"$f":"IF($B14=\"\",\"\",INDEX(INDIRECT(\"'\"&$A$2&\"'!$A:$I\"),MATCH($B14,INDIRECT(\"'\"&$A$2&\"'!$A:$A\"),0),MATCH(G$9,'1'!Titre,0)))","v":""},{"$f":"IF($B14=\"\",\"\",INDEX(INDIRECT(\"'\"&$A$2&\"'!$A:$I\"),MATCH($B14,INDIRECT(\"'\"&$A$2&\"'!$A:$A\"),0),MATCH(H$9,'1'!Titre,0)))","v":""},{"$f":"IF($B14=\"\",\"\",IF(INDEX(INDIRECT(\"'\"&$A$2&\"'!$A:$I\"),MATCH($B14,INDIRECT(\"'\"&$A$2&\"'!$A:$A\"),0),MATCH(\"SIGNATURE\",'1'!Titre,0))=\"\",IF(COUNTIF($B$10:$B104,$B14)>1,COUNTIF($B$10:$B104,$B14),\"\"),INDEX(INDIRECT(\"'\"&$A$2&\"'!$A:$I\"),MATCH($B14,INDIRECT(\"'\"&$A$2&\"'!$A:$A\"),0),MATCH(\"SIGNATURE\",'1'!Titre,0))))","v":""}]
[6,null,{"$f":"IF($B15=\"\",\"\",INDEX(INDIRECT(\"'\"&$A$2&\"'!$A:$I\"),MATCH($B15,INDIRECT(\"'\"&$A$2&\"'!$A:$A\"),0),MATCH(C$9,'1'!Titre,0)))","v":""},{"$f":"IF($B15=\"\",\"\",INDEX(INDIRECT(\"'\"&$A$2&\"'!$A:$I\"),MATCH($B15,INDIRECT(\"'\"&$A$2&\"'!$A:$A\"),0),MATCH(D$9,'1'!Titre,0)))","v":""},{"$f":"IF($B15=\"\",\"\",INDEX(INDIRECT(\"'\"&$A$2&\"'!$A:$I\"),MATCH($B15,INDIRECT(\"'\"&$A$2&\"'!$A:$A\"),0),MATCH(E$9,'1'!Titre,0)))","v":""},{"$f":"IF($B15=\"\",\"\",INDEX(INDIRECT(\"'\"&$A$2&\"'!$A:$I\"),MATCH($B15,INDIRECT(\"'\"&$A$2&\"'!$A:$A\"),0),MATCH(F$9,'1'!Titre,0)))","v":""},{"$f":"IF($B15=\"\",\"\",INDEX(INDIRECT(\"'\"&$A$2&\"'!$A:$I\"),MATCH($B15,INDIRECT(\"'\"&$A$2&\"'!$A:$A\"),0),MATCH(G$9,'1'!Titre,0)))","v":""},{"$f":"IF($B15=\"\",\"\",INDEX(INDIRECT(\"'\"&$A$2&\"'!$A:$I\"),MATCH($B15,INDIRECT(\"'\"&$A$2&\"'!$A:$A\"),0),MATCH(H$9,'1'!Titre,0)))","v":""},{"$f":"IF($B15=\"\",\"\",IF(INDEX(INDIRECT(\"'\"&$A$2&\"'!$A:$I\"),MATCH($B15,INDIRECT(\"'\"&$A$2&\"'!$A:$A\"),0),MATCH(\"SIGNATURE\",'1'!Titre,0))=\"\",IF(COUNTIF($B$10:$B105,$B15)>1,COUNTIF($B$10:$B105,$B15),\"\"),INDEX(INDIRECT(\"'\"&$A$2&\"'!$A:$I\"),MATCH($B15,INDIRECT(\"'\"&$A$2&\"'!$A:$A\"),0),MATCH(\"SIGNATURE\",'1'!Titre,0))))","v":""}]
[7,null,{"$f":"IF($B16=\"\",\"\",INDEX(INDIRECT(\"'\"&$A$2&\"'!$A:$I\"),MATCH($B16,INDIRECT(\"'\"&$A$2&\"'!$A:$A\"),0),MATCH(C$9,'1'!Titre,0)))","v":""},{"$f":"IF($B16=\"\",\"\",INDEX(INDIRECT(\"'\"&$A$2&\"'!$A:$I\"),MATCH($B16,INDIRECT(\"'\"&$A$2&\"'!$A:$A\"),0),MATCH(D$9,'1'!Titre,0)))","v":""},{"$f":"IF($B16=\"\",\"\",INDEX(INDIRECT(\"'\"&$A$2&\"'!$A:$I\"),MATCH($B16,INDIRECT(\"'\"&$A$2&\"'!$A:$A\"),0),MATCH(E$9,'1'!Titre,0)))","v":""},{"$f":"IF($B16=\"\",\"\",INDEX(INDIRECT(\"'\"&$A$2&\"'!$A:$I\"),MATCH($B16,INDIRECT(\"'\"&$A$2&\"'!$A:$A\"),0),MATCH(F$9,'1'!Titre,0)))","v":""},{"$f":"IF($B16=\"\",\"\",INDEX(INDIRECT(\"'\"&$A$2&\"'!$A:$I\"),MATCH($B16,INDIRECT(\"'\"&$A$2&\"'!$A:$A\"),0),MATCH(G$9,'1'!Titre,0)))","v":""},{"$f":"IF($B16=\"\",\"\",INDEX(INDIRECT(\"'\"&$A$2&\"'!$A:$I\"),MATCH($B16,INDIRECT(\"'\"&$A$2&\"'!$A:$A\"),0),MATCH(H$9,'1'!Titre,0)))","v":""},{"$f":"IF($B16=\"\",\"\",IF(INDEX(INDIRECT(\"'\"&$A$2&\"'!$A:$I\"),MATCH($B16,INDIRECT(\"'\"&$A$2&\"'!$A:$A\"),0),MATCH(\"SIGNATURE\",'1'!Titre,0))=\"\",IF(COUNTIF($B$10:$B106,$B16)>1,COUNTIF($B$10:$B106,$B16),\"\"),INDEX(INDIRECT(\"'\"&$A$2&\"'!$A:$I\"),MATCH($B16,INDIRECT(\"'\"&$A$2&\"'!$A:$A\"),0),MATCH(\"SIGNATURE\",'1'!Titre,0))))","v":""}]
[8,null,{"$f":"IF($B17=\"\",\"\",INDEX(INDIRECT(\"'\"&$A$2&\"'!$A:$I\"),MATCH($B17,INDIRECT(\"'\"&$A$2&\"'!$A:$A\"),0),MATCH(C$9,'1'!Titre,0)))","v":""},{"$f":"IF($B17=\"\",\"\",INDEX(INDIRECT(\"'\"&$A$2&\"'!$A:$I\"),MATCH($B17,INDIRECT(\"'\"&$A$2&\"'!$A:$A\"),0),MATCH(D$9,'1'!Titre,0)))","v":""},{"$f":"IF($B17=\"\",\"\",INDEX(INDIRECT(\"'\"&$A$2&\"'!$A:$I\"),MATCH($B17,INDIRECT(\"'\"&$A$2&\"'!$A:$A\"),0),MATCH(E$9,'1'!Titre,0)))","v":""},{"$f":"IF($B17=\"\",\"\",INDEX(INDIRECT(\"'\"&$A$2&\"'!$A:$I\"),MATCH($B17,INDIRECT(\"'\"&$A$2&\"'!$A:$A\"),0),MATCH(F$9,'1'!Titre,0)))","v":""},{"$f":"IF($B17=\"\",\"\",INDEX(INDIRECT(\"'\"&$A$2&\"'!$A:$I\"),MATCH($B17,INDIRECT(\"'\"&$A$2&\"'!$A:$A\"),0),MATCH(G$9,'1'!Titre,0)))","v":""},{"$f":"IF($B17=\"\",\"\",INDEX(INDIRECT(\"'\"&$A$2&\"'!$A:$I\"),MATCH($B17,INDIRECT(\"'\"&$A$2&\"'!$A:$A\"),0),MATCH(H$9,'1'!Titre,0)))","v":""},{"$f":"IF($B17=\"\",\"\",IF(INDEX(INDIRECT(\"'\"&$A$2&\"'!$A:$I\"),MATCH($B17,INDIRECT(\"'\"&$A$2&\"'!$A:$A\"),0),MATCH(\"SIGNATURE\",'1'!Titre,0))=\"\",IF(COUNTIF($B$10:$B107,$B17)>1,COUNTIF($B$10:$B107,$B17),\"\"),INDEX(INDIRECT(\"'\"&$A$2&\"'!$A:$I\"),MATCH($B17,INDIRECT(\"'\"&$A$2&\"'!$A:$A\"),0),MATCH(\"SIGNATURE\",'1'!Titre,0))))","v":""}]
[9,null,{"$f":"IF($B18=\"\",\"\",INDEX(INDIRECT(\"'\"&$A$2&\"'!$A:$I\"),MATCH($B18,INDIRECT(\"'\"&$A$2&\"'!$A:$A\"),0),MATCH(C$9,'1'!Titre,0)))","v":""},{"$f":"IF($B18=\"\",\"\",INDEX(INDIRECT(\"'\"&$A$2&\"'!$A:$I\"),MATCH($B18,INDIRECT(\"'\"&$A$2&\"'!$A:$A\"),0),MATCH(D$9,'1'!Titre,0)))","v":""},{"$f":"IF($B18=\"\",\"\",INDEX(INDIRECT(\"'\"&$A$2&\"'!$A:$I\"),MATCH($B18,INDIRECT(\"'\"&$A$2&\"'!$A:$A\"),0),MATCH(E$9,'1'!Titre,0)))","v":""},{"$f":"IF($B18=\"\",\"\",INDEX(INDIRECT(\"'\"&$A$2&\"'!$A:$I\"),MATCH($B18,INDIRECT(\"'\"&$A$2&\"'!$A:$A\"),0),MATCH(F$9,'1'!Titre,0)))","v":""},{"$f":"IF($B18=\"\",\"\",INDEX(INDIRECT(\"'\"&$A$2&\"'!$A:$I\"),MATCH($B18,INDIRECT(\"'\"&$A$2&\"'!$A:$A\"),0),MATCH(G$9,'1'!Titre,0)))","v":""},{"$f":"IF($B18=\"\",\"\",INDEX(INDIRECT(\"'\"&$A$2&\"'!$A:$I\"),MATCH($B18,INDIRECT(\"'\"&$A$2&\"'!$A:$A\"),0),MATCH(H$9,'1'!Titre,0)))","v":""},{"$f":"IF($B18=\"\",\"\",IF(INDEX(INDIRECT(\"'\"&$A$2&\"'!$A:$I\"),MATCH($B18,INDIRECT(\"'\"&$A$2&\"'!$A:$A\"),0),MATCH(\"SIGNATURE\",'1'!Titre,0))=\"\",IF(COUNTIF($B$10:$B108,$B18)>1,COUNTIF($B$10:$B108,$B18),\"\"),INDEX(INDIRECT(\"'\"&$A$2&\"'!$A:$I\"),MATCH($B18,INDIRECT(\"'\"&$A$2&\"'!$A:$A\"),0),MATCH(\"SIGNATURE\",'1'!Titre,0))))","v":""}]
[10,null,{"$f":"IF($B19=\"\",\"\",INDEX(INDIRECT(\"'\"&$A$2&\"'!$A:$I\"),MATCH($B19,INDIRECT(\"'\"&$A$2&\"'!$A:$A\"),0),MATCH(C$9,'1'!Titre,0)))","v":""},{"$f":"IF($B19=\"\",\"\",INDEX(INDIRECT(\"'\"&$A$2&\"'!$A:$I\"),MATCH($B19,INDIRECT(\"'\"&$A$2&\"'!$A:$A\"),0),MATCH(D$9,'1'!Titre,0)))","v":""},{"$f":"IF($B19=\"\",\"\",INDEX(INDIRECT(\"'\"&$A$2&\"'!$A:$I\"),MATCH($B19,INDIRECT(\"'\"&$A$2&\"'!$A:$A\"),0),MATCH(E$9,'1'!Titre,0)))","v":""},{"$f":"IF($B19=\"\",\"\",INDEX(INDIRECT(\"'\"&$A$2&\"'!$A:$I\"),MATCH($B19,INDIRECT(\"'\"&$A$2&\"'!$A:$A\"),0),MATCH(F$9,'1'!Titre,0)))","v":""},{"$f":"IF($B19=\"\",\"\",INDEX(INDIRECT(\"'\"&$A$2&\"'!$A:$I\"),MATCH($B19,INDIRECT(\"'\"&$A$2&\"'!$A:$A\"),0),MATCH(G$9,'1'!Titre,0)))","v":""},{"$f":"IF($B19=\"\",\"\",INDEX(INDIRECT(\"'\"&$A$2&\"'!$A:$I\"),MATCH($B19,INDIRECT(\"'\"&$A$2&\"'!$A:$A\"),0),MATCH(H$9,'1'!Titre,0)))","v":""},{"$f":"IF($B19=\"\",\"\",IF(INDEX(INDIRECT(\"'\"&$A$2&\"'!$A:$I\"),MATCH($B19,INDIRECT(\"'\"&$A$2&\"'!$A:$A\"),0),MATCH(\"SIGNATURE\",'1'!Titre,0))=\"\",IF(COUNTIF($B$10:$B109,$B19)>1,COUNTIF($B$10:$B109,$B19),\"\"),INDEX(INDIRECT(\"'\"&$A$2&\"'!$A:$I\"),MATCH($B19,INDIRECT(\"'\"&$A$2&\"'!$A:$A\"),0),MATCH(\"SIGNATURE\",'1'!Titre,0))))","v":""}]
[11,null,{"$f":"IF($B20=\"\",\"\",INDEX(INDIRECT(\"'\"&$A$2&\"'!$A:$I\"),MATCH($B20,INDIRECT(\"'\"&$A$2&\"'!$A:$A\"),0),MATCH(C$9,'1'!Titre,0)))","v":""},{"$f":"IF($B20=\"\",\"\",INDEX(INDIRECT(\"'\"&$A$2&\"'!$A:$I\"),MATCH($B20,INDIRECT(\"'\"&$A$2&\"'!$A:$A\"),0),MATCH(D$9,'1'!Titre,0)))","v":""},{"$f":"IF($B20=\"\",\"\",INDEX(INDIRECT(\"'\"&$A$2&\"'!$A:$I\"),MATCH($B20,INDIRECT(\"'\"&$A$2&\"'!$A:$A\"),0),MATCH(E$9,'1'!Titre,0)))","v":""},{"$f":"IF($B20=\"\",\"\",INDEX(INDIRECT(\"'\"&$A$2&\"'!$A:$I\"),MATCH($B20,INDIRECT(\"'\"&$A$2&\"'!$A:$A\"),0),MATCH(F$9,'1'!Titre,0)))","v":""},{"$f":"IF($B20=\"\",\"\",INDEX(INDIRECT(\"'\"&$A$2&\"'!$A:$I\"),MATCH($B20,INDIRECT(\"'\"&$A$2&\"'!$A:$A\"),0),MATCH(G$9,'1'!Titre,0)))","v":""},{"$f":"IF($B20=\"\",\"\",INDEX(INDIRECT(\"'\"&$A$2&\"'!$A:$I\"),MATCH($B20,INDIRECT(\"'\"&$A$2&\"'!$A:$A\"),0),MATCH(H$9,'1'!Titre,0)))","v":""},{"$f":"IF($B20=\"\",\"\",IF(INDEX(INDIRECT(\"'\"&$A$2&\"'!$A:$I\"),MATCH($B20,INDIRECT(\"'\"&$A$2&\"'!$A:$A\"),0),MATCH(\"SIGNATURE\",'1'!Titre,0))=\"\",IF(COUNTIF($B$10:$B110,$B20)>1,COUNTIF($B$10:$B110,$B20),\"\"),INDEX(INDIRECT(\"'\"&$A$2&\"'!$A:$I\"),MATCH($B20,INDIRECT(\"'\"&$A$2&\"'!$A:$A\"),0),MATCH(\"SIGNATURE\",'1'!Titre,0))))","v":""}]
[12,null,{"$f":"IF($B21=\"\",\"\",INDEX(INDIRECT(\"'\"&$A$2&\"'!$A:$I\"),MATCH($B21,INDIRECT(\"'\"&$A$2&\"'!$A:$A\"),0),MATCH(C$9,'1'!Titre,0)))","v":""},{"$f":"IF($B21=\"\",\"\",INDEX(INDIRECT(\"'\"&$A$2&\"'!$A:$I\"),MATCH($B21,INDIRECT(\"'\"&$A$2&\"'!$A:$A\"),0),MATCH(D$9,'1'!Titre,0)))","v":""},{"$f":"IF($B21=\"\",\"\",INDEX(INDIRECT(\"'\"&$A$2&\"'!$A:$I\"),MATCH($B21,INDIRECT(\"'\"&$A$2&\"'!$A:$A\"),0),MATCH(E$9,'1'!Titre,0)))","v":""},{"$f":"IF($B21=\"\",\"\",INDEX(INDIRECT(\"'\"&$A$2&\"'!$A:$I\"),MATCH($B21,INDIRECT(\"'\"&$A$2&\"'!$A:$A\"),0),MATCH(F$9,'1'!Titre,0)))","v":""},{"$f":"IF($B21=\"\",\"\",INDEX(INDIRECT(\"'\"&$A$2&\"'!$A:$I\"),MATCH($B21,INDIRECT(\"'\"&$A$2&\"'!$A:$A\"),0),MATCH(G$9,'1'!Titre,0)))","v":""},{"$f":"IF($B21=\"\",\"\",INDEX(INDIRECT(\"'\"&$A$2&\"'!$A:$I\"),MATCH($B21,INDIRECT(\"'\"&$A$2&\"'!$A:$A\"),0),MATCH(H$9,'1'!Titre,0)))","v":""},{"$f":"IF($B21=\"\",\"\",IF(INDEX(INDIRECT(\"'\"&$A$2&\"'!$A:$I\"),MATCH($B21,INDIRECT(\"'\"&$A$2&\"'!$A:$A\"),0),MATCH(\"SIGNATURE\",'1'!Titre,0))=\"\",IF(COUNTIF($B$10:$B111,$B21)>1,COUNTIF($B$10:$B111,$B21),\"\"),INDEX(INDIRECT(\"'\"&$A$2&\"'!$A:$I\"),MATCH($B21,INDIRECT(\"'\"&$A$2&\"'!$A:$A\"),0),MATCH(\"SIGNATURE\",'1'!Titre,0))))","v":""}]
[13,null,{"$f":"IF($B22=\"\",\"\",INDEX(INDIRECT(\"'\"&$A$2&\"'!$A:$I\"),MATCH($B22,INDIRECT(\"'\"&$A$2&\"'!$A:$A\"),0),MATCH(C$9,'1'!Titre,0)))","v":""},{"$f":"IF($B22=\"\",\"\",INDEX(INDIRECT(\"'\"&$A$2&\"'!$A:$I\"),MATCH($B22,INDIRECT(\"'\"&$A$2&\"'!$A:$A\"),0),MATCH(D$9,'1'!Titre,0)))","v":""},{"$f":"IF($B22=\"\",\"\",INDEX(INDIRECT(\"'\"&$A$2&\"'!$A:$I\"),MATCH($B22,INDIRECT(\"'\"&$A$2&\"'!$A:$A\"),0),MATCH(E$9,'1'!Titre,0)))","v":""},{"$f":"IF($B22=\"\",\"\",INDEX(INDIRECT(\"'\"&$A$2&\"'!$A:$I\"),MATCH($B22,INDIRECT(\"'\"&$A$2&\"'!$A:$A\"),0),MATCH(F$9,'1'!Titre,0)))","v":""},{"$f":"IF($B22=\"\",\"\",INDEX(INDIRECT(\"'\"&$A$2&\"'!$A:$I\"),MATCH($B22,INDIRECT(\"'\"&$A$2&\"'!$A:$A\"),0),MATCH(G$9,'1'!Titre,0)))","v":""},{"$f":"IF($B22=\"\",\"\",INDEX(INDIRECT(\"'\"&$A$2&\"'!$A:$I\"),MATCH($B22,INDIRECT(\"'\"&$A$2&\"'!$A:$A\"),0),MATCH(H$9,'1'!Titre,0)))","v":""},{"$f":"IF($B22=\"\",\"\",IF(INDEX(INDIRECT(\"'\"&$A$2&\"'!$A:$I\"),MATCH($B22,INDIRECT(\"'\"&$A$2&\"'!$A:$A\"),0),MATCH(\"SIGNATURE\",'1'!Titre,0))=\"\",IF(COUNTIF($B$10:$B112,$B22)>1,COUNTIF($B$10:$B112,$B22),\"\"),INDEX(INDIRECT(\"'\"&$A$2&\"'!$A:$I\"),MATCH($B22,INDIRECT(\"'\"&$A$2&\"'!$A:$A\"),0),MATCH(\"SIGNATURE\",'1'!Titre,0))))","v":""}]
[14,null,{"$f":"IF($B23=\"\",\"\",INDEX(INDIRECT(\"'\"&$A$2&\"'!$A:$I\"),MATCH($B23,INDIRECT(\"'\"&$A$2&\"'!$A:$A\"),0),MATCH(C$9,'1'!Titre,0)))","v":""},{"$f":"IF($B23=\"\",\"\",INDEX(INDIRECT(\"'\"&$A$2&\"'!$A:$I\"),MATCH($B23,INDIRECT(\"'\"&$A$2&\"'!$A:$A\"),0),MATCH(D$9,'1'!Titre,0)))","v":""},{"$f":"IF($B23=\"\",\"\",INDEX(INDIRECT(\"'\"&$A$2&\"'!$A:$I\"),MATCH($B23,INDIRECT(\"'\"&$A$2&\"'!$A:$A\"),0),MATCH(E$9,'1'!Titre,0)))","v":""},{"$f":"IF($B23=\"\",\"\",INDEX(INDIRECT(\"'\"&$A$2&\"'!$A:$I\"),MATCH($B23,INDIRECT(\"'\"&$A$2&\"'!$A:$A\"),0),MATCH(F$9,'1'!Titre,0)))","v":""},{"$f":"IF($B23=\"\",\"\",INDEX(INDIRECT(\"'\"&$A$2&\"'!$A:$I\"),MATCH($B23,INDIRECT(\"'\"&$A$2&\"'!$A:$A\"),0),MATCH(G$9,'1'!Titre,0)))","v":""},{"$f":"IF($B23=\"\",\"\",INDEX(INDIRECT(\"'\"&$A$2&\"'!$A:$I\"),MATCH($B23,INDIRECT(\"'\"&$A$2&\"'!$A:$A\"),0),MATCH(H$9,'1'!Titre,0)))","v":""},{"$f":"IF($B23=\"\",\"\",IF(INDEX(INDIRECT(\"'\"&$A$2&\"'!$A:$I\"),MATCH($B23,INDIRECT(\"'\"&$A$2&\"'!$A:$A\"),0),MATCH(\"SIGNATURE\",'1'!Titre,0))=\"\",IF(COUNTIF($B$10:$B113,$B23)>1,COUNTIF($B$10:$B113,$B23),\"\"),INDEX(INDIRECT(\"'\"&$A$2&\"'!$A:$I\"),MATCH($B23,INDIRECT(\"'\"&$A$2&\"'!$A:$A\"),0),MATCH(\"SIGNATURE\",'1'!Titre,0))))","v":""}]
[15,null,{"$f":"IF($B24=\"\",\"\",INDEX(INDIRECT(\"'\"&$A$2&\"'!$A:$I\"),MATCH($B24,INDIRECT(\"'\"&$A$2&\"'!$A:$A\"),0),MATCH(C$9,'1'!Titre,0)))","v":""},{"$f":"IF($B24=\"\",\"\",INDEX(INDIRECT(\"'\"&$A$2&\"'!$A:$I\"),MATCH($B24,INDIRECT(\"'\"&$A$2&\"'!$A:$A\"),0),MATCH(D$9,'1'!Titre,0)))","v":""},{"$f":"IF($B24=\"\",\"\",INDEX(INDIRECT(\"'\"&$A$2&\"'!$A:$I\"),MATCH($B24,INDIRECT(\"'\"&$A$2&\"'!$A:$A\"),0),MATCH(E$9,'1'!Titre,0)))","v":""},{"$f":"IF($B24=\"\",\"\",INDEX(INDIRECT(\"'\"&$A$2&\"'!$A:$I\"),MATCH($B24,INDIRECT(\"'\"&$A$2&\"'!$A:$A\"),0),MATCH(F$9,'1'!Titre,0)))","v":""},{"$f":"IF($B24=\"\",\"\",INDEX(INDIRECT(\"'\"&$A$2&\"'!$A:$I\"),MATCH($B24,INDIRECT(\"'\"&$A$2&\"'!$A:$A\"),0),MATCH(G$9,'1'!Titre,0)))","v":""},{"$f":"IF($B24=\"\",\"\",INDEX(INDIRECT(\"'\"&$A$2&\"'!$A:$I\"),MATCH($B24,INDIRECT(\"'\"&$A$2&\"'!$A:$A\"),0),MATCH(H$9,'1'!Titre,0)))","v":""},{"$f":"IF($B24=\"\",\"\",IF(INDEX(INDIRECT(\"'\"&$A$2&\"'!$A:$I\"),MATCH($B24,INDIRECT(\"'\"&$A$2&\"'!$A:$A\"),0),MATCH(\"SIGNATURE\",'1'!Titre,0))=\"\",IF(COUNTIF($B$10:$B114,$B24)>1,COUNTIF($B$10:$B114,$B24),\"\"),INDEX(INDIRECT(\"'\"&$A$2&\"'!$A:$I\"),MATCH($B24,INDIRECT(\"'\"&$A$2&\"'!$A:$A\"),0),MATCH(\"SIGNATURE\",'1'!Titre,0))))","v":""}]
[16,null,{"$f":"IF($B25=\"\",\"\",INDEX(INDIRECT(\"'\"&$A$2&\"'!$A:$I\"),MATCH($B25,INDIRECT(\"'\"&$A$2&\"'!$A:$A\"),0),MATCH(C$9,'1'!Titre,0)))","v":""},{"$f":"IF($B25=\"\",\"\",INDEX(INDIRECT(\"'\"&$A$2&\"'!$A:$I\"),MATCH($B25,INDIRECT(\"'\"&$A$2&\"'!$A:$A\"),0),MATCH(D$9,'1'!Titre,0)))","v":""},{"$f":"IF($B25=\"\",\"\",INDEX(INDIRECT(\"'\"&$A$2&\"'!$A:$I\"),MATCH($B25,INDIRECT(\"'\"&$A$2&\"'!$A:$A\"),0),MATCH(E$9,'1'!Titre,0)))","v":""},{"$f":"IF($B25=\"\",\"\",INDEX(INDIRECT(\"'\"&$A$2&\"'!$A:$I\"),MATCH($B25,INDIRECT(\"'\"&$A$2&\"'!$A:$A\"),0),MATCH(F$9,'1'!Titre,0)))","v":""},{"$f":"IF($B25=\"\",\"\",INDEX(INDIRECT(\"'\"&$A$2&\"'!$A:$I\"),MATCH($B25,INDIRECT(\"'\"&$A$2&\"'!$A:$A\"),0),MATCH(G$9,'1'!Titre,0)))","v":""},{"$f":"IF($B25=\"\",\"\",INDEX(INDIRECT(\"'\"&$A$2&\"'!$A:$I\"),MATCH($B25,INDIRECT(\"'\"&$A$2&\"'!$A:$A\"),0),MATCH(H$9,'1'!Titre,0)))","v":""},{"$f":"IF($B25=\"\",\"\",IF(INDEX(INDIRECT(\"'\"&$A$2&\"'!$A:$I\"),MATCH($B25,INDIRECT(\"'\"&$A$2&\"'!$A:$A\"),0),MATCH(\"SIGNATURE\",'1'!Titre,0))=\"\",IF(COUNTIF($B$10:$B115,$B25)>1,COUNTIF($B$10:$B115,$B25),\"\"),INDEX(INDIRECT(\"'\"&$A$2&\"'!$A:$I\"),MATCH($B25,INDIRECT(\"'\"&$A$2&\"'!$A:$A\"),0),MATCH(\"SIGNATURE\",'1'!Titre,0))))","v":""}]
[17,null,{"$f":"IF($B26=\"\",\"\",INDEX(INDIRECT(\"'\"&$A$2&\"'!$A:$I\"),MATCH($B26,INDIRECT(\"'\"&$A$2&\"'!$A:$A\"),0),MATCH(C$9,'1'!Titre,0)))","v":""},{"$f":"IF($B26=\"\",\"\",INDEX(INDIRECT(\"'\"&$A$2&\"'!$A:$I\"),MATCH($B26,INDIRECT(\"'\"&$A$2&\"'!$A:$A\"),0),MATCH(D$9,'1'!Titre,0)))","v":""},{"$f":"IF($B26=\"\",\"\",INDEX(INDIRECT(\"'\"&$A$2&\"'!$A:$I\"),MATCH($B26,INDIRECT(\"'\"&$A$2&\"'!$A:$A\"),0),MATCH(E$9,'1'!Titre,0)))","v":""},{"$f":"IF($B26=\"\",\"\",INDEX(INDIRECT(\"'\"&$A$2&\"'!$A:$I\"),MATCH($B26,INDIRECT(\"'\"&$A$2&\"'!$A:$A\"),0),MATCH(F$9,'1'!Titre,0)))","v":""},{"$f":"IF($B26=\"\",\"\",INDEX(INDIRECT(\"'\"&$A$2&\"'!$A:$I\"),MATCH($B26,INDIRECT(\"'\"&$A$2&\"'!$A:$A\"),0),MATCH(G$9,'1'!Titre,0)))","v":""},{"$f":"IF($B26=\"\",\"\",INDEX(INDIRECT(\"'\"&$A$2&\"'!$A:$I\"),MATCH($B26,INDIRECT(\"'\"&$A$2&\"'!$A:$A\"),0),MATCH(H$9,'1'!Titre,0)))","v":""},{"$f":"IF($B26=\"\",\"\",IF(INDEX(INDIRECT(\"'\"&$A$2&\"'!$A:$I\"),MATCH($B26,INDIRECT(\"'\"&$A$2&\"'!$A:$A\"),0),MATCH(\"SIGNATURE\",'1'!Titre,0))=\"\",IF(COUNTIF($B$10:$B116,$B26)>1,COUNTIF($B$10:$B116,$B26),\"\"),INDEX(INDIRECT(\"'\"&$A$2&\"'!$A:$I\"),MATCH($B26,INDIRECT(\"'\"&$A$2&\"'!$A:$A\"),0),MATCH(\"SIGNATURE\",'1'!Titre,0))))","v":""}]
[18,null,{"$f":"IF($B27=\"\",\"\",INDEX(INDIRECT(\"'\"&$A$2&\"'!$A:$I\"),MATCH($B27,INDIRECT(\"'\"&$A$2&\"'!$A:$A\"),0),MATCH(C$9,'1'!Titre,0)))","v":""},{"$f":"IF($B27=\"\",\"\",INDEX(INDIRECT(\"'\"&$A$2&\"'!$A:$I\"),MATCH($B27,INDIRECT(\"'\"&$A$2&\"'!$A:$A\"),0),MATCH(D$9,'1'!Titre,0)))","v":""},{"$f":"IF($B27=\"\",\"\",INDEX(INDIRECT(\"'\"&$A$2&\"'!$A:$I\"),MATCH($B27,INDIRECT(\"'\"&$A$2&\"'!$A:$A\"),0),MATCH(E$9,'1'!Titre,0)))","v":""},{"$f":"IF($B27=\"\",\"\",INDEX(INDIRECT(\"'\"&$A$2&\"'!$A:$I\"),MATCH($B27,INDIRECT(\"'\"&$A$2&\"'!$A:$A\"),0),MATCH(F$9,'1'!Titre,0)))","v":""},{"$f":"IF($B27=\"\",\"\",INDEX(INDIRECT(\"'\"&$A$2&\"'!$A:$I\"),MATCH($B27,INDIRECT(\"'\"&$A$2&\"'!$A:$A\"),0),MATCH(G$9,'1'!Titre,0)))","v":""},{"$f":"IF($B27=\"\",\"\",INDEX(INDIRECT(\"'\"&$A$2&\"'!$A:$I\"),MATCH($B27,INDIRECT(\"'\"&$A$2&\"'!$A:$A\"),0),MATCH(H$9,'1'!Titre,0)))","v":""},{"$f":"IF($B27=\"\",\"\",IF(INDEX(INDIRECT(\"'\"&$A$2&\"'!$A:$I\"),MATCH($B27,INDIRECT(\"'\"&$A$2&\"'!$A:$A\"),0),MATCH(\"SIGNATURE\",'1'!Titre,0))=\"\",IF(COUNTIF($B$10:$B117,$B27)>1,COUNTIF($B$10:$B117,$B27),\"\"),INDEX(INDIRECT(\"'\"&$A$2&\"'!$A:$I\"),MATCH($B27,INDIRECT(\"'\"&$A$2&\"'!$A:$A\"),0),MATCH(\"SIGNATURE\",'1'!Titre,0))))","v":""}]
[19,null,{"$f":"IF($B28=\"\",\"\",INDEX(INDIRECT(\"'\"&$A$2&\"'!$A:$I\"),MATCH($B28,INDIRECT(\"'\"&$A$2&\"'!$A:$A\"),0),MATCH(C$9,'1'!Titre,0)))","v":""},{"$f":"IF($B28=\"\",\"\",INDEX(INDIRECT(\"'\"&$A$2&\"'!$A:$I\"),MATCH($B28,INDIRECT(\"'\"&$A$2&\"'!$A:$A\"),0),MATCH(D$9,'1'!Titre,0)))","v":""},{"$f":"IF($B28=\"\",\"\",INDEX(INDIRECT(\"'\"&$A$2&\"'!$A:$I\"),MATCH($B28,INDIRECT(\"'\"&$A$2&\"'!$A:$A\"),0),MATCH(E$9,'1'!Titre,0)))","v":""},{"$f":"IF($B28=\"\",\"\",INDEX(INDIRECT(\"'\"&$A$2&\"'!$A:$I\"),MATCH($B28,INDIRECT(\"'\"&$A$2&\"'!$A:$A\"),0),MATCH(F$9,'1'!Titre,0)))","v":""},{"$f":"IF($B28=\"\",\"\",INDEX(INDIRECT(\"'\"&$A$2&\"'!$A:$I\"),MATCH($B28,INDIRECT(\"'\"&$A$2&\"'!$A:$A\"),0),MATCH(G$9,'1'!Titre,0)))","v":""},{"$f":"IF($B28=\"\",\"\",INDEX(INDIRECT(\"'\"&$A$2&\"'!$A:$I\"),MATCH($B28,INDIRECT(\"'\"&$A$2&\"'!$A:$A\"),0),MATCH(H$9,'1'!Titre,0)))","v":""},{"$f":"IF($B28=\"\",\"\",IF(INDEX(INDIRECT(\"'\"&$A$2&\"'!$A:$I\"),MATCH($B28,INDIRECT(\"'\"&$A$2&\"'!$A:$A\"),0),MATCH(\"SIGNATURE\",'1'!Titre,0))=\"\",IF(COUNTIF($B$10:$B118,$B28)>1,COUNTIF($B$10:$B118,$B28),\"\"),INDEX(INDIRECT(\"'\"&$A$2&\"'!$A:$I\"),MATCH($B28,INDIRECT(\"'\"&$A$2&\"'!$A:$A\"),0),MATCH(\"SIGNATURE\",'1'!Titre,0))))","v":""}]
[20,null,{"$f":"IF($B29=\"\",\"\",INDEX(INDIRECT(\"'\"&$A$2&\"'!$A:$I\"),MATCH($B29,INDIRECT(\"'\"&$A$2&\"'!$A:$A\"),0),MATCH(C$9,'1'!Titre,0)))","v":""},{"$f":"IF($B29=\"\",\"\",INDEX(INDIRECT(\"'\"&$A$2&\"'!$A:$I\"),MATCH($B29,INDIRECT(\"'\"&$A$2&\"'!$A:$A\"),0),MATCH(D$9,'1'!Titre,0)))","v":""},{"$f":"IF($B29=\"\",\"\",INDEX(INDIRECT(\"'\"&$A$2&\"'!$A:$I\"),MATCH($B29,INDIRECT(\"'\"&$A$2&\"'!$A:$A\"),0),MATCH(E$9,'1'!Titre,0)))","v":""},{"$f":"IF($B29=\"\",\"\",INDEX(INDIRECT(\"'\"&$A$2&\"'!$A:$I\"),MATCH($B29,INDIRECT(\"'\"&$A$2&\"'!$A:$A\"),0),MATCH(F$9,'1'!Titre,0)))","v":""},{"$f":"IF($B29=\"\",\"\",INDEX(INDIRECT(\"'\"&$A$2&\"'!$A:$I\"),MATCH($B29,INDIRECT(\"'\"&$A$2&\"'!$A:$A\"),0),MATCH(G$9,'1'!Titre,0)))","v":""},{"$f":"IF($B29=\"\",\"\",INDEX(INDIRECT(\"'\"&$A$2&\"'!$A:$I\"),MATCH($B29,INDIRECT(\"'\"&$A$2&\"'!$A:$A\"),0),MATCH(H$9,'1'!Titre,0)))","v":""},{"$f":"IF($B29=\"\",\"\",IF(INDEX(INDIRECT(\"'\"&$A$2&\"'!$A:$I\"),MATCH($B29,INDIRECT(\"'\"&$A$2&\"'!$A:$A\"),0),MATCH(\"SIGNATURE\",'1'!Titre,0))=\"\",IF(COUNTIF($B$10:$B119,$B29)>1,COUNTIF($B$10:$B119,$B29),\"\"),INDEX(INDIRECT(\"'\"&$A$2&\"'!$A:$I\"),MATCH($B29,INDIRECT(\"'\"&$A$2&\"'!$A:$A\"),0),MATCH(\"SIGNATURE\",'1'!Titre,0))))","v":""}]
[21,null,{"$f":"IF($B30=\"\",\"\",INDEX(INDIRECT(\"'\"&$A$2&\"'!$A:$I\"),MATCH($B30,INDIRECT(\"'\"&$A$2&\"'!$A:$A\"),0),MATCH(C$9,'1'!Titre,0)))","v":""},{"$f":"IF($B30=\"\",\"\",INDEX(INDIRECT(\"'\"&$A$2&\"'!$A:$I\"),MATCH($B30,INDIRECT(\"'\"&$A$2&\"'!$A:$A\"),0),MATCH(D$9,'1'!Titre,0)))","v":""},{"$f":"IF($B30=\"\",\"\",INDEX(INDIRECT(\"'\"&$A$2&\"'!$A:$I\"),MATCH($B30,INDIRECT(\"'\"&$A$2&\"'!$A:$A\"),0),MATCH(E$9,'1'!Titre,0)))","v":""},{"$f":"IF($B30=\"\",\"\",INDEX(INDIRECT(\"'\"&$A$2&\"'!$A:$I\"),MATCH($B30,INDIRECT(\"'\"&$A$2&\"'!$A:$A\"),0),MATCH(F$9,'1'!Titre,0)))","v":""},{"$f":"IF($B30=\"\",\"\",INDEX(INDIRECT(\"'\"&$A$2&\"'!$A:$I\"),MATCH($B30,INDIRECT(\"'\"&$A$2&\"'!$A:$A\"),0),MATCH(G$9,'1'!Titre,0)))","v":""},{"$f":"IF($B30=\"\",\"\",INDEX(INDIRECT(\"'\"&$A$2&\"'!$A:$I\"),MATCH($B30,INDIRECT(\"'\"&$A$2&\"'!$A:$A\"),0),MATCH(H$9,'1'!Titre,0)))","v":""},{"$f":"IF($B30=\"\",\"\",IF(INDEX(INDIRECT(\"'\"&$A$2&\"'!$A:$I\"),MATCH($B30,INDIRECT(\"'\"&$A$2&\"'!$A:$A\"),0),MATCH(\"SIGNATURE\",'1'!Titre,0))=\"\",IF(COUNTIF($B$10:$B120,$B30)>1,COUNTIF($B$10:$B120,$B30),\"\"),INDEX(INDIRECT(\"'\"&$A$2&\"'!$A:$I\"),MATCH($B30,INDIRECT(\"'\"&$A$2&\"'!$A:$A\"),0),MATCH(\"SIGNATURE\",'1'!Titre,0))))","v":""}]
[22,null,{"$f":"IF($B31=\"\",\"\",INDEX(INDIRECT(\"'\"&$A$2&\"'!$A:$I\"),MATCH($B31,INDIRECT(\"'\"&$A$2&\"'!$A:$A\"),0),MATCH(C$9,'1'!Titre,0)))","v":""},{"$f":"IF($B31=\"\",\"\",INDEX(INDIRECT(\"'\"&$A$2&\"'!$A:$I\"),MATCH($B31,INDIRECT(\"'\"&$A$2&\"'!$A:$A\"),0),MATCH(D$9,'1'!Titre,0)))","v":""},{"$f":"IF($B31=\"\",\"\",INDEX(INDIRECT(\"'\"&$A$2&\"'!$A:$I\"),MATCH($B31,INDIRECT(\"'\"&$A$2&\"'!$A:$A\"),0),MATCH(E$9,'1'!Titre,0)))","v":""},{"$f":"IF($B31=\"\",\"\",INDEX(INDIRECT(\"'\"&$A$2&\"'!$A:$I\"),MATCH($B31,INDIRECT(\"'\"&$A$2&\"'!$A:$A\"),0),MATCH(F$9,'1'!Titre,0)))","v":""},{"$f":"IF($B31=\"\",\"\",INDEX(INDIRECT(\"'\"&$A$2&\"'!$A:$I\"),MATCH($B31,INDIRECT(\"'\"&$A$2&\"'!$A:$A\"),0),MATCH(G$9,'1'!Titre,0)))","v":""},{"$f":"IF($B31=\"\",\"\",INDEX(INDIRECT(\"'\"&$A$2&\"'!$A:$I\"),MATCH($B31,INDIRECT(\"'\"&$A$2&\"'!$A:$A\"),0),MATCH(H$9,'1'!Titre,0)))","v":""},{"$f":"IF($B31=\"\",\"\",IF(INDEX(INDIRECT(\"'\"&$A$2&\"'!$A:$I\"),MATCH($B31,INDIRECT(\"'\"&$A$2&\"'!$A:$A\"),0),MATCH(\"SIGNATURE\",'1'!Titre,0))=\"\",IF(COUNTIF($B$10:$B121,$B31)>1,COUNTIF($B$10:$B121,$B31),\"\"),INDEX(INDIRECT(\"'\"&$A$2&\"'!$A:$I\"),MATCH($B31,INDIRECT(\"'\"&$A$2&\"'!$A:$A\"),0),MATCH(\"SIGNATURE\",'1'!Titre,0))))","v":""}]
[23,null,{"$f":"IF($B32=\"\",\"\",INDEX(INDIRECT(\"'\"&$A$2&\"'!$A:$I\"),MATCH($B32,INDIRECT(\"'\"&$A$2&\"'!$A:$A\"),0),MATCH(C$9,'1'!Titre,0)))","v":""},{"$f":"IF($B32=\"\",\"\",INDEX(INDIRECT(\"'\"&$A$2&\"'!$A:$I\"),MATCH($B32,INDIRECT(\"'\"&$A$2&\"'!$A:$A\"),0),MATCH(D$9,'1'!Titre,0)))","v":""},{"$f":"IF($B32=\"\",\"\",INDEX(INDIRECT(\"'\"&$A$2&\"'!$A:$I\"),MATCH($B32,INDIRECT(\"'\"&$A$2&\"'!$A:$A\"),0),MATCH(E$9,'1'!Titre,0)))","v":""},{"$f":"IF($B32=\"\",\"\",INDEX(INDIRECT(\"'\"&$A$2&\"'!$A:$I\"),MATCH($B32,INDIRECT(\"'\"&$A$2&\"'!$A:$A\"),0),MATCH(F$9,'1'!Titre,0)))","v":""},{"$f":"IF($B32=\"\",\"\",INDEX(INDIRECT(\"'\"&$A$2&\"'!$A:$I\"),MATCH($B32,INDIRECT(\"'\"&$A$2&\"'!$A:$A\"),0),MATCH(G$9,'1'!Titre,0)))","v":""},{"$f":"IF($B32=\"\",\"\",INDEX(INDIRECT(\"'\"&$A$2&\"'!$A:$I\"),MATCH($B32,INDIRECT(\"'\"&$A$2&\"'!$A:$A\"),0),MATCH(H$9,'1'!Titre,0)))","v":""},{"$f":"IF($B32=\"\",\"\",IF(INDEX(INDIRECT(\"'\"&$A$2&\"'!$A:$I\"),MATCH($B32,INDIRECT(\"'\"&$A$2&\"'!$A:$A\"),0),MATCH(\"SIGNATURE\",'1'!Titre,0))=\"\",IF(COUNTIF($B$10:$B122,$B32)>1,COUNTIF($B$10:$B122,$B32),\"\"),INDEX(INDIRECT(\"'\"&$A$2&\"'!$A:$I\"),MATCH($B32,INDIRECT(\"'\"&$A$2&\"'!$A:$A\"),0),MATCH(\"SIGNATURE\",'1'!Titre,0))))","v":""}]
[24,null,{"$f":"IF($B33=\"\",\"\",INDEX(INDIRECT(\"'\"&$A$2&\"'!$A:$I\"),MATCH($B33,INDIRECT(\"'\"&$A$2&\"'!$A:$A\"),0),MATCH(C$9,'1'!Titre,0)))","v":""},{"$f":"IF($B33=\"\",\"\",INDEX(INDIRECT(\"'\"&$A$2&\"'!$A:$I\"),MATCH($B33,INDIRECT(\"'\"&$A$2&\"'!$A:$A\"),0),MATCH(D$9,'1'!Titre,0)))","v":""},{"$f":"IF($B33=\"\",\"\",INDEX(INDIRECT(\"'\"&$A$2&\"'!$A:$I\"),MATCH($B33,INDIRECT(\"'\"&$A$2&\"'!$A:$A\"),0),MATCH(E$9,'1'!Titre,0)))","v":""},{"$f":"IF($B33=\"\",\"\",INDEX(INDIRECT(\"'\"&$A$2&\"'!$A:$I\"),MATCH($B33,INDIRECT(\"'\"&$A$2&\"'!$A:$A\"),0),MATCH(F$9,'1'!Titre,0)))","v":""},{"$f":"IF($B33=\"\",\"\",INDEX(INDIRECT(\"'\"&$A$2&\"'!$A:$I\"),MATCH($B33,INDIRECT(\"'\"&$A$2&\"'!$A:$A\"),0),MATCH(G$9,'1'!Titre,0)))","v":""},{"$f":"IF($B33=\"\",\"\",INDEX(INDIRECT(\"'\"&$A$2&\"'!$A:$I\"),MATCH($B33,INDIRECT(\"'\"&$A$2&\"'!$A:$A\"),0),MATCH(H$9,'1'!Titre,0)))","v":""},{"$f":"IF($B33=\"\",\"\",IF(INDEX(INDIRECT(\"'\"&$A$2&\"'!$A:$I\"),MATCH($B33,INDIRECT(\"'\"&$A$2&\"'!$A:$A\"),0),MATCH(\"SIGNATURE\",'1'!Titre,0))=\"\",IF(COUNTIF($B$10:$B123,$B33)>1,COUNTIF($B$10:$B123,$B33),\"\"),INDEX(INDIRECT(\"'\"&$A$2&\"'!$A:$I\"),MATCH($B33,INDIRECT(\"'\"&$A$2&\"'!$A:$A\"),0),MATCH(\"SIGNATURE\",'1'!Titre,0))))","v":""}]
[25,null,{"$f":"IF($B34=\"\",\"\",INDEX(INDIRECT(\"'\"&$A$2&\"'!$A:$I\"),MATCH($B34,INDIRECT(\"'\"&$A$2&\"'!$A:$A\"),0),MATCH(C$9,'1'!Titre,0)))","v":""},{"$f":"IF($B34=\"\",\"\",INDEX(INDIRECT(\"'\"&$A$2&\"'!$A:$I\"),MATCH($B34,INDIRECT(\"'\"&$A$2&\"'!$A:$A\"),0),MATCH(D$9,'1'!Titre,0)))","v":""},{"$f":"IF($B34=\"\",\"\",INDEX(INDIRECT(\"'\"&$A$2&\"'!$A:$I\"),MATCH($B34,INDIRECT(\"'\"&$A$2&\"'!$A:$A\"),0),MATCH(E$9,'1'!Titre,0)))","v":""},{"$f":"IF($B34=\"\",\"\",INDEX(INDIRECT(\"'\"&$A$2&\"'!$A:$I\"),MATCH($B34,INDIRECT(\"'\"&$A$2&\"'!$A:$A\"),0),MATCH(F$9,'1'!Titre,0)))","v":""},{"$f":"IF($B34=\"\",\"\",INDEX(INDIRECT(\"'\"&$A$2&\"'!$A:$I\"),MATCH($B34,INDIRECT(\"'\"&$A$2&\"'!$A:$A\"),0),MATCH(G$9,'1'!Titre,0)))","v":""},{"$f":"IF($B34=\"\",\"\",INDEX(INDIRECT(\"'\"&$A$2&\"'!$A:$I\"),MATCH($B34,INDIRECT(\"'\"&$A$2&\"'!$A:$A\"),0),MATCH(H$9,'1'!Titre,0)))","v":""},{"$f":"IF($B34=\"\",\"\",IF(INDEX(INDIRECT(\"'\"&$A$2&\"'!$A:$I\"),MATCH($B34,INDIRECT(\"'\"&$A$2&\"'!$A:$A\"),0),MATCH(\"SIGNATURE\",'1'!Titre,0))=\"\",IF(COUNTIF($B$10:$B124,$B34)>1,COUNTIF($B$10:$B124,$B34),\"\"),INDEX(INDIRECT(\"'\"&$A$2&\"'!$A:$I\"),MATCH($B34,INDIRECT(\"'\"&$A$2&\"'!$A:$A\"),0),MATCH(\"SIGNATURE\",'1'!Titre,0))))","v":""}]
[26,null,{"$f":"IF($B35=\"\",\"\",INDEX(INDIRECT(\"'\"&$A$2&\"'!$A:$I\"),MATCH($B35,INDIRECT(\"'\"&$A$2&\"'!$A:$A\"),0),MATCH(C$9,'1'!Titre,0)))","v":""},{"$f":"IF($B35=\"\",\"\",INDEX(INDIRECT(\"'\"&$A$2&\"'!$A:$I\"),MATCH($B35,INDIRECT(\"'\"&$A$2&\"'!$A:$A\"),0),MATCH(D$9,'1'!Titre,0)))","v":""},{"$f":"IF($B35=\"\",\"\",INDEX(INDIRECT(\"'\"&$A$2&\"'!$A:$I\"),MATCH($B35,INDIRECT(\"'\"&$A$2&\"'!$A:$A\"),0),MATCH(E$9,'1'!Titre,0)))","v":""},{"$f":"IF($B35=\"\",\"\",INDEX(INDIRECT(\"'\"&$A$2&\"'!$A:$I\"),MATCH($B35,INDIRECT(\"'\"&$A$2&\"'!$A:$A\"),0),MATCH(F$9,'1'!Titre,0)))","v":""},{"$f":"IF($B35=\"\",\"\",INDEX(INDIRECT(\"'\"&$A$2&\"'!$A:$I\"),MATCH($B35,INDIRECT(\"'\"&$A$2&\"'!$A:$A\"),0),MATCH(G$9,'1'!Titre,0)))","v":""},{"$f":"IF($B35=\"\",\"\",INDEX(INDIRECT(\"'\"&$A$2&\"'!$A:$I\"),MATCH($B35,INDIRECT(\"'\"&$A$2&\"'!$A:$A\"),0),MATCH(H$9,'1'!Titre,0)))","v":""},{"$f":"IF($B35=\"\",\"\",IF(INDEX(INDIRECT(\"'\"&$A$2&\"'!$A:$I\"),MATCH($B35,INDIRECT(\"'\"&$A$2&\"'!$A:$A\"),0),MATCH(\"SIGNATURE\",'1'!Titre,0))=\"\",IF(COUNTIF($B$10:$B125,$B35)>1,COUNTIF($B$10:$B125,$B35),\"\"),INDEX(INDIRECT(\"'\"&$A$2&\"'!$A:$I\"),MATCH($B35,INDIRECT(\"'\"&$A$2&\"'!$A:$A\"),0),MATCH(\"SIGNATURE\",'1'!Titre,0))))","v":""}]
[27,null,{"$f":"IF($B36=\"\",\"\",INDEX(INDIRECT(\"'\"&$A$2&\"'!$A:$I\"),MATCH($B36,INDIRECT(\"'\"&$A$2&\"'!$A:$A\"),0),MATCH(C$9,'1'!Titre,0)))","v":""},{"$f":"IF($B36=\"\",\"\",INDEX(INDIRECT(\"'\"&$A$2&\"'!$A:$I\"),MATCH($B36,INDIRECT(\"'\"&$A$2&\"'!$A:$A\"),0),MATCH(D$9,'1'!Titre,0)))","v":""},{"$f":"IF($B36=\"\",\"\",INDEX(INDIRECT(\"'\"&$A$2&\"'!$A:$I\"),MATCH($B36,INDIRECT(\"'\"&$A$2&\"'!$A:$A\"),0),MATCH(E$9,'1'!Titre,0)))","v":""},{"$f":"IF($B36=\"\",\"\",INDEX(INDIRECT(\"'\"&$A$2&\"'!$A:$I\"),MATCH($B36,INDIRECT(\"'\"&$A$2&\"'!$A:$A\"),0),MATCH(F$9,'1'!Titre,0)))","v":""},{"$f":"IF($B36=\"\",\"\",INDEX(INDIRECT(\"'\"&$A$2&\"'!$A:$I\"),MATCH($B36,INDIRECT(\"'\"&$A$2&\"'!$A:$A\"),0),MATCH(G$9,'1'!Titre,0)))","v":""},{"$f":"IF($B36=\"\",\"\",INDEX(INDIRECT(\"'\"&$A$2&\"'!$A:$I\"),MATCH($B36,INDIRECT(\"'\"&$A$2&\"'!$A:$A\"),0),MATCH(H$9,'1'!Titre,0)))","v":""},{"$f":"IF($B36=\"\",\"\",IF(INDEX(INDIRECT(\"'\"&$A$2&\"'!$A:$I\"),MATCH($B36,INDIRECT(\"'\"&$A$2&\"'!$A:$A\"),0),MATCH(\"SIGNATURE\",'1'!Titre,0))=\"\",IF(COUNTIF($B$10:$B126,$B36)>1,COUNTIF($B$10:$B126,$B36),\"\"),INDEX(INDIRECT(\"'\"&$A$2&\"'!$A:$I\"),MATCH($B36,INDIRECT(\"'\"&$A$2&\"'!$A:$A\"),0),MATCH(\"SIGNATURE\",'1'!Titre,0))))","v":""}]
[28,null,{"$f":"IF($B37=\"\",\"\",INDEX(INDIRECT(\"'\"&$A$2&\"'!$A:$I\"),MATCH($B37,INDIRECT(\"'\"&$A$2&\"'!$A:$A\"),0),MATCH(C$9,'1'!Titre,0)))","v":""},{"$f":"IF($B37=\"\",\"\",INDEX(INDIRECT(\"'\"&$A$2&\"'!$A:$I\"),MATCH($B37,INDIRECT(\"'\"&$A$2&\"'!$A:$A\"),0),MATCH(D$9,'1'!Titre,0)))","v":""},{"$f":"IF($B37=\"\",\"\",INDEX(INDIRECT(\"'\"&$A$2&\"'!$A:$I\"),MATCH($B37,INDIRECT(\"'\"&$A$2&\"'!$A:$A\"),0),MATCH(E$9,'1'!Titre,0)))","v":""},{"$f":"IF($B37=\"\",\"\",INDEX(INDIRECT(\"'\"&$A$2&\"'!$A:$I\"),MATCH($B37,INDIRECT(\"'\"&$A$2&\"'!$A:$A\"),0),MATCH(F$9,'1'!Titre,0)))","v":""},{"$f":"IF($B37=\"\",\"\",INDEX(INDIRECT(\"'\"&$A$2&\"'!$A:$I\"),MATCH($B37,INDIRECT(\"'\"&$A$2&\"'!$A:$A\"),0),MATCH(G$9,'1'!Titre,0)))","v":""},{"$f":"IF($B37=\"\",\"\",INDEX(INDIRECT(\"'\"&$A$2&\"'!$A:$I\"),MATCH($B37,INDIRECT(\"'\"&$A$2&\"'!$A:$A\"),0),MATCH(H$9,'1'!Titre,0)))","v":""},{"$f":"IF($B37=\"\",\"\",IF(INDEX(INDIRECT(\"'\"&$A$2&\"'!$A:$I\"),MATCH($B37,INDIRECT(\"'\"&$A$2&\"'!$A:$A\"),0),MATCH(\"SIGNATURE\",'1'!Titre,0))=\"\",IF(COUNTIF($B$10:$B127,$B37)>1,COUNTIF($B$10:$B127,$B37),\"\"),INDEX(INDIRECT(\"'\"&$A$2&\"'!$A:$I\"),MATCH($B37,INDIRECT(\"'\"&$A$2&\"'!$A:$A\"),0),MATCH(\"SIGNATURE\",'1'!Titre,0))))","v":""}]
[29,null,{"$f":"IF($B38=\"\",\"\",INDEX(INDIRECT(\"'\"&$A$2&\"'!$A:$I\"),MATCH($B38,INDIRECT(\"'\"&$A$2&\"'!$A:$A\"),0),MATCH(C$9,'1'!Titre,0)))","v":""},{"$f":"IF($B38=\"\",\"\",INDEX(INDIRECT(\"'\"&$A$2&\"'!$A:$I\"),MATCH($B38,INDIRECT(\"'\"&$A$2&\"'!$A:$A\"),0),MATCH(D$9,'1'!Titre,0)))","v":""},{"$f":"IF($B38=\"\",\"\",INDEX(INDIRECT(\"'\"&$A$2&\"'!$A:$I\"),MATCH($B38,INDIRECT(\"'\"&$A$2&\"'!$A:$A\"),0),MATCH(E$9,'1'!Titre,0)))","v":""},{"$f":"IF($B38=\"\",\"\",INDEX(INDIRECT(\"'\"&$A$2&\"'!$A:$I\"),MATCH($B38,INDIRECT(\"'\"&$A$2&\"'!$A:$A\"),0),MATCH(F$9,'1'!Titre,0)))","v":""},{"$f":"IF($B38=\"\",\"\",INDEX(INDIRECT(\"'\"&$A$2&\"'!$A:$I\"),MATCH($B38,INDIRECT(\"'\"&$A$2&\"'!$A:$A\"),0),MATCH(G$9,'1'!Titre,0)))","v":""},{"$f":"IF($B38=\"\",\"\",INDEX(INDIRECT(\"'\"&$A$2&\"'!$A:$I\"),MATCH($B38,INDIRECT(\"'\"&$A$2&\"'!$A:$A\"),0),MATCH(H$9,'1'!Titre,0)))","v":""},{"$f":"IF($B38=\"\",\"\",IF(INDEX(INDIRECT(\"'\"&$A$2&\"'!$A:$I\"),MATCH($B38,INDIRECT(\"'\"&$A$2&\"'!$A:$A\"),0),MATCH(\"SIGNATURE\",'1'!Titre,0))=\"\",IF(COUNTIF($B$10:$B128,$B38)>1,COUNTIF($B$10:$B128,$B38),\"\"),INDEX(INDIRECT(\"'\"&$A$2&\"'!$A:$I\"),MATCH($B38,INDIRECT(\"'\"&$A$2&\"'!$A:$A\"),0),MATCH(\"SIGNATURE\",'1'!Titre,0))))","v":""}]
[30,null,{"$f":"IF($B39=\"\",\"\",INDEX(INDIRECT(\"'\"&$A$2&\"'!$A:$I\"),MATCH($B39,INDIRECT(\"'\"&$A$2&\"'!$A:$A\"),0),MATCH(C$9,'1'!Titre,0)))","v":""},{"$f":"IF($B39=\"\",\"\",INDEX(INDIRECT(\"'\"&$A$2&\"'!$A:$I\"),MATCH($B39,INDIRECT(\"'\"&$A$2&\"'!$A:$A\"),0),MATCH(D$9,'1'!Titre,0)))","v":""},{"$f":"IF($B39=\"\",\"\",INDEX(INDIRECT(\"'\"&$A$2&\"'!$A:$I\"),MATCH($B39,INDIRECT(\"'\"&$A$2&\"'!$A:$A\"),0),MATCH(E$9,'1'!Titre,0)))","v":""},{"$f":"IF($B39=\"\",\"\",INDEX(INDIRECT(\"'\"&$A$2&\"'!$A:$I\"),MATCH($B39,INDIRECT(\"'\"&$A$2&\"'!$A:$A\"),0),MATCH(F$9,'1'!Titre,0)))","v":""},{"$f":"IF($B39=\"\",\"\",INDEX(INDIRECT(\"'\"&$A$2&\"'!$A:$I\"),MATCH($B39,INDIRECT(\"'\"&$A$2&\"'!$A:$A\"),0),MATCH(G$9,'1'!Titre,0)))","v":""},{"$f":"IF($B39=\"\",\"\",INDEX(INDIRECT(\"'\"&$A$2&\"'!$A:$I\"),MATCH($B39,INDIRECT(\"'\"&$A$2&\"'!$A:$A\"),0),MATCH(H$9,'1'!Titre,0)))","v":""},{"$f":"IF($B39=\"\",\"\",IF(INDEX(INDIRECT(\"'\"&$A$2&\"'!$A:$I\"),MATCH($B39,INDIRECT(\"'\"&$A$2&\"'!$A:$A\"),0),MATCH(\"SIGNATURE\",'1'!Titre,0))=\"\",IF(COUNTIF($B$10:$B129,$B39)>1,COUNTIF($B$10:$B129,$B39),\"\"),INDEX(INDIRECT(\"'\"&$A$2&\"'!$A:$I\"),MATCH($B39,INDIRECT(\"'\"&$A$2&\"'!$A:$A\"),0),MATCH(\"SIGNATURE\",'1'!Titre,0))))","v":""}]

{"sheet":"13-14_classement","index":20,"n_rows":39,"n_cols":9,"rows_kept":39,"cut":false,"hidden":false,"merged":[[6,3,6,7],[0,1,0,7],[2,3,2,7],[3,3,3,7],[4,3,4,7],[5,3,5,7]]}
[{"$f":"RIGHT(CELL(\"nomfichier\",A1),LEN(CELL(\"nomfichier\",A1)) - FIND(\"]\",CELL(\"nomfichier\",A1)))","v":"13-14_classement"},"CLASSEMENTS"]
[{"$f":"LEFT($A$1,FIND(\"_classement\",$A$1)-1)","v":"13-14"}]
[null,null,"Club organisateur :",{"$f":"IF(club=\"\",\"\",club)","v":""}]
[null,null,"Lieu de l'épreuve :",{"$f":"IF(lieu=\"\",\"\",lieu)","v":""}]
[null,null,"Date de l'épreuve :",{"$f":"IF(date_epreuve=\"\",\"\",date_epreuve)","v":""}]
[null,null,"Catégorie :","13 / 14 ans"]
[null,null,"Nb de partants :",{"$f":"COUNTIFS(INDIRECT(\"'\"&$A2&\"'!$B$9:$B$100\"),\"><\",INDIRECT(\"'\"&$A2&\"'!$i$9:$i$100\"),\"<>Non Partant\")","v":0}]
[]
["PLACE","N°","NOM  PRENOM","M/F","FEDERATION","CATE.","CLUB","DEP."]
[1,null,{"$f":"IF($B10=\"\",\"\",INDEX(INDIRECT(\"'\"&$A$2&\"'!$A:$I\"),MATCH($B10,INDIRECT(\"'\"&$A$2&\"'!$A:$A\"),0),MATCH(C$9,'1'!Titre,0)))","v":""},{"$f":"IF($B10=\"\",\"\",INDEX(INDIRECT(\"'\"&$A$2&\"'!$A:$I\"),MATCH($B10,INDIRECT(\"'\"&$A$2&\"'!$A:$A\"),0),MATCH(D$9,'1'!Titre,0)))","v":""},{"$f":"IF($B10=\"\",\"\",INDEX(INDIRECT(\"'\"&$A$2&\"'!$A:$I\"),MATCH($B10,INDIRECT(\"'\"&$A$2&\"'!$A:$A\"),0),MATCH(E$9,'1'!Titre,0)))","v":""},{"$f":"IF($B10=\"\",\"\",INDEX(INDIRECT(\"'\"&$A$2&\"'!$A:$I\"),MATCH($B10,INDIRECT(\"'\"&$A$2&\"'!$A:$A\"),0),MATCH(F$9,'1'!Titre,0)))","v":""},{"$f":"IF($B10=\"\",\"\",INDEX(INDIRECT(\"'\"&$A$2&\"'!$A:$I\"),MATCH($B10,INDIRECT(\"'\"&$A$2&\"'!$A:$A\"),0),MATCH(G$9,'1'!Titre,0)))","v":""},{"$f":"IF($B10=\"\",\"\",INDEX(INDIRECT(\"'\"&$A$2&\"'!$A:$I\"),MATCH($B10,INDIRECT(\"'\"&$A$2&\"'!$A:$A\"),0),MATCH(H$9,'1'!Titre,0)))","v":""},{"$f":"IF($B10=\"\",\"\",IF(INDEX(INDIRECT(\"'\"&$A$2&\"'!$A:$I\"),MATCH($B10,INDIRECT(\"'\"&$A$2&\"'!$A:$A\"),0),MATCH(\"SIGNATURE\",'1'!Titre,0))=\"\",IF(COUNTIF($B$10:$B100,$B10)>1,COUNTIF($B$10:$B100,$B10),\"\"),INDEX(INDIRECT(\"'\"&$A$2&\"'!$A:$I\"),MATCH($B10,INDIRECT(\"'\"&$A$2&\"'!$A:$A\"),0),MATCH(\"SIGNATURE\",'1'!Titre,0))))","v":""}]
[2,null,{"$f":"IF($B11=\"\",\"\",INDEX(INDIRECT(\"'\"&$A$2&\"'!$A:$I\"),MATCH($B11,INDIRECT(\"'\"&$A$2&\"'!$A:$A\"),0),MATCH(C$9,'1'!Titre,0)))","v":""},{"$f":"IF($B11=\"\",\"\",INDEX(INDIRECT(\"'\"&$A$2&\"'!$A:$I\"),MATCH($B11,INDIRECT(\"'\"&$A$2&\"'!$A:$A\"),0),MATCH(D$9,'1'!Titre,0)))","v":""},{"$f":"IF($B11=\"\",\"\",INDEX(INDIRECT(\"'\"&$A$2&\"'!$A:$I\"),MATCH($B11,INDIRECT(\"'\"&$A$2&\"'!$A:$A\"),0),MATCH(E$9,'1'!Titre,0)))","v":""},{"$f":"IF($B11=\"\",\"\",INDEX(INDIRECT(\"'\"&$A$2&\"'!$A:$I\"),MATCH($B11,INDIRECT(\"'\"&$A$2&\"'!$A:$A\"),0),MATCH(F$9,'1'!Titre,0)))","v":""},{"$f":"IF($B11=\"\",\"\",INDEX(INDIRECT(\"'\"&$A$2&\"'!$A:$I\"),MATCH($B11,INDIRECT(\"'\"&$A$2&\"'!$A:$A\"),0),MATCH(G$9,'1'!Titre,0)))","v":""},{"$f":"IF($B11=\"\",\"\",INDEX(INDIRECT(\"'\"&$A$2&\"'!$A:$I\"),MATCH($B11,INDIRECT(\"'\"&$A$2&\"'!$A:$A\"),0),MATCH(H$9,'1'!Titre,0)))","v":""},{"$f":"IF($B11=\"\",\"\",IF(INDEX(INDIRECT(\"'\"&$A$2&\"'!$A:$I\"),MATCH($B11,INDIRECT(\"'\"&$A$2&\"'!$A:$A\"),0),MATCH(\"SIGNATURE\",'1'!Titre,0))=\"\",IF(COUNTIF($B$10:$B101,$B11)>1,COUNTIF($B$10:$B101,$B11),\"\"),INDEX(INDIRECT(\"'\"&$A$2&\"'!$A:$I\"),MATCH($B11,INDIRECT(\"'\"&$A$2&\"'!$A:$A\"),0),MATCH(\"SIGNATURE\",'1'!Titre,0))))","v":""}]
[3,null,{"$f":"IF($B12=\"\",\"\",INDEX(INDIRECT(\"'\"&$A$2&\"'!$A:$I\"),MATCH($B12,INDIRECT(\"'\"&$A$2&\"'!$A:$A\"),0),MATCH(C$9,'1'!Titre,0)))","v":""},{"$f":"IF($B12=\"\",\"\",INDEX(INDIRECT(\"'\"&$A$2&\"'!$A:$I\"),MATCH($B12,INDIRECT(\"'\"&$A$2&\"'!$A:$A\"),0),MATCH(D$9,'1'!Titre,0)))","v":""},{"$f":"IF($B12=\"\",\"\",INDEX(INDIRECT(\"'\"&$A$2&\"'!$A:$I\"),MATCH($B12,INDIRECT(\"'\"&$A$2&\"'!$A:$A\"),0),MATCH(E$9,'1'!Titre,0)))","v":""},{"$f":"IF($B12=\"\",\"\",INDEX(INDIRECT(\"'\"&$A$2&\"'!$A:$I\"),MATCH($B12,INDIRECT(\"'\"&$A$2&\"'!$A:$A\"),0),MATCH(F$9,'1'!Titre,0)))","v":""},{"$f":"IF($B12=\"\",\"\",INDEX(INDIRECT(\"'\"&$A$2&\"'!$A:$I\"),MATCH($B12,INDIRECT(\"'\"&$A$2&\"'!$A:$A\"),0),MATCH(G$9,'1'!Titre,0)))","v":""},{"$f":"IF($B12=\"\",\"\",INDEX(INDIRECT(\"'\"&$A$2&\"'!$A:$I\"),MATCH($B12,INDIRECT(\"'\"&$A$2&\"'!$A:$A\"),0),MATCH(H$9,'1'!Titre,0)))","v":""},{"$f":"IF($B12=\"\",\"\",IF(INDEX(INDIRECT(\"'\"&$A$2&\"'!$A:$I\"),MATCH($B12,INDIRECT(\"'\"&$A$2&\"'!$A:$A\"),0),MATCH(\"SIGNATURE\",'1'!Titre,0))=\"\",IF(COUNTIF($B$10:$B102,$B12)>1,COUNTIF($B$10:$B102,$B12),\"\"),INDEX(INDIRECT(\"'\"&$A$2&\"'!$A:$I\"),MATCH($B12,INDIRECT(\"'\"&$A$2&\"'!$A:$A\"),0),MATCH(\"SIGNATURE\",'1'!Titre,0))))","v":""}]
[4,null,{"$f":"IF($B13=\"\",\"\",INDEX(INDIRECT(\"'\"&$A$2&\"'!$A:$I\"),MATCH($B13,INDIRECT(\"'\"&$A$2&\"'!$A:$A\"),0),MATCH(C$9,'1'!Titre,0)))","v":""},{"$f":"IF($B13=\"\",\"\",INDEX(INDIRECT(\"'\"&$A$2&\"'!$A:$I\"),MATCH($B13,INDIRECT(\"'\"&$A$2&\"'!$A:$A\"),0),MATCH(D$9,'1'!Titre,0)))","v":""},{"$f":"IF($B13=\"\",\"\",INDEX(INDIRECT(\"'\"&$A$2&\"'!$A:$I\"),MATCH($B13,INDIRECT(\"'\"&$A$2&\"'!$A:$A\"),0),MATCH(E$9,'1'!Titre,0)))","v":""},{"$f":"IF($B13=\"\",\"\",INDEX(INDIRECT(\"'\"&$A$2&\"'!$A:$I\"),MATCH($B13,INDIRECT(\"'\"&$A$2&\"'!$A:$A\"),0),MATCH(F$9,'1'!Titre,0)))","v":""},{"$f":"IF($B13=\"\",\"\",INDEX(INDIRECT(\"'\"&$A$2&\"'!$A:$I\"),MATCH($B13,INDIRECT(\"'\"&$A$2&\"'!$A:$A\"),0),MATCH(G$9,'1'!Titre,0)))","v":""},{"$f":"IF($B13=\"\",\"\",INDEX(INDIRECT(\"'\"&$A$2&\"'!$A:$I\"),MATCH($B13,INDIRECT(\"'\"&$A$2&\"'!$A:$A\"),0),MATCH(H$9,'1'!Titre,0)))","v":""},{"$f":"IF($B13=\"\",\"\",IF(INDEX(INDIRECT(\"'\"&$A$2&\"'!$A:$I\"),MATCH($B13,INDIRECT(\"'\"&$A$2&\"'!$A:$A\"),0),MATCH(\"SIGNATURE\",'1'!Titre,0))=\"\",IF(COUNTIF($B$10:$B103,$B13)>1,COUNTIF($B$10:$B103,$B13),\"\"),INDEX(INDIRECT(\"'\"&$A$2&\"'!$A:$I\"),MATCH($B13,INDIRECT(\"'\"&$A$2&\"'!$A:$A\"),0),MATCH(\"SIGNATURE\",'1'!Titre,0))))","v":""}]
[5,null,{"$f":"IF($B14=\"\",\"\",INDEX(INDIRECT(\"'\"&$A$2&\"'!$A:$I\"),MATCH($B14,INDIRECT(\"'\"&$A$2&\"'!$A:$A\"),0),MATCH(C$9,'1'!Titre,0)))","v":""},{"$f":"IF($B14=\"\",\"\",INDEX(INDIRECT(\"'\"&$A$2&\"'!$A:$I\"),MATCH($B14,INDIRECT(\"'\"&$A$2&\"'!$A:$A\"),0),MATCH(D$9,'1'!Titre,0)))","v":""},{"$f":"IF($B14=\"\",\"\",INDEX(INDIRECT(\"'\"&$A$2&\"'!$A:$I\"),MATCH($B14,INDIRECT(\"'\"&$A$2&\"'!$A:$A\"),0),MATCH(E$9,'1'!Titre,0)))","v":""},{"$f":"IF($B14=\"\",\"\",INDEX(INDIRECT(\"'\"&$A$2&\"'!$A:$I\"),MATCH($B14,INDIRECT(\"'\"&$A$2&\"'!$A:$A\"),0),MATCH(F$9,'1'!Titre,0)))","v":""},{"$f":"IF($B14=\"\",\"\",INDEX(INDIRECT(\"'\"&$A$2&\"'!$A:$I\"),MATCH($B14,INDIRECT(\"'\"&$A$2&\"'!$A:$A\"),0),MATCH(G$9,'1'!Titre,0)))","v":""},{"$f":"IF($B14=\"\",\"\",INDEX(INDIRECT(\"'\"&$A$2&\"'!$A:$I\"),MATCH($B14,INDIRECT(\"'\"&$A$2&\"'!$A:$A\"),0),MATCH(H$9,'1'!Titre,0)))","v":""},{"$f":"IF($B14=\"\",\"\",IF(INDEX(INDIRECT(\"'\"&$A$2&\"'!$A:$I\"),MATCH($B14,INDIRECT(\"'\"&$A$2&\"'!$A:$A\"),0),MATCH(\"SIGNATURE\",'1'!Titre,0))=\"\",IF(COUNTIF($B$10:$B104,$B14)>1,COUNTIF($B$10:$B104,$B14),\"\"),INDEX(INDIRECT(\"'\"&$A$2&\"'!$A:$I\"),MATCH($B14,INDIRECT(\"'\"&$A$2&\"'!$A:$A\"),0),MATCH(\"SIGNATURE\",'1'!Titre,0))))","v":""}]
[6,null,{"$f":"IF($B15=\"\",\"\",INDEX(INDIRECT(\"'\"&$A$2&\"'!$A:$I\"),MATCH($B15,INDIRECT(\"'\"&$A$2&\"'!$A:$A\"),0),MATCH(C$9,'1'!Titre,0)))","v":""},{"$f":"IF($B15=\"\",\"\",INDEX(INDIRECT(\"'\"&$A$2&\"'!$A:$I\"),MATCH($B15,INDIRECT(\"'\"&$A$2&\"'!$A:$A\"),0),MATCH(D$9,'1'!Titre,0)))","v":""},{"$f":"IF($B15=\"\",\"\",INDEX(INDIRECT(\"'\"&$A$2&\"'!$A:$I\"),MATCH($B15,INDIRECT(\"'\"&$A$2&\"'!$A:$A\"),0),MATCH(E$9,'1'!Titre,0)))","v":""},{"$f":"IF($B15=\"\",\"\",INDEX(INDIRECT(\"'\"&$A$2&\"'!$A:$I\"),MATCH($B15,INDIRECT(\"'\"&$A$2&\"'!$A:$A\"),0),MATCH(F$9,'1'!Titre,0)))","v":""},{"$f":"IF($B15=\"\",\"\",INDEX(INDIRECT(\"'\"&$A$2&\"'!$A:$I\"),MATCH($B15,INDIRECT(\"'\"&$A$2&\"'!$A:$A\"),0),MATCH(G$9,'1'!Titre,0)))","v":""},{"$f":"IF($B15=\"\",\"\",INDEX(INDIRECT(\"'\"&$A$2&\"'!$A:$I\"),MATCH($B15,INDIRECT(\"'\"&$A$2&\"'!$A:$A\"),0),MATCH(H$9,'1'!Titre,0)))","v":""},{"$f":"IF($B15=\"\",\"\",IF(INDEX(INDIRECT(\"'\"&$A$2&\"'!$A:$I\"),MATCH($B15,INDIRECT(\"'\"&$A$2&\"'!$A:$A\"),0),MATCH(\"SIGNATURE\",'1'!Titre,0))=\"\",IF(COUNTIF($B$10:$B105,$B15)>1,COUNTIF($B$10:$B105,$B15),\"\"),INDEX(INDIRECT(\"'\"&$A$2&\"'!$A:$I\"),MATCH($B15,INDIRECT(\"'\"&$A$2&\"'!$A:$A\"),0),MATCH(\"SIGNATURE\",'1'!Titre,0))))","v":""}]
[7,null,{"$f":"IF($B16=\"\",\"\",INDEX(INDIRECT(\"'\"&$A$2&\"'!$A:$I\"),MATCH($B16,INDIRECT(\"'\"&$A$2&\"'!$A:$A\"),0),MATCH(C$9,'1'!Titre,0)))","v":""},{"$f":"IF($B16=\"\",\"\",INDEX(INDIRECT(\"'\"&$A$2&\"'!$A:$I\"),MATCH($B16,INDIRECT(\"'\"&$A$2&\"'!$A:$A\"),0),MATCH(D$9,'1'!Titre,0)))","v":""},{"$f":"IF($B16=\"\",\"\",INDEX(INDIRECT(\"'\"&$A$2&\"'!$A:$I\"),MATCH($B16,INDIRECT(\"'\"&$A$2&\"'!$A:$A\"),0),MATCH(E$9,'1'!Titre,0)))","v":""},{"$f":"IF($B16=\"\",\"\",INDEX(INDIRECT(\"'\"&$A$2&\"'!$A:$I\"),MATCH($B16,INDIRECT(\"'\"&$A$2&\"'!$A:$A\"),0),MATCH(F$9,'1'!Titre,0)))","v":""},{"$f":"IF($B16=\"\",\"\",INDEX(INDIRECT(\"'\"&$A$2&\"'!$A:$I\"),MATCH($B16,INDIRECT(\"'\"&$A$2&\"'!$A:$A\"),0),MATCH(G$9,'1'!Titre,0)))","v":""},{"$f":"IF($B16=\"\",\"\",INDEX(INDIRECT(\"'\"&$A$2&\"'!$A:$I\"),MATCH($B16,INDIRECT(\"'\"&$A$2&\"'!$A:$A\"),0),MATCH(H$9,'1'!Titre,0)))","v":""},{"$f":"IF($B16=\"\",\"\",IF(INDEX(INDIRECT(\"'\"&$A$2&\"'!$A:$I\"),MATCH($B16,INDIRECT(\"'\"&$A$2&\"'!$A:$A\"),0),MATCH(\"SIGNATURE\",'1'!Titre,0))=\"\",IF(COUNTIF($B$10:$B106,$B16)>1,COUNTIF($B$10:$B106,$B16),\"\"),INDEX(INDIRECT(\"'\"&$A$2&\"'!$A:$I\"),MATCH($B16,INDIRECT(\"'\"&$A$2&\"'!$A:$A\"),0),MATCH(\"SIGNATURE\",'1'!Titre,0))))","v":""}]
[8,null,{"$f":"IF($B17=\"\",\"\",INDEX(INDIRECT(\"'\"&$A$2&\"'!$A:$I\"),MATCH($B17,INDIRECT(\"'\"&$A$2&\"'!$A:$A\"),0),MATCH(C$9,'1'!Titre,0)))","v":""},{"$f":"IF($B17=\"\",\"\",INDEX(INDIRECT(\"'\"&$A$2&\"'!$A:$I\"),MATCH($B17,INDIRECT(\"'\"&$A$2&\"'!$A:$A\"),0),MATCH(D$9,'1'!Titre,0)))","v":""},{"$f":"IF($B17=\"\",\"\",INDEX(INDIRECT(\"'\"&$A$2&\"'!$A:$I\"),MATCH($B17,INDIRECT(\"'\"&$A$2&\"'!$A:$A\"),0),MATCH(E$9,'1'!Titre,0)))","v":""},{"$f":"IF($B17=\"\",\"\",INDEX(INDIRECT(\"'\"&$A$2&\"'!$A:$I\"),MATCH($B17,INDIRECT(\"'\"&$A$2&\"'!$A:$A\"),0),MATCH(F$9,'1'!Titre,0)))","v":""},{"$f":"IF($B17=\"\",\"\",INDEX(INDIRECT(\"'\"&$A$2&\"'!$A:$I\"),MATCH($B17,INDIRECT(\"'\"&$A$2&\"'!$A:$A\"),0),MATCH(G$9,'1'!Titre,0)))","v":""},{"$f":"IF($B17=\"\",\"\",INDEX(INDIRECT(\"'\"&$A$2&\"'!$A:$I\"),MATCH($B17,INDIRECT(\"'\"&$A$2&\"'!$A:$A\"),0),MATCH(H$9,'1'!Titre,0)))","v":""},{"$f":"IF($B17=\"\",\"\",IF(INDEX(INDIRECT(\"'\"&$A$2&\"'!$A:$I\"),MATCH($B17,INDIRECT(\"'\"&$A$2&\"'!$A:$A\"),0),MATCH(\"SIGNATURE\",'1'!Titre,0))=\"\",IF(COUNTIF($B$10:$B107,$B17)>1,COUNTIF($B$10:$B107,$B17),\"\"),INDEX(INDIRECT(\"'\"&$A$2&\"'!$A:$I\"),MATCH($B17,INDIRECT(\"'\"&$A$2&\"'!$A:$A\"),0),MATCH(\"SIGNATURE\",'1'!Titre,0))))","v":""}]
[9,null,{"$f":"IF($B18=\"\",\"\",INDEX(INDIRECT(\"'\"&$A$2&\"'!$A:$I\"),MATCH($B18,INDIRECT(\"'\"&$A$2&\"'!$A:$A\"),0),MATCH(C$9,'1'!Titre,0)))","v":""},{"$f":"IF($B18=\"\",\"\",INDEX(INDIRECT(\"'\"&$A$2&\"'!$A:$I\"),MATCH($B18,INDIRECT(\"'\"&$A$2&\"'!$A:$A\"),0),MATCH(D$9,'1'!Titre,0)))","v":""},{"$f":"IF($B18=\"\",\"\",INDEX(INDIRECT(\"'\"&$A$2&\"'!$A:$I\"),MATCH($B18,INDIRECT(\"'\"&$A$2&\"'!$A:$A\"),0),MATCH(E$9,'1'!Titre,0)))","v":""},{"$f":"IF($B18=\"\",\"\",INDEX(INDIRECT(\"'\"&$A$2&\"'!$A:$I\"),MATCH($B18,INDIRECT(\"'\"&$A$2&\"'!$A:$A\"),0),MATCH(F$9,'1'!Titre,0)))","v":""},{"$f":"IF($B18=\"\",\"\",INDEX(INDIRECT(\"'\"&$A$2&\"'!$A:$I\"),MATCH($B18,INDIRECT(\"'\"&$A$2&\"'!$A:$A\"),0),MATCH(G$9,'1'!Titre,0)))","v":""},{"$f":"IF($B18=\"\",\"\",INDEX(INDIRECT(\"'\"&$A$2&\"'!$A:$I\"),MATCH($B18,INDIRECT(\"'\"&$A$2&\"'!$A:$A\"),0),MATCH(H$9,'1'!Titre,0)))","v":""},{"$f":"IF($B18=\"\",\"\",IF(INDEX(INDIRECT(\"'\"&$A$2&\"'!$A:$I\"),MATCH($B18,INDIRECT(\"'\"&$A$2&\"'!$A:$A\"),0),MATCH(\"SIGNATURE\",'1'!Titre,0))=\"\",IF(COUNTIF($B$10:$B108,$B18)>1,COUNTIF($B$10:$B108,$B18),\"\"),INDEX(INDIRECT(\"'\"&$A$2&\"'!$A:$I\"),MATCH($B18,INDIRECT(\"'\"&$A$2&\"'!$A:$A\"),0),MATCH(\"SIGNATURE\",'1'!Titre,0))))","v":""}]
[10,null,{"$f":"IF($B19=\"\",\"\",INDEX(INDIRECT(\"'\"&$A$2&\"'!$A:$I\"),MATCH($B19,INDIRECT(\"'\"&$A$2&\"'!$A:$A\"),0),MATCH(C$9,'1'!Titre,0)))","v":""},{"$f":"IF($B19=\"\",\"\",INDEX(INDIRECT(\"'\"&$A$2&\"'!$A:$I\"),MATCH($B19,INDIRECT(\"'\"&$A$2&\"'!$A:$A\"),0),MATCH(D$9,'1'!Titre,0)))","v":""},{"$f":"IF($B19=\"\",\"\",INDEX(INDIRECT(\"'\"&$A$2&\"'!$A:$I\"),MATCH($B19,INDIRECT(\"'\"&$A$2&\"'!$A:$A\"),0),MATCH(E$9,'1'!Titre,0)))","v":""},{"$f":"IF($B19=\"\",\"\",INDEX(INDIRECT(\"'\"&$A$2&\"'!$A:$I\"),MATCH($B19,INDIRECT(\"'\"&$A$2&\"'!$A:$A\"),0),MATCH(F$9,'1'!Titre,0)))","v":""},{"$f":"IF($B19=\"\",\"\",INDEX(INDIRECT(\"'\"&$A$2&\"'!$A:$I\"),MATCH($B19,INDIRECT(\"'\"&$A$2&\"'!$A:$A\"),0),MATCH(G$9,'1'!Titre,0)))","v":""},{"$f":"IF($B19=\"\",\"\",INDEX(INDIRECT(\"'\"&$A$2&\"'!$A:$I\"),MATCH($B19,INDIRECT(\"'\"&$A$2&\"'!$A:$A\"),0),MATCH(H$9,'1'!Titre,0)))","v":""},{"$f":"IF($B19=\"\",\"\",IF(INDEX(INDIRECT(\"'\"&$A$2&\"'!$A:$I\"),MATCH($B19,INDIRECT(\"'\"&$A$2&\"'!$A:$A\"),0),MATCH(\"SIGNATURE\",'1'!Titre,0))=\"\",IF(COUNTIF($B$10:$B109,$B19)>1,COUNTIF($B$10:$B109,$B19),\"\"),INDEX(INDIRECT(\"'\"&$A$2&\"'!$A:$I\"),MATCH($B19,INDIRECT(\"'\"&$A$2&\"'!$A:$A\"),0),MATCH(\"SIGNATURE\",'1'!Titre,0))))","v":""}]
[11,null,{"$f":"IF($B20=\"\",\"\",INDEX(INDIRECT(\"'\"&$A$2&\"'!$A:$I\"),MATCH($B20,INDIRECT(\"'\"&$A$2&\"'!$A:$A\"),0),MATCH(C$9,'1'!Titre,0)))","v":""},{"$f":"IF($B20=\"\",\"\",INDEX(INDIRECT(\"'\"&$A$2&\"'!$A:$I\"),MATCH($B20,INDIRECT(\"'\"&$A$2&\"'!$A:$A\"),0),MATCH(D$9,'1'!Titre,0)))","v":""},{"$f":"IF($B20=\"\",\"\",INDEX(INDIRECT(\"'\"&$A$2&\"'!$A:$I\"),MATCH($B20,INDIRECT(\"'\"&$A$2&\"'!$A:$A\"),0),MATCH(E$9,'1'!Titre,0)))","v":""},{"$f":"IF($B20=\"\",\"\",INDEX(INDIRECT(\"'\"&$A$2&\"'!$A:$I\"),MATCH($B20,INDIRECT(\"'\"&$A$2&\"'!$A:$A\"),0),MATCH(F$9,'1'!Titre,0)))","v":""},{"$f":"IF($B20=\"\",\"\",INDEX(INDIRECT(\"'\"&$A$2&\"'!$A:$I\"),MATCH($B20,INDIRECT(\"'\"&$A$2&\"'!$A:$A\"),0),MATCH(G$9,'1'!Titre,0)))","v":""},{"$f":"IF($B20=\"\",\"\",INDEX(INDIRECT(\"'\"&$A$2&\"'!$A:$I\"),MATCH($B20,INDIRECT(\"'\"&$A$2&\"'!$A:$A\"),0),MATCH(H$9,'1'!Titre,0)))","v":""},{"$f":"IF($B20=\"\",\"\",IF(INDEX(INDIRECT(\"'\"&$A$2&\"'!$A:$I\"),MATCH($B20,INDIRECT(\"'\"&$A$2&\"'!$A:$A\"),0),MATCH(\"SIGNATURE\",'1'!Titre,0))=\"\",IF(COUNTIF($B$10:$B110,$B20)>1,COUNTIF($B$10:$B110,$B20),\"\"),INDEX(INDIRECT(\"'\"&$A$2&\"'!$A:$I\"),MATCH($B20,INDIRECT(\"'\"&$A$2&\"'!$A:$A\"),0),MATCH(\"SIGNATURE\",'1'!Titre,0))))","v":""}]
[12,null,{"$f":"IF($B21=\"\",\"\",INDEX(INDIRECT(\"'\"&$A$2&\"'!$A:$I\"),MATCH($B21,INDIRECT(\"'\"&$A$2&\"'!$A:$A\"),0),MATCH(C$9,'1'!Titre,0)))","v":""},{"$f":"IF($B21=\"\",\"\",INDEX(INDIRECT(\"'\"&$A$2&\"'!$A:$I\"),MATCH($B21,INDIRECT(\"'\"&$A$2&\"'!$A:$A\"),0),MATCH(D$9,'1'!Titre,0)))","v":""},{"$f":"IF($B21=\"\",\"\",INDEX(INDIRECT(\"'\"&$A$2&\"'!$A:$I\"),MATCH($B21,INDIRECT(\"'\"&$A$2&\"'!$A:$A\"),0),MATCH(E$9,'1'!Titre,0)))","v":""},{"$f":"IF($B21=\"\",\"\",INDEX(INDIRECT(\"'\"&$A$2&\"'!$A:$I\"),MATCH($B21,INDIRECT(\"'\"&$A$2&\"'!$A:$A\"),0),MATCH(F$9,'1'!Titre,0)))","v":""},{"$f":"IF($B21=\"\",\"\",INDEX(INDIRECT(\"'\"&$A$2&\"'!$A:$I\"),MATCH($B21,INDIRECT(\"'\"&$A$2&\"'!$A:$A\"),0),MATCH(G$9,'1'!Titre,0)))","v":""},{"$f":"IF($B21=\"\",\"\",INDEX(INDIRECT(\"'\"&$A$2&\"'!$A:$I\"),MATCH($B21,INDIRECT(\"'\"&$A$2&\"'!$A:$A\"),0),MATCH(H$9,'1'!Titre,0)))","v":""},{"$f":"IF($B21=\"\",\"\",IF(INDEX(INDIRECT(\"'\"&$A$2&\"'!$A:$I\"),MATCH($B21,INDIRECT(\"'\"&$A$2&\"'!$A:$A\"),0),MATCH(\"SIGNATURE\",'1'!Titre,0))=\"\",IF(COUNTIF($B$10:$B111,$B21)>1,COUNTIF($B$10:$B111,$B21),\"\"),INDEX(INDIRECT(\"'\"&$A$2&\"'!$A:$I\"),MATCH($B21,INDIRECT(\"'\"&$A$2&\"'!$A:$A\"),0),MATCH(\"SIGNATURE\",'1'!Titre,0))))","v":""}]
[13,null,{"$f":"IF($B22=\"\",\"\",INDEX(INDIRECT(\"'\"&$A$2&\"'!$A:$I\"),MATCH($B22,INDIRECT(\"'\"&$A$2&\"'!$A:$A\"),0),MATCH(C$9,'1'!Titre,0)))","v":""},{"$f":"IF($B22=\"\",\"\",INDEX(INDIRECT(\"'\"&$A$2&\"'!$A:$I\"),MATCH($B22,INDIRECT(\"'\"&$A$2&\"'!$A:$A\"),0),MATCH(D$9,'1'!Titre,0)))","v":""},{"$f":"IF($B22=\"\",\"\",INDEX(INDIRECT(\"'\"&$A$2&\"'!$A:$I\"),MATCH($B22,INDIRECT(\"'\"&$A$2&\"'!$A:$A\"),0),MATCH(E$9,'1'!Titre,0)))","v":""},{"$f":"IF($B22=\"\",\"\",INDEX(INDIRECT(\"'\"&$A$2&\"'!$A:$I\"),MATCH($B22,INDIRECT(\"'\"&$A$2&\"'!$A:$A\"),0),MATCH(F$9,'1'!Titre,0)))","v":""},{"$f":"IF($B22=\"\",\"\",INDEX(INDIRECT(\"'\"&$A$2&\"'!$A:$I\"),MATCH($B22,INDIRECT(\"'\"&$A$2&\"'!$A:$A\"),0),MATCH(G$9,'1'!Titre,0)))","v":""},{"$f":"IF($B22=\"\",\"\",INDEX(INDIRECT(\"'\"&$A$2&\"'!$A:$I\"),MATCH($B22,INDIRECT(\"'\"&$A$2&\"'!$A:$A\"),0),MATCH(H$9,'1'!Titre,0)))","v":""},{"$f":"IF($B22=\"\",\"\",IF(INDEX(INDIRECT(\"'\"&$A$2&\"'!$A:$I\"),MATCH($B22,INDIRECT(\"'\"&$A$2&\"'!$A:$A\"),0),MATCH(\"SIGNATURE\",'1'!Titre,0))=\"\",IF(COUNTIF($B$10:$B112,$B22)>1,COUNTIF($B$10:$B112,$B22),\"\"),INDEX(INDIRECT(\"'\"&$A$2&\"'!$A:$I\"),MATCH($B22,INDIRECT(\"'\"&$A$2&\"'!$A:$A\"),0),MATCH(\"SIGNATURE\",'1'!Titre,0))))","v":""}]
[14,null,{"$f":"IF($B23=\"\",\"\",INDEX(INDIRECT(\"'\"&$A$2&\"'!$A:$I\"),MATCH($B23,INDIRECT(\"'\"&$A$2&\"'!$A:$A\"),0),MATCH(C$9,'1'!Titre,0)))","v":""},{"$f":"IF($B23=\"\",\"\",INDEX(INDIRECT(\"'\"&$A$2&\"'!$A:$I\"),MATCH($B23,INDIRECT(\"'\"&$A$2&\"'!$A:$A\"),0),MATCH(D$9,'1'!Titre,0)))","v":""},{"$f":"IF($B23=\"\",\"\",INDEX(INDIRECT(\"'\"&$A$2&\"'!$A:$I\"),MATCH($B23,INDIRECT(\"'\"&$A$2&\"'!$A:$A\"),0),MATCH(E$9,'1'!Titre,0)))","v":""},{"$f":"IF($B23=\"\",\"\",INDEX(INDIRECT(\"'\"&$A$2&\"'!$A:$I\"),MATCH($B23,INDIRECT(\"'\"&$A$2&\"'!$A:$A\"),0),MATCH(F$9,'1'!Titre,0)))","v":""},{"$f":"IF($B23=\"\",\"\",INDEX(INDIRECT(\"'\"&$A$2&\"'!$A:$I\"),MATCH($B23,INDIRECT(\"'\"&$A$2&\"'!$A:$A\"),0),MATCH(G$9,'1'!Titre,0)))","v":""},{"$f":"IF($B23=\"\",\"\",INDEX(INDIRECT(\"'\"&$A$2&\"'!$A:$I\"),MATCH($B23,INDIRECT(\"'\"&$A$2&\"'!$A:$A\"),0),MATCH(H$9,'1'!Titre,0)))","v":""},{"$f":"IF($B23=\"\",\"\",IF(INDEX(INDIRECT(\"'\"&$A$2&\"'!$A:$I\"),MATCH($B23,INDIRECT(\"'\"&$A$2&\"'!$A:$A\"),0),MATCH(\"SIGNATURE\",'1'!Titre,0))=\"\",IF(COUNTIF($B$10:$B113,$B23)>1,COUNTIF($B$10:$B113,$B23),\"\"),INDEX(INDIRECT(\"'\"&$A$2&\"'!$A:$I\"),MATCH($B23,INDIRECT(\"'\"&$A$2&\"'!$A:$A\"),0),MATCH(\"SIGNATURE\",'1'!Titre,0))))","v":""}]
[15,null,{"$f":"IF($B24=\"\",\"\",INDEX(INDIRECT(\"'\"&$A$2&\"'!$A:$I\"),MATCH($B24,INDIRECT(\"'\"&$A$2&\"'!$A:$A\"),0),MATCH(C$9,'1'!Titre,0)))","v":""},{"$f":"IF($B24=\"\",\"\",INDEX(INDIRECT(\"'\"&$A$2&\"'!$A:$I\"),MATCH($B24,INDIRECT(\"'\"&$A$2&\"'!$A:$A\"),0),MATCH(D$9,'1'!Titre,0)))","v":""},{"$f":"IF($B24=\"\",\"\",INDEX(INDIRECT(\"'\"&$A$2&\"'!$A:$I\"),MATCH($B24,INDIRECT(\"'\"&$A$2&\"'!$A:$A\"),0),MATCH(E$9,'1'!Titre,0)))","v":""},{"$f":"IF($B24=\"\",\"\",INDEX(INDIRECT(\"'\"&$A$2&\"'!$A:$I\"),MATCH($B24,INDIRECT(\"'\"&$A$2&\"'!$A:$A\"),0),MATCH(F$9,'1'!Titre,0)))","v":""},{"$f":"IF($B24=\"\",\"\",INDEX(INDIRECT(\"'\"&$A$2&\"'!$A:$I\"),MATCH($B24,INDIRECT(\"'\"&$A$2&\"'!$A:$A\"),0),MATCH(G$9,'1'!Titre,0)))","v":""},{"$f":"IF($B24=\"\",\"\",INDEX(INDIRECT(\"'\"&$A$2&\"'!$A:$I\"),MATCH($B24,INDIRECT(\"'\"&$A$2&\"'!$A:$A\"),0),MATCH(H$9,'1'!Titre,0)))","v":""},{"$f":"IF($B24=\"\",\"\",IF(INDEX(INDIRECT(\"'\"&$A$2&\"'!$A:$I\"),MATCH($B24,INDIRECT(\"'\"&$A$2&\"'!$A:$A\"),0),MATCH(\"SIGNATURE\",'1'!Titre,0))=\"\",IF(COUNTIF($B$10:$B114,$B24)>1,COUNTIF($B$10:$B114,$B24),\"\"),INDEX(INDIRECT(\"'\"&$A$2&\"'!$A:$I\"),MATCH($B24,INDIRECT(\"'\"&$A$2&\"'!$A:$A\"),0),MATCH(\"SIGNATURE\",'1'!Titre,0))))","v":""}]
[16,null,{"$f":"IF($B25=\"\",\"\",INDEX(INDIRECT(\"'\"&$A$2&\"'!$A:$I\"),MATCH($B25,INDIRECT(\"'\"&$A$2&\"'!$A:$A\"),0),MATCH(C$9,'1'!Titre,0)))","v":""},{"$f":"IF($B25=\"\",\"\",INDEX(INDIRECT(\"'\"&$A$2&\"'!$A:$I\"),MATCH($B25,INDIRECT(\"'\"&$A$2&\"'!$A:$A\"),0),MATCH(D$9,'1'!Titre,0)))","v":""},{"$f":"IF($B25=\"\",\"\",INDEX(INDIRECT(\"'\"&$A$2&\"'!$A:$I\"),MATCH($B25,INDIRECT(\"'\"&$A$2&\"'!$A:$A\"),0),MATCH(E$9,'1'!Titre,0)))","v":""},{"$f":"IF($B25=\"\",\"\",INDEX(INDIRECT(\"'\"&$A$2&\"'!$A:$I\"),MATCH($B25,INDIRECT(\"'\"&$A$2&\"'!$A:$A\"),0),MATCH(F$9,'1'!Titre,0)))","v":""},{"$f":"IF($B25=\"\",\"\",INDEX(INDIRECT(\"'\"&$A$2&\"'!$A:$I\"),MATCH($B25,INDIRECT(\"'\"&$A$2&\"'!$A:$A\"),0),MATCH(G$9,'1'!Titre,0)))","v":""},{"$f":"IF($B25=\"\",\"\",INDEX(INDIRECT(\"'\"&$A$2&\"'!$A:$I\"),MATCH($B25,INDIRECT(\"'\"&$A$2&\"'!$A:$A\"),0),MATCH(H$9,'1'!Titre,0)))","v":""},{"$f":"IF($B25=\"\",\"\",IF(INDEX(INDIRECT(\"'\"&$A$2&\"'!$A:$I\"),MATCH($B25,INDIRECT(\"'\"&$A$2&\"'!$A:$A\"),0),MATCH(\"SIGNATURE\",'1'!Titre,0))=\"\",IF(COUNTIF($B$10:$B115,$B25)>1,COUNTIF($B$10:$B115,$B25),\"\"),INDEX(INDIRECT(\"'\"&$A$2&\"'!$A:$I\"),MATCH($B25,INDIRECT(\"'\"&$A$2&\"'!$A:$A\"),0),MATCH(\"SIGNATURE\",'1'!Titre,0))))","v":""}]
[17,null,{"$f":"IF($B26=\"\",\"\",INDEX(INDIRECT(\"'\"&$A$2&\"'!$A:$I\"),MATCH($B26,INDIRECT(\"'\"&$A$2&\"'!$A:$A\"),0),MATCH(C$9,'1'!Titre,0)))","v":""},{"$f":"IF($B26=\"\",\"\",INDEX(INDIRECT(\"'\"&$A$2&\"'!$A:$I\"),MATCH($B26,INDIRECT(\"'\"&$A$2&\"'!$A:$A\"),0),MATCH(D$9,'1'!Titre,0)))","v":""},{"$f":"IF($B26=\"\",\"\",INDEX(INDIRECT(\"'\"&$A$2&\"'!$A:$I\"),MATCH($B26,INDIRECT(\"'\"&$A$2&\"'!$A:$A\"),0),MATCH(E$9,'1'!Titre,0)))","v":""},{"$f":"IF($B26=\"\",\"\",INDEX(INDIRECT(\"'\"&$A$2&\"'!$A:$I\"),MATCH($B26,INDIRECT(\"'\"&$A$2&\"'!$A:$A\"),0),MATCH(F$9,'1'!Titre,0)))","v":""},{"$f":"IF($B26=\"\",\"\",INDEX(INDIRECT(\"'\"&$A$2&\"'!$A:$I\"),MATCH($B26,INDIRECT(\"'\"&$A$2&\"'!$A:$A\"),0),MATCH(G$9,'1'!Titre,0)))","v":""},{"$f":"IF($B26=\"\",\"\",INDEX(INDIRECT(\"'\"&$A$2&\"'!$A:$I\"),MATCH($B26,INDIRECT(\"'\"&$A$2&\"'!$A:$A\"),0),MATCH(H$9,'1'!Titre,0)))","v":""},{"$f":"IF($B26=\"\",\"\",IF(INDEX(INDIRECT(\"'\"&$A$2&\"'!$A:$I\"),MATCH($B26,INDIRECT(\"'\"&$A$2&\"'!$A:$A\"),0),MATCH(\"SIGNATURE\",'1'!Titre,0))=\"\",IF(COUNTIF($B$10:$B116,$B26)>1,COUNTIF($B$10:$B116,$B26),\"\"),INDEX(INDIRECT(\"'\"&$A$2&\"'!$A:$I\"),MATCH($B26,INDIRECT(\"'\"&$A$2&\"'!$A:$A\"),0),MATCH(\"SIGNATURE\",'1'!Titre,0))))","v":""}]
[18,null,{"$f":"IF($B27=\"\",\"\",INDEX(INDIRECT(\"'\"&$A$2&\"'!$A:$I\"),MATCH($B27,INDIRECT(\"'\"&$A$2&\"'!$A:$A\"),0),MATCH(C$9,'1'!Titre,0)))","v":""},{"$f":"IF($B27=\"\",\"\",INDEX(INDIRECT(\"'\"&$A$2&\"'!$A:$I\"),MATCH($B27,INDIRECT(\"'\"&$A$2&\"'!$A:$A\"),0),MATCH(D$9,'1'!Titre,0)))","v":""},{"$f":"IF($B27=\"\",\"\",INDEX(INDIRECT(\"'\"&$A$2&\"'!$A:$I\"),MATCH($B27,INDIRECT(\"'\"&$A$2&\"'!$A:$A\"),0),MATCH(E$9,'1'!Titre,0)))","v":""},{"$f":"IF($B27=\"\",\"\",INDEX(INDIRECT(\"'\"&$A$2&\"'!$A:$I\"),MATCH($B27,INDIRECT(\"'\"&$A$2&\"'!$A:$A\"),0),MATCH(F$9,'1'!Titre,0)))","v":""},{"$f":"IF($B27=\"\",\"\",INDEX(INDIRECT(\"'\"&$A$2&\"'!$A:$I\"),MATCH($B27,INDIRECT(\"'\"&$A$2&\"'!$A:$A\"),0),MATCH(G$9,'1'!Titre,0)))","v":""},{"$f":"IF($B27=\"\",\"\",INDEX(INDIRECT(\"'\"&$A$2&\"'!$A:$I\"),MATCH($B27,INDIRECT(\"'\"&$A$2&\"'!$A:$A\"),0),MATCH(H$9,'1'!Titre,0)))","v":""},{"$f":"IF($B27=\"\",\"\",IF(INDEX(INDIRECT(\"'\"&$A$2&\"'!$A:$I\"),MATCH($B27,INDIRECT(\"'\"&$A$2&\"'!$A:$A\"),0),MATCH(\"SIGNATURE\",'1'!Titre,0))=\"\",IF(COUNTIF($B$10:$B117,$B27)>1,COUNTIF($B$10:$B117,$B27),\"\"),INDEX(INDIRECT(\"'\"&$A$2&\"'!$A:$I\"),MATCH($B27,INDIRECT(\"'\"&$A$2&\"'!$A:$A\"),0),MATCH(\"SIGNATURE\",'1'!Titre,0))))","v":""}]
[19,null,{"$f":"IF($B28=\"\",\"\",INDEX(INDIRECT(\"'\"&$A$2&\"'!$A:$I\"),MATCH($B28,INDIRECT(\"'\"&$A$2&\"'!$A:$A\"),0),MATCH(C$9,'1'!Titre,0)))","v":""},{"$f":"IF($B28=\"\",\"\",INDEX(INDIRECT(\"'\"&$A$2&\"'!$A:$I\"),MATCH($B28,INDIRECT(\"'\"&$A$2&\"'!$A:$A\"),0),MATCH(D$9,'1'!Titre,0)))","v":""},{"$f":"IF($B28=\"\",\"\",INDEX(INDIRECT(\"'\"&$A$2&\"'!$A:$I\"),MATCH($B28,INDIRECT(\"'\"&$A$2&\"'!$A:$A\"),0),MATCH(E$9,'1'!Titre,0)))","v":""},{"$f":"IF($B28=\"\",\"\",INDEX(INDIRECT(\"'\"&$A$2&\"'!$A:$I\"),MATCH($B28,INDIRECT(\"'\"&$A$2&\"'!$A:$A\"),0),MATCH(F$9,'1'!Titre,0)))","v":""},{"$f":"IF($B28=\"\",\"\",INDEX(INDIRECT(\"'\"&$A$2&\"'!$A:$I\"),MATCH($B28,INDIRECT(\"'\"&$A$2&\"'!$A:$A\"),0),MATCH(G$9,'1'!Titre,0)))","v":""},{"$f":"IF($B28=\"\",\"\",INDEX(INDIRECT(\"'\"&$A$2&\"'!$A:$I\"),MATCH($B28,INDIRECT(\"'\"&$A$2&\"'!$A:$A\"),0),MATCH(H$9,'1'!Titre,0)))","v":""},{"$f":"IF($B28=\"\",\"\",IF(INDEX(INDIRECT(\"'\"&$A$2&\"'!$A:$I\"),MATCH($B28,INDIRECT(\"'\"&$A$2&\"'!$A:$A\"),0),MATCH(\"SIGNATURE\",'1'!Titre,0))=\"\",IF(COUNTIF($B$10:$B118,$B28)>1,COUNTIF($B$10:$B118,$B28),\"\"),INDEX(INDIRECT(\"'\"&$A$2&\"'!$A:$I\"),MATCH($B28,INDIRECT(\"'\"&$A$2&\"'!$A:$A\"),0),MATCH(\"SIGNATURE\",'1'!Titre,0))))","v":""}]
[20,null,{"$f":"IF($B29=\"\",\"\",INDEX(INDIRECT(\"'\"&$A$2&\"'!$A:$I\"),MATCH($B29,INDIRECT(\"'\"&$A$2&\"'!$A:$A\"),0),MATCH(C$9,'1'!Titre,0)))","v":""},{"$f":"IF($B29=\"\",\"\",INDEX(INDIRECT(\"'\"&$A$2&\"'!$A:$I\"),MATCH($B29,INDIRECT(\"'\"&$A$2&\"'!$A:$A\"),0),MATCH(D$9,'1'!Titre,0)))","v":""},{"$f":"IF($B29=\"\",\"\",INDEX(INDIRECT(\"'\"&$A$2&\"'!$A:$I\"),MATCH($B29,INDIRECT(\"'\"&$A$2&\"'!$A:$A\"),0),MATCH(E$9,'1'!Titre,0)))","v":""},{"$f":"IF($B29=\"\",\"\",INDEX(INDIRECT(\"'\"&$A$2&\"'!$A:$I\"),MATCH($B29,INDIRECT(\"'\"&$A$2&\"'!$A:$A\"),0),MATCH(F$9,'1'!Titre,0)))","v":""},{"$f":"IF($B29=\"\",\"\",INDEX(INDIRECT(\"'\"&$A$2&\"'!$A:$I\"),MATCH($B29,INDIRECT(\"'\"&$A$2&\"'!$A:$A\"),0),MATCH(G$9,'1'!Titre,0)))","v":""},{"$f":"IF($B29=\"\",\"\",INDEX(INDIRECT(\"'\"&$A$2&\"'!$A:$I\"),MATCH($B29,INDIRECT(\"'\"&$A$2&\"'!$A:$A\"),0),MATCH(H$9,'1'!Titre,0)))","v":""},{"$f":"IF($B29=\"\",\"\",IF(INDEX(INDIRECT(\"'\"&$A$2&\"'!$A:$I\"),MATCH($B29,INDIRECT(\"'\"&$A$2&\"'!$A:$A\"),0),MATCH(\"SIGNATURE\",'1'!Titre,0))=\"\",IF(COUNTIF($B$10:$B119,$B29)>1,COUNTIF($B$10:$B119,$B29),\"\"),INDEX(INDIRECT(\"'\"&$A$2&\"'!$A:$I\"),MATCH($B29,INDIRECT(\"'\"&$A$2&\"'!$A:$A\"),0),MATCH(\"SIGNATURE\",'1'!Titre,0))))","v":""}]
[21,null,{"$f":"IF($B30=\"\",\"\",INDEX(INDIRECT(\"'\"&$A$2&\"'!$A:$I\"),MATCH($B30,INDIRECT(\"'\"&$A$2&\"'!$A:$A\"),0),MATCH(C$9,'1'!Titre,0)))","v":""},{"$f":"IF($B30=\"\",\"\",INDEX(INDIRECT(\"'\"&$A$2&\"'!$A:$I\"),MATCH($B30,INDIRECT(\"'\"&$A$2&\"'!$A:$A\"),0),MATCH(D$9,'1'!Titre,0)))","v":""},{"$f":"IF($B30=\"\",\"\",INDEX(INDIRECT(\"'\"&$A$2&\"'!$A:$I\"),MATCH($B30,INDIRECT(\"'\"&$A$2&\"'!$A:$A\"),0),MATCH(E$9,'1'!Titre,0)))","v":""},{"$f":"IF($B30=\"\",\"\",INDEX(INDIRECT(\"'\"&$A$2&\"'!$A:$I\"),MATCH($B30,INDIRECT(\"'\"&$A$2&\"'!$A:$A\"),0),MATCH(F$9,'1'!Titre,0)))","v":""},{"$f":"IF($B30=\"\",\"\",INDEX(INDIRECT(\"'\"&$A$2&\"'!$A:$I\"),MATCH($B30,INDIRECT(\"'\"&$A$2&\"'!$A:$A\"),0),MATCH(G$9,'1'!Titre,0)))","v":""},{"$f":"IF($B30=\"\",\"\",INDEX(INDIRECT(\"'\"&$A$2&\"'!$A:$I\"),MATCH($B30,INDIRECT(\"'\"&$A$2&\"'!$A:$A\"),0),MATCH(H$9,'1'!Titre,0)))","v":""},{"$f":"IF($B30=\"\",\"\",IF(INDEX(INDIRECT(\"'\"&$A$2&\"'!$A:$I\"),MATCH($B30,INDIRECT(\"'\"&$A$2&\"'!$A:$A\"),0),MATCH(\"SIGNATURE\",'1'!Titre,0))=\"\",IF(COUNTIF($B$10:$B120,$B30)>1,COUNTIF($B$10:$B120,$B30),\"\"),INDEX(INDIRECT(\"'\"&$A$2&\"'!$A:$I\"),MATCH($B30,INDIRECT(\"'\"&$A$2&\"'!$A:$A\"),0),MATCH(\"SIGNATURE\",'1'!Titre,0))))","v":""}]
[22,null,{"$f":"IF($B31=\"\",\"\",INDEX(INDIRECT(\"'\"&$A$2&\"'!$A:$I\"),MATCH($B31,INDIRECT(\"'\"&$A$2&\"'!$A:$A\"),0),MATCH(C$9,'1'!Titre,0)))","v":""},{"$f":"IF($B31=\"\",\"\",INDEX(INDIRECT(\"'\"&$A$2&\"'!$A:$I\"),MATCH($B31,INDIRECT(\"'\"&$A$2&\"'!$A:$A\"),0),MATCH(D$9,'1'!Titre,0)))","v":""},{"$f":"IF($B31=\"\",\"\",INDEX(INDIRECT(\"'\"&$A$2&\"'!$A:$I\"),MATCH($B31,INDIRECT(\"'\"&$A$2&\"'!$A:$A\"),0),MATCH(E$9,'1'!Titre,0)))","v":""},{"$f":"IF($B31=\"\",\"\",INDEX(INDIRECT(\"'\"&$A$2&\"'!$A:$I\"),MATCH($B31,INDIRECT(\"'\"&$A$2&\"'!$A:$A\"),0),MATCH(F$9,'1'!Titre,0)))","v":""},{"$f":"IF($B31=\"\",\"\",INDEX(INDIRECT(\"'\"&$A$2&\"'!$A:$I\"),MATCH($B31,INDIRECT(\"'\"&$A$2&\"'!$A:$A\"),0),MATCH(G$9,'1'!Titre,0)))","v":""},{"$f":"IF($B31=\"\",\"\",INDEX(INDIRECT(\"'\"&$A$2&\"'!$A:$I\"),MATCH($B31,INDIRECT(\"'\"&$A$2&\"'!$A:$A\"),0),MATCH(H$9,'1'!Titre,0)))","v":""},{"$f":"IF($B31=\"\",\"\",IF(INDEX(INDIRECT(\"'\"&$A$2&\"'!$A:$I\"),MATCH($B31,INDIRECT(\"'\"&$A$2&\"'!$A:$A\"),0),MATCH(\"SIGNATURE\",'1'!Titre,0))=\"\",IF(COUNTIF($B$10:$B121,$B31)>1,COUNTIF($B$10:$B121,$B31),\"\"),INDEX(INDIRECT(\"'\"&$A$2&\"'!$A:$I\"),MATCH($B31,INDIRECT(\"'\"&$A$2&\"'!$A:$A\"),0),MATCH(\"SIGNATURE\",'1'!Titre,0))))","v":""}]
[23,null,{"$f":"IF($B32=\"\",\"\",INDEX(INDIRECT(\"'\"&$A$2&\"'!$A:$I\"),MATCH($B32,INDIRECT(\"'\"&$A$2&\"'!$A:$A\"),0),MATCH(C$9,'1'!Titre,0)))","v":""},{"$f":"IF($B32=\"\",\"\",INDEX(INDIRECT(\"'\"&$A$2&\"'!$A:$I\"),MATCH($B32,INDIRECT(\"'\"&$A$2&\"'!$A:$A\"),0),MATCH(D$9,'1'!Titre,0)))","v":""},{"$f":"IF($B32=\"\",\"\",INDEX(INDIRECT(\"'\"&$A$2&\"'!$A:$I\"),MATCH($B32,INDIRECT(\"'\"&$A$2&\"'!$A:$A\"),0),MATCH(E$9,'1'!Titre,0)))","v":""},{"$f":"IF($B32=\"\",\"\",INDEX(INDIRECT(\"'\"&$A$2&\"'!$A:$I\"),MATCH($B32,INDIRECT(\"'\"&$A$2&\"'!$A:$A\"),0),MATCH(F$9,'1'!Titre,0)))","v":""},{"$f":"IF($B32=\"\",\"\",INDEX(INDIRECT(\"'\"&$A$2&\"'!$A:$I\"),MATCH($B32,INDIRECT(\"'\"&$A$2&\"'!$A:$A\"),0),MATCH(G$9,'1'!Titre,0)))","v":""},{"$f":"IF($B32=\"\",\"\",INDEX(INDIRECT(\"'\"&$A$2&\"'!$A:$I\"),MATCH($B32,INDIRECT(\"'\"&$A$2&\"'!$A:$A\"),0),MATCH(H$9,'1'!Titre,0)))","v":""},{"$f":"IF($B32=\"\",\"\",IF(INDEX(INDIRECT(\"'\"&$A$2&\"'!$A:$I\"),MATCH($B32,INDIRECT(\"'\"&$A$2&\"'!$A:$A\"),0),MATCH(\"SIGNATURE\",'1'!Titre,0))=\"\",IF(COUNTIF($B$10:$B122,$B32)>1,COUNTIF($B$10:$B122,$B32),\"\"),INDEX(INDIRECT(\"'\"&$A$2&\"'!$A:$I\"),MATCH($B32,INDIRECT(\"'\"&$A$2&\"'!$A:$A\"),0),MATCH(\"SIGNATURE\",'1'!Titre,0))))","v":""}]
[24,null,{"$f":"IF($B33=\"\",\"\",INDEX(INDIRECT(\"'\"&$A$2&\"'!$A:$I\"),MATCH($B33,INDIRECT(\"'\"&$A$2&\"'!$A:$A\"),0),MATCH(C$9,'1'!Titre,0)))","v":""},{"$f":"IF($B33=\"\",\"\",INDEX(INDIRECT(\"'\"&$A$2&\"'!$A:$I\"),MATCH($B33,INDIRECT(\"'\"&$A$2&\"'!$A:$A\"),0),MATCH(D$9,'1'!Titre,0)))","v":""},{"$f":"IF($B33=\"\",\"\",INDEX(INDIRECT(\"'\"&$A$2&\"'!$A:$I\"),MATCH($B33,INDIRECT(\"'\"&$A$2&\"'!$A:$A\"),0),MATCH(E$9,'1'!Titre,0)))","v":""},{"$f":"IF($B33=\"\",\"\",INDEX(INDIRECT(\"'\"&$A$2&\"'!$A:$I\"),MATCH($B33,INDIRECT(\"'\"&$A$2&\"'!$A:$A\"),0),MATCH(F$9,'1'!Titre,0)))","v":""},{"$f":"IF($B33=\"\",\"\",INDEX(INDIRECT(\"'\"&$A$2&\"'!$A:$I\"),MATCH($B33,INDIRECT(\"'\"&$A$2&\"'!$A:$A\"),0),MATCH(G$9,'1'!Titre,0)))","v":""},{"$f":"IF($B33=\"\",\"\",INDEX(INDIRECT(\"'\"&$A$2&\"'!$A:$I\"),MATCH($B33,INDIRECT(\"'\"&$A$2&\"'!$A:$A\"),0),MATCH(H$9,'1'!Titre,0)))","v":""},{"$f":"IF($B33=\"\",\"\",IF(INDEX(INDIRECT(\"'\"&$A$2&\"'!$A:$I\"),MATCH($B33,INDIRECT(\"'\"&$A$2&\"'!$A:$A\"),0),MATCH(\"SIGNATURE\",'1'!Titre,0))=\"\",IF(COUNTIF($B$10:$B123,$B33)>1,COUNTIF($B$10:$B123,$B33),\"\"),INDEX(INDIRECT(\"'\"&$A$2&\"'!$A:$I\"),MATCH($B33,INDIRECT(\"'\"&$A$2&\"'!$A:$A\"),0),MATCH(\"SIGNATURE\",'1'!Titre,0))))","v":""}]
[25,null,{"$f":"IF($B34=\"\",\"\",INDEX(INDIRECT(\"'\"&$A$2&\"'!$A:$I\"),MATCH($B34,INDIRECT(\"'\"&$A$2&\"'!$A:$A\"),0),MATCH(C$9,'1'!Titre,0)))","v":""},{"$f":"IF($B34=\"\",\"\",INDEX(INDIRECT(\"'\"&$A$2&\"'!$A:$I\"),MATCH($B34,INDIRECT(\"'\"&$A$2&\"'!$A:$A\"),0),MATCH(D$9,'1'!Titre,0)))","v":""},{"$f":"IF($B34=\"\",\"\",INDEX(INDIRECT(\"'\"&$A$2&\"'!$A:$I\"),MATCH($B34,INDIRECT(\"'\"&$A$2&\"'!$A:$A\"),0),MATCH(E$9,'1'!Titre,0)))","v":""},{"$f":"IF($B34=\"\",\"\",INDEX(INDIRECT(\"'\"&$A$2&\"'!$A:$I\"),MATCH($B34,INDIRECT(\"'\"&$A$2&\"'!$A:$A\"),0),MATCH(F$9,'1'!Titre,0)))","v":""},{"$f":"IF($B34=\"\",\"\",INDEX(INDIRECT(\"'\"&$A$2&\"'!$A:$I\"),MATCH($B34,INDIRECT(\"'\"&$A$2&\"'!$A:$A\"),0),MATCH(G$9,'1'!Titre,0)))","v":""},{"$f":"IF($B34=\"\",\"\",INDEX(INDIRECT(\"'\"&$A$2&\"'!$A:$I\"),MATCH($B34,INDIRECT(\"'\"&$A$2&\"'!$A:$A\"),0),MATCH(H$9,'1'!Titre,0)))","v":""},{"$f":"IF($B34=\"\",\"\",IF(INDEX(INDIRECT(\"'\"&$A$2&\"'!$A:$I\"),MATCH($B34,INDIRECT(\"'\"&$A$2&\"'!$A:$A\"),0),MATCH(\"SIGNATURE\",'1'!Titre,0))=\"\",IF(COUNTIF($B$10:$B124,$B34)>1,COUNTIF($B$10:$B124,$B34),\"\"),INDEX(INDIRECT(\"'\"&$A$2&\"'!$A:$I\"),MATCH($B34,INDIRECT(\"'\"&$A$2&\"'!$A:$A\"),0),MATCH(\"SIGNATURE\",'1'!Titre,0))))","v":""}]
[26,null,{"$f":"IF($B35=\"\",\"\",INDEX(INDIRECT(\"'\"&$A$2&\"'!$A:$I\"),MATCH($B35,INDIRECT(\"'\"&$A$2&\"'!$A:$A\"),0),MATCH(C$9,'1'!Titre,0)))","v":""},{"$f":"IF($B35=\"\",\"\",INDEX(INDIRECT(\"'\"&$A$2&\"'!$A:$I\"),MATCH($B35,INDIRECT(\"'\"&$A$2&\"'!$A:$A\"),0),MATCH(D$9,'1'!Titre,0)))","v":""},{"$f":"IF($B35=\"\",\"\",INDEX(INDIRECT(\"'\"&$A$2&\"'!$A:$I\"),MATCH($B35,INDIRECT(\"'\"&$A$2&\"'!$A:$A\"),0),MATCH(E$9,'1'!Titre,0)))","v":""},{"$f":"IF($B35=\"\",\"\",INDEX(INDIRECT(\"'\"&$A$2&\"'!$A:$I\"),MATCH($B35,INDIRECT(\"'\"&$A$2&\"'!$A:$A\"),0),MATCH(F$9,'1'!Titre,0)))","v":""},{"$f":"IF($B35=\"\",\"\",INDEX(INDIRECT(\"'\"&$A$2&\"'!$A:$I\"),MATCH($B35,INDIRECT(\"'\"&$A$2&\"'!$A:$A\"),0),MATCH(G$9,'1'!Titre,0)))","v":""},{"$f":"IF($B35=\"\",\"\",INDEX(INDIRECT(\"'\"&$A$2&\"'!$A:$I\"),MATCH($B35,INDIRECT(\"'\"&$A$2&\"'!$A:$A\"),0),MATCH(H$9,'1'!Titre,0)))","v":""},{"$f":"IF($B35=\"\",\"\",IF(INDEX(INDIRECT(\"'\"&$A$2&\"'!$A:$I\"),MATCH($B35,INDIRECT(\"'\"&$A$2&\"'!$A:$A\"),0),MATCH(\"SIGNATURE\",'1'!Titre,0))=\"\",IF(COUNTIF($B$10:$B125,$B35)>1,COUNTIF($B$10:$B125,$B35),\"\"),INDEX(INDIRECT(\"'\"&$A$2&\"'!$A:$I\"),MATCH($B35,INDIRECT(\"'\"&$A$2&\"'!$A:$A\"),0),MATCH(\"SIGNATURE\",'1'!Titre,0))))","v":""}]
[27,null,{"$f":"IF($B36=\"\",\"\",INDEX(INDIRECT(\"'\"&$A$2&\"'!$A:$I\"),MATCH($B36,INDIRECT(\"'\"&$A$2&\"'!$A:$A\"),0),MATCH(C$9,'1'!Titre,0)))","v":""},{"$f":"IF($B36=\"\",\"\",INDEX(INDIRECT(\"'\"&$A$2&\"'!$A:$I\"),MATCH($B36,INDIRECT(\"'\"&$A$2&\"'!$A:$A\"),0),MATCH(D$9,'1'!Titre,0)))","v":""},{"$f":"IF($B36=\"\",\"\",INDEX(INDIRECT(\"'\"&$A$2&\"'!$A:$I\"),MATCH($B36,INDIRECT(\"'\"&$A$2&\"'!$A:$A\"),0),MATCH(E$9,'1'!Titre,0)))","v":""},{"$f":"IF($B36=\"\",\"\",INDEX(INDIRECT(\"'\"&$A$2&\"'!$A:$I\"),MATCH($B36,INDIRECT(\"'\"&$A$2&\"'!$A:$A\"),0),MATCH(F$9,'1'!Titre,0)))","v":""},{"$f":"IF($B36=\"\",\"\",INDEX(INDIRECT(\"'\"&$A$2&\"'!$A:$I\"),MATCH($B36,INDIRECT(\"'\"&$A$2&\"'!$A:$A\"),0),MATCH(G$9,'1'!Titre,0)))","v":""},{"$f":"IF($B36=\"\",\"\",INDEX(INDIRECT(\"'\"&$A$2&\"'!$A:$I\"),MATCH($B36,INDIRECT(\"'\"&$A$2&\"'!$A:$A\"),0),MATCH(H$9,'1'!Titre,0)))","v":""},{"$f":"IF($B36=\"\",\"\",IF(INDEX(INDIRECT(\"'\"&$A$2&\"'!$A:$I\"),MATCH($B36,INDIRECT(\"'\"&$A$2&\"'!$A:$A\"),0),MATCH(\"SIGNATURE\",'1'!Titre,0))=\"\",IF(COUNTIF($B$10:$B126,$B36)>1,COUNTIF($B$10:$B126,$B36),\"\"),INDEX(INDIRECT(\"'\"&$A$2&\"'!$A:$I\"),MATCH($B36,INDIRECT(\"'\"&$A$2&\"'!$A:$A\"),0),MATCH(\"SIGNATURE\",'1'!Titre,0))))","v":""}]
[28,null,{"$f":"IF($B37=\"\",\"\",INDEX(INDIRECT(\"'\"&$A$2&\"'!$A:$I\"),MATCH($B37,INDIRECT(\"'\"&$A$2&\"'!$A:$A\"),0),MATCH(C$9,'1'!Titre,0)))","v":""},{"$f":"IF($B37=\"\",\"\",INDEX(INDIRECT(\"'\"&$A$2&\"'!$A:$I\"),MATCH($B37,INDIRECT(\"'\"&$A$2&\"'!$A:$A\"),0),MATCH(D$9,'1'!Titre,0)))","v":""},{"$f":"IF($B37=\"\",\"\",INDEX(INDIRECT(\"'\"&$A$2&\"'!$A:$I\"),MATCH($B37,INDIRECT(\"'\"&$A$2&\"'!$A:$A\"),0),MATCH(E$9,'1'!Titre,0)))","v":""},{"$f":"IF($B37=\"\",\"\",INDEX(INDIRECT(\"'\"&$A$2&\"'!$A:$I\"),MATCH($B37,INDIRECT(\"'\"&$A$2&\"'!$A:$A\"),0),MATCH(F$9,'1'!Titre,0)))","v":""},{"$f":"IF($B37=\"\",\"\",INDEX(INDIRECT(\"'\"&$A$2&\"'!$A:$I\"),MATCH($B37,INDIRECT(\"'\"&$A$2&\"'!$A:$A\"),0),MATCH(G$9,'1'!Titre,0)))","v":""},{"$f":"IF($B37=\"\",\"\",INDEX(INDIRECT(\"'\"&$A$2&\"'!$A:$I\"),MATCH($B37,INDIRECT(\"'\"&$A$2&\"'!$A:$A\"),0),MATCH(H$9,'1'!Titre,0)))","v":""},{"$f":"IF($B37=\"\",\"\",IF(INDEX(INDIRECT(\"'\"&$A$2&\"'!$A:$I\"),MATCH($B37,INDIRECT(\"'\"&$A$2&\"'!$A:$A\"),0),MATCH(\"SIGNATURE\",'1'!Titre,0))=\"\",IF(COUNTIF($B$10:$B127,$B37)>1,COUNTIF($B$10:$B127,$B37),\"\"),INDEX(INDIRECT(\"'\"&$A$2&\"'!$A:$I\"),MATCH($B37,INDIRECT(\"'\"&$A$2&\"'!$A:$A\"),0),MATCH(\"SIGNATURE\",'1'!Titre,0))))","v":""}]
[29,null,{"$f":"IF($B38=\"\",\"\",INDEX(INDIRECT(\"'\"&$A$2&\"'!$A:$I\"),MATCH($B38,INDIRECT(\"'\"&$A$2&\"'!$A:$A\"),0),MATCH(C$9,'1'!Titre,0)))","v":""},{"$f":"IF($B38=\"\",\"\",INDEX(INDIRECT(\"'\"&$A$2&\"'!$A:$I\"),MATCH($B38,INDIRECT(\"'\"&$A$2&\"'!$A:$A\"),0),MATCH(D$9,'1'!Titre,0)))","v":""},{"$f":"IF($B38=\"\",\"\",INDEX(INDIRECT(\"'\"&$A$2&\"'!$A:$I\"),MATCH($B38,INDIRECT(\"'\"&$A$2&\"'!$A:$A\"),0),MATCH(E$9,'1'!Titre,0)))","v":""},{"$f":"IF($B38=\"\",\"\",INDEX(INDIRECT(\"'\"&$A$2&\"'!$A:$I\"),MATCH($B38,INDIRECT(\"'\"&$A$2&\"'!$A:$A\"),0),MATCH(F$9,'1'!Titre,0)))","v":""},{"$f":"IF($B38=\"\",\"\",INDEX(INDIRECT(\"'\"&$A$2&\"'!$A:$I\"),MATCH($B38,INDIRECT(\"'\"&$A$2&\"'!$A:$A\"),0),MATCH(G$9,'1'!Titre,0)))","v":""},{"$f":"IF($B38=\"\",\"\",INDEX(INDIRECT(\"'\"&$A$2&\"'!$A:$I\"),MATCH($B38,INDIRECT(\"'\"&$A$2&\"'!$A:$A\"),0),MATCH(H$9,'1'!Titre,0)))","v":""},{"$f":"IF($B38=\"\",\"\",IF(INDEX(INDIRECT(\"'\"&$A$2&\"'!$A:$I\"),MATCH($B38,INDIRECT(\"'\"&$A$2&\"'!$A:$A\"),0),MATCH(\"SIGNATURE\",'1'!Titre,0))=\"\",IF(COUNTIF($B$10:$B128,$B38)>1,COUNTIF($B$10:$B128,$B38),\"\"),INDEX(INDIRECT(\"'\"&$A$2&\"'!$A:$I\"),MATCH($B38,INDIRECT(\"'\"&$A$2&\"'!$A:$A\"),0),MATCH(\"SIGNATURE\",'1'!Titre,0))))","v":""}]
[30,null,{"$f":"IF($B39=\"\",\"\",INDEX(INDIRECT(\"'\"&$A$2&\"'!$A:$I\"),MATCH($B39,INDIRECT(\"'\"&$A$2&\"'!$A:$A\"),0),MATCH(C$9,'1'!Titre,0)))","v":""},{"$f":"IF($B39=\"\",\"\",INDEX(INDIRECT(\"'\"&$A$2&\"'!$A:$I\"),MATCH($B39,INDIRECT(\"'\"&$A$2&\"'!$A:$A\"),0),MATCH(D$9,'1'!Titre,0)))","v":""},{"$f":"IF($B39=\"\",\"\",INDEX(INDIRECT(\"'\"&$A$2&\"'!$A:$I\"),MATCH($B39,INDIRECT(\"'\"&$A$2&\"'!$A:$A\"),0),MATCH(E$9,'1'!Titre,0)))","v":""},{"$f":"IF($B39=\"\",\"\",INDEX(INDIRECT(\"'\"&$A$2&\"'!$A:$I\"),MATCH($B39,INDIRECT(\"'\"&$A$2&\"'!$A:$A\"),0),MATCH(F$9,'1'!Titre,0)))","v":""},{"$f":"IF($B39=\"\",\"\",INDEX(INDIRECT(\"'\"&$A$2&\"'!$A:$I\"),MATCH($B39,INDIRECT(\"'\"&$A$2&\"'!$A:$A\"),0),MATCH(G$9,'1'!Titre,0)))","v":""},{"$f":"IF($B39=\"\",\"\",INDEX(INDIRECT(\"'\"&$A$2&\"'!$A:$I\"),MATCH($B39,INDIRECT(\"'\"&$A$2&\"'!$A:$A\"),0),MATCH(H$9,'1'!Titre,0)))","v":""},{"$f":"IF($B39=\"\",\"\",IF(INDEX(INDIRECT(\"'\"&$A$2&\"'!$A:$I\"),MATCH($B39,INDIRECT(\"'\"&$A$2&\"'!$A:$A\"),0),MATCH(\"SIGNATURE\",'1'!Titre,0))=\"\",IF(COUNTIF($B$10:$B129,$B39)>1,COUNTIF($B$10:$B129,$B39),\"\"),INDEX(INDIRECT(\"'\"&$A$2&\"'!$A:$I\"),MATCH($B39,INDIRECT(\"'\"&$A$2&\"'!$A:$A\"),0),MATCH(\"SIGNATURE\",'1'!Titre,0))))","v":""}]

{"sheet":"11-12_classement","index":21,"n_rows":39,"n_cols":9,"rows_kept":39,"cut":false,"hidden":false,"merged":[[6,3,6,7],[0,1,0,7],[2,3,2,7],[3,3,3,7],[4,3,4,7],[5,3,5,7]]}
[{"$f":"RIGHT(CELL(\"nomfichier\",A1),LEN(CELL(\"nomfichier\",A1)) - FIND(\"]\",CELL(\"nomfichier\",A1)))","v":"11-12_classement"},"CLASSEMENTS"]
[{"$f":"LEFT($A$1,FIND(\"_classement\",$A$1)-1)","v":"11-12"}]
[null,null,"Club organisateur :",{"$f":"IF(club=\"\",\"\",club)","v":""}]
[null,null,"Lieu de l'épreuve :",{"$f":"IF(lieu=\"\",\"\",lieu)","v":""}]
[null,null,"Date de l'épreuve :",{"$f":"IF(date_epreuve=\"\",\"\",date_epreuve)","v":""}]
[null,null,"Catégorie :","11 / 12 ans"]
[null,null,"Nb de partants :",{"$f":"COUNTIFS(INDIRECT(\"'\"&$A2&\"'!$B$9:$B$100\"),\"><\",INDIRECT(\"'\"&$A2&\"'!$i$9:$i$100\"),\"<>Non Partant\")","v":0}]
[]
["PLACE","N°","NOM  PRENOM","M/F","FEDERATION","CATE.","CLUB","DEP."]
[1,null,{"$f":"IF($B10=\"\",\"\",INDEX(INDIRECT(\"'\"&$A$2&\"'!$A:$I\"),MATCH($B10,INDIRECT(\"'\"&$A$2&\"'!$A:$A\"),0),MATCH(C$9,'1'!Titre,0)))","v":""},{"$f":"IF($B10=\"\",\"\",INDEX(INDIRECT(\"'\"&$A$2&\"'!$A:$I\"),MATCH($B10,INDIRECT(\"'\"&$A$2&\"'!$A:$A\"),0),MATCH(D$9,'1'!Titre,0)))","v":""},{"$f":"IF($B10=\"\",\"\",INDEX(INDIRECT(\"'\"&$A$2&\"'!$A:$I\"),MATCH($B10,INDIRECT(\"'\"&$A$2&\"'!$A:$A\"),0),MATCH(E$9,'1'!Titre,0)))","v":""},{"$f":"IF($B10=\"\",\"\",INDEX(INDIRECT(\"'\"&$A$2&\"'!$A:$I\"),MATCH($B10,INDIRECT(\"'\"&$A$2&\"'!$A:$A\"),0),MATCH(F$9,'1'!Titre,0)))","v":""},{"$f":"IF($B10=\"\",\"\",INDEX(INDIRECT(\"'\"&$A$2&\"'!$A:$I\"),MATCH($B10,INDIRECT(\"'\"&$A$2&\"'!$A:$A\"),0),MATCH(G$9,'1'!Titre,0)))","v":""},{"$f":"IF($B10=\"\",\"\",INDEX(INDIRECT(\"'\"&$A$2&\"'!$A:$I\"),MATCH($B10,INDIRECT(\"'\"&$A$2&\"'!$A:$A\"),0),MATCH(H$9,'1'!Titre,0)))","v":""},{"$f":"IF($B10=\"\",\"\",IF(INDEX(INDIRECT(\"'\"&$A$2&\"'!$A:$I\"),MATCH($B10,INDIRECT(\"'\"&$A$2&\"'!$A:$A\"),0),MATCH(\"SIGNATURE\",'1'!Titre,0))=\"\",IF(COUNTIF($B$10:$B100,$B10)>1,COUNTIF($B$10:$B100,$B10),\"\"),INDEX(INDIRECT(\"'\"&$A$2&\"'!$A:$I\"),MATCH($B10,INDIRECT(\"'\"&$A$2&\"'!$A:$A\"),0),MATCH(\"SIGNATURE\",'1'!Titre,0))))","v":""}]
[2,null,{"$f":"IF($B11=\"\",\"\",INDEX(INDIRECT(\"'\"&$A$2&\"'!$A:$I\"),MATCH($B11,INDIRECT(\"'\"&$A$2&\"'!$A:$A\"),0),MATCH(C$9,'1'!Titre,0)))","v":""},{"$f":"IF($B11=\"\",\"\",INDEX(INDIRECT(\"'\"&$A$2&\"'!$A:$I\"),MATCH($B11,INDIRECT(\"'\"&$A$2&\"'!$A:$A\"),0),MATCH(D$9,'1'!Titre,0)))","v":""},{"$f":"IF($B11=\"\",\"\",INDEX(INDIRECT(\"'\"&$A$2&\"'!$A:$I\"),MATCH($B11,INDIRECT(\"'\"&$A$2&\"'!$A:$A\"),0),MATCH(E$9,'1'!Titre,0)))","v":""},{"$f":"IF($B11=\"\",\"\",INDEX(INDIRECT(\"'\"&$A$2&\"'!$A:$I\"),MATCH($B11,INDIRECT(\"'\"&$A$2&\"'!$A:$A\"),0),MATCH(F$9,'1'!Titre,0)))","v":""},{"$f":"IF($B11=\"\",\"\",INDEX(INDIRECT(\"'\"&$A$2&\"'!$A:$I\"),MATCH($B11,INDIRECT(\"'\"&$A$2&\"'!$A:$A\"),0),MATCH(G$9,'1'!Titre,0)))","v":""},{"$f":"IF($B11=\"\",\"\",INDEX(INDIRECT(\"'\"&$A$2&\"'!$A:$I\"),MATCH($B11,INDIRECT(\"'\"&$A$2&\"'!$A:$A\"),0),MATCH(H$9,'1'!Titre,0)))","v":""},{"$f":"IF($B11=\"\",\"\",IF(INDEX(INDIRECT(\"'\"&$A$2&\"'!$A:$I\"),MATCH($B11,INDIRECT(\"'\"&$A$2&\"'!$A:$A\"),0),MATCH(\"SIGNATURE\",'1'!Titre,0))=\"\",IF(COUNTIF($B$10:$B101,$B11)>1,COUNTIF($B$10:$B101,$B11),\"\"),INDEX(INDIRECT(\"'\"&$A$2&\"'!$A:$I\"),MATCH($B11,INDIRECT(\"'\"&$A$2&\"'!$A:$A\"),0),MATCH(\"SIGNATURE\",'1'!Titre,0))))","v":""}]
[3,null,{"$f":"IF($B12=\"\",\"\",INDEX(INDIRECT(\"'\"&$A$2&\"'!$A:$I\"),MATCH($B12,INDIRECT(\"'\"&$A$2&\"'!$A:$A\"),0),MATCH(C$9,'1'!Titre,0)))","v":""},{"$f":"IF($B12=\"\",\"\",INDEX(INDIRECT(\"'\"&$A$2&\"'!$A:$I\"),MATCH($B12,INDIRECT(\"'\"&$A$2&\"'!$A:$A\"),0),MATCH(D$9,'1'!Titre,0)))","v":""},{"$f":"IF($B12=\"\",\"\",INDEX(INDIRECT(\"'\"&$A$2&\"'!$A:$I\"),MATCH($B12,INDIRECT(\"'\"&$A$2&\"'!$A:$A\"),0),MATCH(E$9,'1'!Titre,0)))","v":""},{"$f":"IF($B12=\"\",\"\",INDEX(INDIRECT(\"'\"&$A$2&\"'!$A:$I\"),MATCH($B12,INDIRECT(\"'\"&$A$2&\"'!$A:$A\"),0),MATCH(F$9,'1'!Titre,0)))","v":""},{"$f":"IF($B12=\"\",\"\",INDEX(INDIRECT(\"'\"&$A$2&\"'!$A:$I\"),MATCH($B12,INDIRECT(\"'\"&$A$2&\"'!$A:$A\"),0),MATCH(G$9,'1'!Titre,0)))","v":""},{"$f":"IF($B12=\"\",\"\",INDEX(INDIRECT(\"'\"&$A$2&\"'!$A:$I\"),MATCH($B12,INDIRECT(\"'\"&$A$2&\"'!$A:$A\"),0),MATCH(H$9,'1'!Titre,0)))","v":""},{"$f":"IF($B12=\"\",\"\",IF(INDEX(INDIRECT(\"'\"&$A$2&\"'!$A:$I\"),MATCH($B12,INDIRECT(\"'\"&$A$2&\"'!$A:$A\"),0),MATCH(\"SIGNATURE\",'1'!Titre,0))=\"\",IF(COUNTIF($B$10:$B102,$B12)>1,COUNTIF($B$10:$B102,$B12),\"\"),INDEX(INDIRECT(\"'\"&$A$2&\"'!$A:$I\"),MATCH($B12,INDIRECT(\"'\"&$A$2&\"'!$A:$A\"),0),MATCH(\"SIGNATURE\",'1'!Titre,0))))","v":""}]
[4,null,{"$f":"IF($B13=\"\",\"\",INDEX(INDIRECT(\"'\"&$A$2&\"'!$A:$I\"),MATCH($B13,INDIRECT(\"'\"&$A$2&\"'!$A:$A\"),0),MATCH(C$9,'1'!Titre,0)))","v":""},{"$f":"IF($B13=\"\",\"\",INDEX(INDIRECT(\"'\"&$A$2&\"'!$A:$I\"),MATCH($B13,INDIRECT(\"'\"&$A$2&\"'!$A:$A\"),0),MATCH(D$9,'1'!Titre,0)))","v":""},{"$f":"IF($B13=\"\",\"\",INDEX(INDIRECT(\"'\"&$A$2&\"'!$A:$I\"),MATCH($B13,INDIRECT(\"'\"&$A$2&\"'!$A:$A\"),0),MATCH(E$9,'1'!Titre,0)))","v":""},{"$f":"IF($B13=\"\",\"\",INDEX(INDIRECT(\"'\"&$A$2&\"'!$A:$I\"),MATCH($B13,INDIRECT(\"'\"&$A$2&\"'!$A:$A\"),0),MATCH(F$9,'1'!Titre,0)))","v":""},{"$f":"IF($B13=\"\",\"\",INDEX(INDIRECT(\"'\"&$A$2&\"'!$A:$I\"),MATCH($B13,INDIRECT(\"'\"&$A$2&\"'!$A:$A\"),0),MATCH(G$9,'1'!Titre,0)))","v":""},{"$f":"IF($B13=\"\",\"\",INDEX(INDIRECT(\"'\"&$A$2&\"'!$A:$I\"),MATCH($B13,INDIRECT(\"'\"&$A$2&\"'!$A:$A\"),0),MATCH(H$9,'1'!Titre,0)))","v":""},{"$f":"IF($B13=\"\",\"\",IF(INDEX(INDIRECT(\"'\"&$A$2&\"'!$A:$I\"),MATCH($B13,INDIRECT(\"'\"&$A$2&\"'!$A:$A\"),0),MATCH(\"SIGNATURE\",'1'!Titre,0))=\"\",IF(COUNTIF($B$10:$B103,$B13)>1,COUNTIF($B$10:$B103,$B13),\"\"),INDEX(INDIRECT(\"'\"&$A$2&\"'!$A:$I\"),MATCH($B13,INDIRECT(\"'\"&$A$2&\"'!$A:$A\"),0),MATCH(\"SIGNATURE\",'1'!Titre,0))))","v":""}]
[5,null,{"$f":"IF($B14=\"\",\"\",INDEX(INDIRECT(\"'\"&$A$2&\"'!$A:$I\"),MATCH($B14,INDIRECT(\"'\"&$A$2&\"'!$A:$A\"),0),MATCH(C$9,'1'!Titre,0)))","v":""},{"$f":"IF($B14=\"\",\"\",INDEX(INDIRECT(\"'\"&$A$2&\"'!$A:$I\"),MATCH($B14,INDIRECT(\"'\"&$A$2&\"'!$A:$A\"),0),MATCH(D$9,'1'!Titre,0)))","v":""},{"$f":"IF($B14=\"\",\"\",INDEX(INDIRECT(\"'\"&$A$2&\"'!$A:$I\"),MATCH($B14,INDIRECT(\"'\"&$A$2&\"'!$A:$A\"),0),MATCH(E$9,'1'!Titre,0)))","v":""},{"$f":"IF($B14=\"\",\"\",INDEX(INDIRECT(\"'\"&$A$2&\"'!$A:$I\"),MATCH($B14,INDIRECT(\"'\"&$A$2&\"'!$A:$A\"),0),MATCH(F$9,'1'!Titre,0)))","v":""},{"$f":"IF($B14=\"\",\"\",INDEX(INDIRECT(\"'\"&$A$2&\"'!$A:$I\"),MATCH($B14,INDIRECT(\"'\"&$A$2&\"'!$A:$A\"),0),MATCH(G$9,'1'!Titre,0)))","v":""},{"$f":"IF($B14=\"\",\"\",INDEX(INDIRECT(\"'\"&$A$2&\"'!$A:$I\"),MATCH($B14,INDIRECT(\"'\"&$A$2&\"'!$A:$A\"),0),MATCH(H$9,'1'!Titre,0)))","v":""},{"$f":"IF($B14=\"\",\"\",IF(INDEX(INDIRECT(\"'\"&$A$2&\"'!$A:$I\"),MATCH($B14,INDIRECT(\"'\"&$A$2&\"'!$A:$A\"),0),MATCH(\"SIGNATURE\",'1'!Titre,0))=\"\",IF(COUNTIF($B$10:$B104,$B14)>1,COUNTIF($B$10:$B104,$B14),\"\"),INDEX(INDIRECT(\"'\"&$A$2&\"'!$A:$I\"),MATCH($B14,INDIRECT(\"'\"&$A$2&\"'!$A:$A\"),0),MATCH(\"SIGNATURE\",'1'!Titre,0))))","v":""}]
[6,null,{"$f":"IF($B15=\"\",\"\",INDEX(INDIRECT(\"'\"&$A$2&\"'!$A:$I\"),MATCH($B15,INDIRECT(\"'\"&$A$2&\"'!$A:$A\"),0),MATCH(C$9,'1'!Titre,0)))","v":""},{"$f":"IF($B15=\"\",\"\",INDEX(INDIRECT(\"'\"&$A$2&\"'!$A:$I\"),MATCH($B15,INDIRECT(\"'\"&$A$2&\"'!$A:$A\"),0),MATCH(D$9,'1'!Titre,0)))","v":""},{"$f":"IF($B15=\"\",\"\",INDEX(INDIRECT(\"'\"&$A$2&\"'!$A:$I\"),MATCH($B15,INDIRECT(\"'\"&$A$2&\"'!$A:$A\"),0),MATCH(E$9,'1'!Titre,0)))","v":""},{"$f":"IF($B15=\"\",\"\",INDEX(INDIRECT(\"'\"&$A$2&\"'!$A:$I\"),MATCH($B15,INDIRECT(\"'\"&$A$2&\"'!$A:$A\"),0),MATCH(F$9,'1'!Titre,0)))","v":""},{"$f":"IF($B15=\"\",\"\",INDEX(INDIRECT(\"'\"&$A$2&\"'!$A:$I\"),MATCH($B15,INDIRECT(\"'\"&$A$2&\"'!$A:$A\"),0),MATCH(G$9,'1'!Titre,0)))","v":""},{"$f":"IF($B15=\"\",\"\",INDEX(INDIRECT(\"'\"&$A$2&\"'!$A:$I\"),MATCH($B15,INDIRECT(\"'\"&$A$2&\"'!$A:$A\"),0),MATCH(H$9,'1'!Titre,0)))","v":""},{"$f":"IF($B15=\"\",\"\",IF(INDEX(INDIRECT(\"'\"&$A$2&\"'!$A:$I\"),MATCH($B15,INDIRECT(\"'\"&$A$2&\"'!$A:$A\"),0),MATCH(\"SIGNATURE\",'1'!Titre,0))=\"\",IF(COUNTIF($B$10:$B105,$B15)>1,COUNTIF($B$10:$B105,$B15),\"\"),INDEX(INDIRECT(\"'\"&$A$2&\"'!$A:$I\"),MATCH($B15,INDIRECT(\"'\"&$A$2&\"'!$A:$A\"),0),MATCH(\"SIGNATURE\",'1'!Titre,0))))","v":""}]
[7,null,{"$f":"IF($B16=\"\",\"\",INDEX(INDIRECT(\"'\"&$A$2&\"'!$A:$I\"),MATCH($B16,INDIRECT(\"'\"&$A$2&\"'!$A:$A\"),0),MATCH(C$9,'1'!Titre,0)))","v":""},{"$f":"IF($B16=\"\",\"\",INDEX(INDIRECT(\"'\"&$A$2&\"'!$A:$I\"),MATCH($B16,INDIRECT(\"'\"&$A$2&\"'!$A:$A\"),0),MATCH(D$9,'1'!Titre,0)))","v":""},{"$f":"IF($B16=\"\",\"\",INDEX(INDIRECT(\"'\"&$A$2&\"'!$A:$I\"),MATCH($B16,INDIRECT(\"'\"&$A$2&\"'!$A:$A\"),0),MATCH(E$9,'1'!Titre,0)))","v":""},{"$f":"IF($B16=\"\",\"\",INDEX(INDIRECT(\"'\"&$A$2&\"'!$A:$I\"),MATCH($B16,INDIRECT(\"'\"&$A$2&\"'!$A:$A\"),0),MATCH(F$9,'1'!Titre,0)))","v":""},{"$f":"IF($B16=\"\",\"\",INDEX(INDIRECT(\"'\"&$A$2&\"'!$A:$I\"),MATCH($B16,INDIRECT(\"'\"&$A$2&\"'!$A:$A\"),0),MATCH(G$9,'1'!Titre,0)))","v":""},{"$f":"IF($B16=\"\",\"\",INDEX(INDIRECT(\"'\"&$A$2&\"'!$A:$I\"),MATCH($B16,INDIRECT(\"'\"&$A$2&\"'!$A:$A\"),0),MATCH(H$9,'1'!Titre,0)))","v":""},{"$f":"IF($B16=\"\",\"\",IF(INDEX(INDIRECT(\"'\"&$A$2&\"'!$A:$I\"),MATCH($B16,INDIRECT(\"'\"&$A$2&\"'!$A:$A\"),0),MATCH(\"SIGNATURE\",'1'!Titre,0))=\"\",IF(COUNTIF($B$10:$B106,$B16)>1,COUNTIF($B$10:$B106,$B16),\"\"),INDEX(INDIRECT(\"'\"&$A$2&\"'!$A:$I\"),MATCH($B16,INDIRECT(\"'\"&$A$2&\"'!$A:$A\"),0),MATCH(\"SIGNATURE\",'1'!Titre,0))))","v":""}]
[8,null,{"$f":"IF($B17=\"\",\"\",INDEX(INDIRECT(\"'\"&$A$2&\"'!$A:$I\"),MATCH($B17,INDIRECT(\"'\"&$A$2&\"'!$A:$A\"),0),MATCH(C$9,'1'!Titre,0)))","v":""},{"$f":"IF($B17=\"\",\"\",INDEX(INDIRECT(\"'\"&$A$2&\"'!$A:$I\"),MATCH($B17,INDIRECT(\"'\"&$A$2&\"'!$A:$A\"),0),MATCH(D$9,'1'!Titre,0)))","v":""},{"$f":"IF($B17=\"\",\"\",INDEX(INDIRECT(\"'\"&$A$2&\"'!$A:$I\"),MATCH($B17,INDIRECT(\"'\"&$A$2&\"'!$A:$A\"),0),MATCH(E$9,'1'!Titre,0)))","v":""},{"$f":"IF($B17=\"\",\"\",INDEX(INDIRECT(\"'\"&$A$2&\"'!$A:$I\"),MATCH($B17,INDIRECT(\"'\"&$A$2&\"'!$A:$A\"),0),MATCH(F$9,'1'!Titre,0)))","v":""},{"$f":"IF($B17=\"\",\"\",INDEX(INDIRECT(\"'\"&$A$2&\"'!$A:$I\"),MATCH($B17,INDIRECT(\"'\"&$A$2&\"'!$A:$A\"),0),MATCH(G$9,'1'!Titre,0)))","v":""},{"$f":"IF($B17=\"\",\"\",INDEX(INDIRECT(\"'\"&$A$2&\"'!$A:$I\"),MATCH($B17,INDIRECT(\"'\"&$A$2&\"'!$A:$A\"),0),MATCH(H$9,'1'!Titre,0)))","v":""},{"$f":"IF($B17=\"\",\"\",IF(INDEX(INDIRECT(\"'\"&$A$2&\"'!$A:$I\"),MATCH($B17,INDIRECT(\"'\"&$A$2&\"'!$A:$A\"),0),MATCH(\"SIGNATURE\",'1'!Titre,0))=\"\",IF(COUNTIF($B$10:$B107,$B17)>1,COUNTIF($B$10:$B107,$B17),\"\"),INDEX(INDIRECT(\"'\"&$A$2&\"'!$A:$I\"),MATCH($B17,INDIRECT(\"'\"&$A$2&\"'!$A:$A\"),0),MATCH(\"SIGNATURE\",'1'!Titre,0))))","v":""}]
[9,null,{"$f":"IF($B18=\"\",\"\",INDEX(INDIRECT(\"'\"&$A$2&\"'!$A:$I\"),MATCH($B18,INDIRECT(\"'\"&$A$2&\"'!$A:$A\"),0),MATCH(C$9,'1'!Titre,0)))","v":""},{"$f":"IF($B18=\"\",\"\",INDEX(INDIRECT(\"'\"&$A$2&\"'!$A:$I\"),MATCH($B18,INDIRECT(\"'\"&$A$2&\"'!$A:$A\"),0),MATCH(D$9,'1'!Titre,0)))","v":""},{"$f":"IF($B18=\"\",\"\",INDEX(INDIRECT(\"'\"&$A$2&\"'!$A:$I\"),MATCH($B18,INDIRECT(\"'\"&$A$2&\"'!$A:$A\"),0),MATCH(E$9,'1'!Titre,0)))","v":""},{"$f":"IF($B18=\"\",\"\",INDEX(INDIRECT(\"'\"&$A$2&\"'!$A:$I\"),MATCH($B18,INDIRECT(\"'\"&$A$2&\"'!$A:$A\"),0),MATCH(F$9,'1'!Titre,0)))","v":""},{"$f":"IF($B18=\"\",\"\",INDEX(INDIRECT(\"'\"&$A$2&\"'!$A:$I\"),MATCH($B18,INDIRECT(\"'\"&$A$2&\"'!$A:$A\"),0),MATCH(G$9,'1'!Titre,0)))","v":""},{"$f":"IF($B18=\"\",\"\",INDEX(INDIRECT(\"'\"&$A$2&\"'!$A:$I\"),MATCH($B18,INDIRECT(\"'\"&$A$2&\"'!$A:$A\"),0),MATCH(H$9,'1'!Titre,0)))","v":""},{"$f":"IF($B18=\"\",\"\",IF(INDEX(INDIRECT(\"'\"&$A$2&\"'!$A:$I\"),MATCH($B18,INDIRECT(\"'\"&$A$2&\"'!$A:$A\"),0),MATCH(\"SIGNATURE\",'1'!Titre,0))=\"\",IF(COUNTIF($B$10:$B108,$B18)>1,COUNTIF($B$10:$B108,$B18),\"\"),INDEX(INDIRECT(\"'\"&$A$2&\"'!$A:$I\"),MATCH($B18,INDIRECT(\"'\"&$A$2&\"'!$A:$A\"),0),MATCH(\"SIGNATURE\",'1'!Titre,0))))","v":""}]
[10,null,{"$f":"IF($B19=\"\",\"\",INDEX(INDIRECT(\"'\"&$A$2&\"'!$A:$I\"),MATCH($B19,INDIRECT(\"'\"&$A$2&\"'!$A:$A\"),0),MATCH(C$9,'1'!Titre,0)))","v":""},{"$f":"IF($B19=\"\",\"\",INDEX(INDIRECT(\"'\"&$A$2&\"'!$A:$I\"),MATCH($B19,INDIRECT(\"'\"&$A$2&\"'!$A:$A\"),0),MATCH(D$9,'1'!Titre,0)))","v":""},{"$f":"IF($B19=\"\",\"\",INDEX(INDIRECT(\"'\"&$A$2&\"'!$A:$I\"),MATCH($B19,INDIRECT(\"'\"&$A$2&\"'!$A:$A\"),0),MATCH(E$9,'1'!Titre,0)))","v":""},{"$f":"IF($B19=\"\",\"\",INDEX(INDIRECT(\"'\"&$A$2&\"'!$A:$I\"),MATCH($B19,INDIRECT(\"'\"&$A$2&\"'!$A:$A\"),0),MATCH(F$9,'1'!Titre,0)))","v":""},{"$f":"IF($B19=\"\",\"\",INDEX(INDIRECT(\"'\"&$A$2&\"'!$A:$I\"),MATCH($B19,INDIRECT(\"'\"&$A$2&\"'!$A:$A\"),0),MATCH(G$9,'1'!Titre,0)))","v":""},{"$f":"IF($B19=\"\",\"\",INDEX(INDIRECT(\"'\"&$A$2&\"'!$A:$I\"),MATCH($B19,INDIRECT(\"'\"&$A$2&\"'!$A:$A\"),0),MATCH(H$9,'1'!Titre,0)))","v":""},{"$f":"IF($B19=\"\",\"\",IF(INDEX(INDIRECT(\"'\"&$A$2&\"'!$A:$I\"),MATCH($B19,INDIRECT(\"'\"&$A$2&\"'!$A:$A\"),0),MATCH(\"SIGNATURE\",'1'!Titre,0))=\"\",IF(COUNTIF($B$10:$B109,$B19)>1,COUNTIF($B$10:$B109,$B19),\"\"),INDEX(INDIRECT(\"'\"&$A$2&\"'!$A:$I\"),MATCH($B19,INDIRECT(\"'\"&$A$2&\"'!$A:$A\"),0),MATCH(\"SIGNATURE\",'1'!Titre,0))))","v":""}]
[11,null,{"$f":"IF($B20=\"\",\"\",INDEX(INDIRECT(\"'\"&$A$2&\"'!$A:$I\"),MATCH($B20,INDIRECT(\"'\"&$A$2&\"'!$A:$A\"),0),MATCH(C$9,'1'!Titre,0)))","v":""},{"$f":"IF($B20=\"\",\"\",INDEX(INDIRECT(\"'\"&$A$2&\"'!$A:$I\"),MATCH($B20,INDIRECT(\"'\"&$A$2&\"'!$A:$A\"),0),MATCH(D$9,'1'!Titre,0)))","v":""},{"$f":"IF($B20=\"\",\"\",INDEX(INDIRECT(\"'\"&$A$2&\"'!$A:$I\"),MATCH($B20,INDIRECT(\"'\"&$A$2&\"'!$A:$A\"),0),MATCH(E$9,'1'!Titre,0)))","v":""},{"$f":"IF($B20=\"\",\"\",INDEX(INDIRECT(\"'\"&$A$2&\"'!$A:$I\"),MATCH($B20,INDIRECT(\"'\"&$A$2&\"'!$A:$A\"),0),MATCH(F$9,'1'!Titre,0)))","v":""},{"$f":"IF($B20=\"\",\"\",INDEX(INDIRECT(\"'\"&$A$2&\"'!$A:$I\"),MATCH($B20,INDIRECT(\"'\"&$A$2&\"'!$A:$A\"),0),MATCH(G$9,'1'!Titre,0)))","v":""},{"$f":"IF($B20=\"\",\"\",INDEX(INDIRECT(\"'\"&$A$2&\"'!$A:$I\"),MATCH($B20,INDIRECT(\"'\"&$A$2&\"'!$A:$A\"),0),MATCH(H$9,'1'!Titre,0)))","v":""},{"$f":"IF($B20=\"\",\"\",IF(INDEX(INDIRECT(\"'\"&$A$2&\"'!$A:$I\"),MATCH($B20,INDIRECT(\"'\"&$A$2&\"'!$A:$A\"),0),MATCH(\"SIGNATURE\",'1'!Titre,0))=\"\",IF(COUNTIF($B$10:$B110,$B20)>1,COUNTIF($B$10:$B110,$B20),\"\"),INDEX(INDIRECT(\"'\"&$A$2&\"'!$A:$I\"),MATCH($B20,INDIRECT(\"'\"&$A$2&\"'!$A:$A\"),0),MATCH(\"SIGNATURE\",'1'!Titre,0))))","v":""}]
[12,null,{"$f":"IF($B21=\"\",\"\",INDEX(INDIRECT(\"'\"&$A$2&\"'!$A:$I\"),MATCH($B21,INDIRECT(\"'\"&$A$2&\"'!$A:$A\"),0),MATCH(C$9,'1'!Titre,0)))","v":""},{"$f":"IF($B21=\"\",\"\",INDEX(INDIRECT(\"'\"&$A$2&\"'!$A:$I\"),MATCH($B21,INDIRECT(\"'\"&$A$2&\"'!$A:$A\"),0),MATCH(D$9,'1'!Titre,0)))","v":""},{"$f":"IF($B21=\"\",\"\",INDEX(INDIRECT(\"'\"&$A$2&\"'!$A:$I\"),MATCH($B21,INDIRECT(\"'\"&$A$2&\"'!$A:$A\"),0),MATCH(E$9,'1'!Titre,0)))","v":""},{"$f":"IF($B21=\"\",\"\",INDEX(INDIRECT(\"'\"&$A$2&\"'!$A:$I\"),MATCH($B21,INDIRECT(\"'\"&$A$2&\"'!$A:$A\"),0),MATCH(F$9,'1'!Titre,0)))","v":""},{"$f":"IF($B21=\"\",\"\",INDEX(INDIRECT(\"'\"&$A$2&\"'!$A:$I\"),MATCH($B21,INDIRECT(\"'\"&$A$2&\"'!$A:$A\"),0),MATCH(G$9,'1'!Titre,0)))","v":""},{"$f":"IF($B21=\"\",\"\",INDEX(INDIRECT(\"'\"&$A$2&\"'!$A:$I\"),MATCH($B21,INDIRECT(\"'\"&$A$2&\"'!$A:$A\"),0),MATCH(H$9,'1'!Titre,0)))","v":""},{"$f":"IF($B21=\"\",\"\",IF(INDEX(INDIRECT(\"'\"&$A$2&\"'!$A:$I\"),MATCH($B21,INDIRECT(\"'\"&$A$2&\"'!$A:$A\"),0),MATCH(\"SIGNATURE\",'1'!Titre,0))=\"\",IF(COUNTIF($B$10:$B111,$B21)>1,COUNTIF($B$10:$B111,$B21),\"\"),INDEX(INDIRECT(\"'\"&$A$2&\"'!$A:$I\"),MATCH($B21,INDIRECT(\"'\"&$A$2&\"'!$A:$A\"),0),MATCH(\"SIGNATURE\",'1'!Titre,0))))","v":""}]
[13,null,{"$f":"IF($B22=\"\",\"\",INDEX(INDIRECT(\"'\"&$A$2&\"'!$A:$I\"),MATCH($B22,INDIRECT(\"'\"&$A$2&\"'!$A:$A\"),0),MATCH(C$9,'1'!Titre,0)))","v":""},{"$f":"IF($B22=\"\",\"\",INDEX(INDIRECT(\"'\"&$A$2&\"'!$A:$I\"),MATCH($B22,INDIRECT(\"'\"&$A$2&\"'!$A:$A\"),0),MATCH(D$9,'1'!Titre,0)))","v":""},{"$f":"IF($B22=\"\",\"\",INDEX(INDIRECT(\"'\"&$A$2&\"'!$A:$I\"),MATCH($B22,INDIRECT(\"'\"&$A$2&\"'!$A:$A\"),0),MATCH(E$9,'1'!Titre,0)))","v":""},{"$f":"IF($B22=\"\",\"\",INDEX(INDIRECT(\"'\"&$A$2&\"'!$A:$I\"),MATCH($B22,INDIRECT(\"'\"&$A$2&\"'!$A:$A\"),0),MATCH(F$9,'1'!Titre,0)))","v":""},{"$f":"IF($B22=\"\",\"\",INDEX(INDIRECT(\"'\"&$A$2&\"'!$A:$I\"),MATCH($B22,INDIRECT(\"'\"&$A$2&\"'!$A:$A\"),0),MATCH(G$9,'1'!Titre,0)))","v":""},{"$f":"IF($B22=\"\",\"\",INDEX(INDIRECT(\"'\"&$A$2&\"'!$A:$I\"),MATCH($B22,INDIRECT(\"'\"&$A$2&\"'!$A:$A\"),0),MATCH(H$9,'1'!Titre,0)))","v":""},{"$f":"IF($B22=\"\",\"\",IF(INDEX(INDIRECT(\"'\"&$A$2&\"'!$A:$I\"),MATCH($B22,INDIRECT(\"'\"&$A$2&\"'!$A:$A\"),0),MATCH(\"SIGNATURE\",'1'!Titre,0))=\"\",IF(COUNTIF($B$10:$B112,$B22)>1,COUNTIF($B$10:$B112,$B22),\"\"),INDEX(INDIRECT(\"'\"&$A$2&\"'!$A:$I\"),MATCH($B22,INDIRECT(\"'\"&$A$2&\"'!$A:$A\"),0),MATCH(\"SIGNATURE\",'1'!Titre,0))))","v":""}]
[14,null,{"$f":"IF($B23=\"\",\"\",INDEX(INDIRECT(\"'\"&$A$2&\"'!$A:$I\"),MATCH($B23,INDIRECT(\"'\"&$A$2&\"'!$A:$A\"),0),MATCH(C$9,'1'!Titre,0)))","v":""},{"$f":"IF($B23=\"\",\"\",INDEX(INDIRECT(\"'\"&$A$2&\"'!$A:$I\"),MATCH($B23,INDIRECT(\"'\"&$A$2&\"'!$A:$A\"),0),MATCH(D$9,'1'!Titre,0)))","v":""},{"$f":"IF($B23=\"\",\"\",INDEX(INDIRECT(\"'\"&$A$2&\"'!$A:$I\"),MATCH($B23,INDIRECT(\"'\"&$A$2&\"'!$A:$A\"),0),MATCH(E$9,'1'!Titre,0)))","v":""},{"$f":"IF($B23=\"\",\"\",INDEX(INDIRECT(\"'\"&$A$2&\"'!$A:$I\"),MATCH($B23,INDIRECT(\"'\"&$A$2&\"'!$A:$A\"),0),MATCH(F$9,'1'!Titre,0)))","v":""},{"$f":"IF($B23=\"\",\"\",INDEX(INDIRECT(\"'\"&$A$2&\"'!$A:$I\"),MATCH($B23,INDIRECT(\"'\"&$A$2&\"'!$A:$A\"),0),MATCH(G$9,'1'!Titre,0)))","v":""},{"$f":"IF($B23=\"\",\"\",INDEX(INDIRECT(\"'\"&$A$2&\"'!$A:$I\"),MATCH($B23,INDIRECT(\"'\"&$A$2&\"'!$A:$A\"),0),MATCH(H$9,'1'!Titre,0)))","v":""},{"$f":"IF($B23=\"\",\"\",IF(INDEX(INDIRECT(\"'\"&$A$2&\"'!$A:$I\"),MATCH($B23,INDIRECT(\"'\"&$A$2&\"'!$A:$A\"),0),MATCH(\"SIGNATURE\",'1'!Titre,0))=\"\",IF(COUNTIF($B$10:$B113,$B23)>1,COUNTIF($B$10:$B113,$B23),\"\"),INDEX(INDIRECT(\"'\"&$A$2&\"'!$A:$I\"),MATCH($B23,INDIRECT(\"'\"&$A$2&\"'!$A:$A\"),0),MATCH(\"SIGNATURE\",'1'!Titre,0))))","v":""}]
[15,null,{"$f":"IF($B24=\"\",\"\",INDEX(INDIRECT(\"'\"&$A$2&\"'!$A:$I\"),MATCH($B24,INDIRECT(\"'\"&$A$2&\"'!$A:$A\"),0),MATCH(C$9,'1'!Titre,0)))","v":""},{"$f":"IF($B24=\"\",\"\",INDEX(INDIRECT(\"'\"&$A$2&\"'!$A:$I\"),MATCH($B24,INDIRECT(\"'\"&$A$2&\"'!$A:$A\"),0),MATCH(D$9,'1'!Titre,0)))","v":""},{"$f":"IF($B24=\"\",\"\",INDEX(INDIRECT(\"'\"&$A$2&\"'!$A:$I\"),MATCH($B24,INDIRECT(\"'\"&$A$2&\"'!$A:$A\"),0),MATCH(E$9,'1'!Titre,0)))","v":""},{"$f":"IF($B24=\"\",\"\",INDEX(INDIRECT(\"'\"&$A$2&\"'!$A:$I\"),MATCH($B24,INDIRECT(\"'\"&$A$2&\"'!$A:$A\"),0),MATCH(F$9,'1'!Titre,0)))","v":""},{"$f":"IF($B24=\"\",\"\",INDEX(INDIRECT(\"'\"&$A$2&\"'!$A:$I\"),MATCH($B24,INDIRECT(\"'\"&$A$2&\"'!$A:$A\"),0),MATCH(G$9,'1'!Titre,0)))","v":""},{"$f":"IF($B24=\"\",\"\",INDEX(INDIRECT(\"'\"&$A$2&\"'!$A:$I\"),MATCH($B24,INDIRECT(\"'\"&$A$2&\"'!$A:$A\"),0),MATCH(H$9,'1'!Titre,0)))","v":""},{"$f":"IF($B24=\"\",\"\",IF(INDEX(INDIRECT(\"'\"&$A$2&\"'!$A:$I\"),MATCH($B24,INDIRECT(\"'\"&$A$2&\"'!$A:$A\"),0),MATCH(\"SIGNATURE\",'1'!Titre,0))=\"\",IF(COUNTIF($B$10:$B114,$B24)>1,COUNTIF($B$10:$B114,$B24),\"\"),INDEX(INDIRECT(\"'\"&$A$2&\"'!$A:$I\"),MATCH($B24,INDIRECT(\"'\"&$A$2&\"'!$A:$A\"),0),MATCH(\"SIGNATURE\",'1'!Titre,0))))","v":""}]
[16,null,{"$f":"IF($B25=\"\",\"\",INDEX(INDIRECT(\"'\"&$A$2&\"'!$A:$I\"),MATCH($B25,INDIRECT(\"'\"&$A$2&\"'!$A:$A\"),0),MATCH(C$9,'1'!Titre,0)))","v":""},{"$f":"IF($B25=\"\",\"\",INDEX(INDIRECT(\"'\"&$A$2&\"'!$A:$I\"),MATCH($B25,INDIRECT(\"'\"&$A$2&\"'!$A:$A\"),0),MATCH(D$9,'1'!Titre,0)))","v":""},{"$f":"IF($B25=\"\",\"\",INDEX(INDIRECT(\"'\"&$A$2&\"'!$A:$I\"),MATCH($B25,INDIRECT(\"'\"&$A$2&\"'!$A:$A\"),0),MATCH(E$9,'1'!Titre,0)))","v":""},{"$f":"IF($B25=\"\",\"\",INDEX(INDIRECT(\"'\"&$A$2&\"'!$A:$I\"),MATCH($B25,INDIRECT(\"'\"&$A$2&\"'!$A:$A\"),0),MATCH(F$9,'1'!Titre,0)))","v":""},{"$f":"IF($B25=\"\",\"\",INDEX(INDIRECT(\"'\"&$A$2&\"'!$A:$I\"),MATCH($B25,INDIRECT(\"'\"&$A$2&\"'!$A:$A\"),0),MATCH(G$9,'1'!Titre,0)))","v":""},{"$f":"IF($B25=\"\",\"\",INDEX(INDIRECT(\"'\"&$A$2&\"'!$A:$I\"),MATCH($B25,INDIRECT(\"'\"&$A$2&\"'!$A:$A\"),0),MATCH(H$9,'1'!Titre,0)))","v":""},{"$f":"IF($B25=\"\",\"\",IF(INDEX(INDIRECT(\"'\"&$A$2&\"'!$A:$I\"),MATCH($B25,INDIRECT(\"'\"&$A$2&\"'!$A:$A\"),0),MATCH(\"SIGNATURE\",'1'!Titre,0))=\"\",IF(COUNTIF($B$10:$B115,$B25)>1,COUNTIF($B$10:$B115,$B25),\"\"),INDEX(INDIRECT(\"'\"&$A$2&\"'!$A:$I\"),MATCH($B25,INDIRECT(\"'\"&$A$2&\"'!$A:$A\"),0),MATCH(\"SIGNATURE\",'1'!Titre,0))))","v":""}]
[17,null,{"$f":"IF($B26=\"\",\"\",INDEX(INDIRECT(\"'\"&$A$2&\"'!$A:$I\"),MATCH($B26,INDIRECT(\"'\"&$A$2&\"'!$A:$A\"),0),MATCH(C$9,'1'!Titre,0)))","v":""},{"$f":"IF($B26=\"\",\"\",INDEX(INDIRECT(\"'\"&$A$2&\"'!$A:$I\"),MATCH($B26,INDIRECT(\"'\"&$A$2&\"'!$A:$A\"),0),MATCH(D$9,'1'!Titre,0)))","v":""},{"$f":"IF($B26=\"\",\"\",INDEX(INDIRECT(\"'\"&$A$2&\"'!$A:$I\"),MATCH($B26,INDIRECT(\"'\"&$A$2&\"'!$A:$A\"),0),MATCH(E$9,'1'!Titre,0)))","v":""},{"$f":"IF($B26=\"\",\"\",INDEX(INDIRECT(\"'\"&$A$2&\"'!$A:$I\"),MATCH($B26,INDIRECT(\"'\"&$A$2&\"'!$A:$A\"),0),MATCH(F$9,'1'!Titre,0)))","v":""},{"$f":"IF($B26=\"\",\"\",INDEX(INDIRECT(\"'\"&$A$2&\"'!$A:$I\"),MATCH($B26,INDIRECT(\"'\"&$A$2&\"'!$A:$A\"),0),MATCH(G$9,'1'!Titre,0)))","v":""},{"$f":"IF($B26=\"\",\"\",INDEX(INDIRECT(\"'\"&$A$2&\"'!$A:$I\"),MATCH($B26,INDIRECT(\"'\"&$A$2&\"'!$A:$A\"),0),MATCH(H$9,'1'!Titre,0)))","v":""},{"$f":"IF($B26=\"\",\"\",IF(INDEX(INDIRECT(\"'\"&$A$2&\"'!$A:$I\"),MATCH($B26,INDIRECT(\"'\"&$A$2&\"'!$A:$A\"),0),MATCH(\"SIGNATURE\",'1'!Titre,0))=\"\",IF(COUNTIF($B$10:$B116,$B26)>1,COUNTIF($B$10:$B116,$B26),\"\"),INDEX(INDIRECT(\"'\"&$A$2&\"'!$A:$I\"),MATCH($B26,INDIRECT(\"'\"&$A$2&\"'!$A:$A\"),0),MATCH(\"SIGNATURE\",'1'!Titre,0))))","v":""}]
[18,null,{"$f":"IF($B27=\"\",\"\",INDEX(INDIRECT(\"'\"&$A$2&\"'!$A:$I\"),MATCH($B27,INDIRECT(\"'\"&$A$2&\"'!$A:$A\"),0),MATCH(C$9,'1'!Titre,0)))","v":""},{"$f":"IF($B27=\"\",\"\",INDEX(INDIRECT(\"'\"&$A$2&\"'!$A:$I\"),MATCH($B27,INDIRECT(\"'\"&$A$2&\"'!$A:$A\"),0),MATCH(D$9,'1'!Titre,0)))","v":""},{"$f":"IF($B27=\"\",\"\",INDEX(INDIRECT(\"'\"&$A$2&\"'!$A:$I\"),MATCH($B27,INDIRECT(\"'\"&$A$2&\"'!$A:$A\"),0),MATCH(E$9,'1'!Titre,0)))","v":""},{"$f":"IF($B27=\"\",\"\",INDEX(INDIRECT(\"'\"&$A$2&\"'!$A:$I\"),MATCH($B27,INDIRECT(\"'\"&$A$2&\"'!$A:$A\"),0),MATCH(F$9,'1'!Titre,0)))","v":""},{"$f":"IF($B27=\"\",\"\",INDEX(INDIRECT(\"'\"&$A$2&\"'!$A:$I\"),MATCH($B27,INDIRECT(\"'\"&$A$2&\"'!$A:$A\"),0),MATCH(G$9,'1'!Titre,0)))","v":""},{"$f":"IF($B27=\"\",\"\",INDEX(INDIRECT(\"'\"&$A$2&\"'!$A:$I\"),MATCH($B27,INDIRECT(\"'\"&$A$2&\"'!$A:$A\"),0),MATCH(H$9,'1'!Titre,0)))","v":""},{"$f":"IF($B27=\"\",\"\",IF(INDEX(INDIRECT(\"'\"&$A$2&\"'!$A:$I\"),MATCH($B27,INDIRECT(\"'\"&$A$2&\"'!$A:$A\"),0),MATCH(\"SIGNATURE\",'1'!Titre,0))=\"\",IF(COUNTIF($B$10:$B117,$B27)>1,COUNTIF($B$10:$B117,$B27),\"\"),INDEX(INDIRECT(\"'\"&$A$2&\"'!$A:$I\"),MATCH($B27,INDIRECT(\"'\"&$A$2&\"'!$A:$A\"),0),MATCH(\"SIGNATURE\",'1'!Titre,0))))","v":""}]
[19,null,{"$f":"IF($B28=\"\",\"\",INDEX(INDIRECT(\"'\"&$A$2&\"'!$A:$I\"),MATCH($B28,INDIRECT(\"'\"&$A$2&\"'!$A:$A\"),0),MATCH(C$9,'1'!Titre,0)))","v":""},{"$f":"IF($B28=\"\",\"\",INDEX(INDIRECT(\"'\"&$A$2&\"'!$A:$I\"),MATCH($B28,INDIRECT(\"'\"&$A$2&\"'!$A:$A\"),0),MATCH(D$9,'1'!Titre,0)))","v":""},{"$f":"IF($B28=\"\",\"\",INDEX(INDIRECT(\"'\"&$A$2&\"'!$A:$I\"),MATCH($B28,INDIRECT(\"'\"&$A$2&\"'!$A:$A\"),0),MATCH(E$9,'1'!Titre,0)))","v":""},{"$f":"IF($B28=\"\",\"\",INDEX(INDIRECT(\"'\"&$A$2&\"'!$A:$I\"),MATCH($B28,INDIRECT(\"'\"&$A$2&\"'!$A:$A\"),0),MATCH(F$9,'1'!Titre,0)))","v":""},{"$f":"IF($B28=\"\",\"\",INDEX(INDIRECT(\"'\"&$A$2&\"'!$A:$I\"),MATCH($B28,INDIRECT(\"'\"&$A$2&\"'!$A:$A\"),0),MATCH(G$9,'1'!Titre,0)))","v":""},{"$f":"IF($B28=\"\",\"\",INDEX(INDIRECT(\"'\"&$A$2&\"'!$A:$I\"),MATCH($B28,INDIRECT(\"'\"&$A$2&\"'!$A:$A\"),0),MATCH(H$9,'1'!Titre,0)))","v":""},{"$f":"IF($B28=\"\",\"\",IF(INDEX(INDIRECT(\"'\"&$A$2&\"'!$A:$I\"),MATCH($B28,INDIRECT(\"'\"&$A$2&\"'!$A:$A\"),0),MATCH(\"SIGNATURE\",'1'!Titre,0))=\"\",IF(COUNTIF($B$10:$B118,$B28)>1,COUNTIF($B$10:$B118,$B28),\"\"),INDEX(INDIRECT(\"'\"&$A$2&\"'!$A:$I\"),MATCH($B28,INDIRECT(\"'\"&$A$2&\"'!$A:$A\"),0),MATCH(\"SIGNATURE\",'1'!Titre,0))))","v":""}]
[20,null,{"$f":"IF($B29=\"\",\"\",INDEX(INDIRECT(\"'\"&$A$2&\"'!$A:$I\"),MATCH($B29,INDIRECT(\"'\"&$A$2&\"'!$A:$A\"),0),MATCH(C$9,'1'!Titre,0)))","v":""},{"$f":"IF($B29=\"\",\"\",INDEX(INDIRECT(\"'\"&$A$2&\"'!$A:$I\"),MATCH($B29,INDIRECT(\"'\"&$A$2&\"'!$A:$A\"),0),MATCH(D$9,'1'!Titre,0)))","v":""},{"$f":"IF($B29=\"\",\"\",INDEX(INDIRECT(\"'\"&$A$2&\"'!$A:$I\"),MATCH($B29,INDIRECT(\"'\"&$A$2&\"'!$A:$A\"),0),MATCH(E$9,'1'!Titre,0)))","v":""},{"$f":"IF($B29=\"\",\"\",INDEX(INDIRECT(\"'\"&$A$2&\"'!$A:$I\"),MATCH($B29,INDIRECT(\"'\"&$A$2&\"'!$A:$A\"),0),MATCH(F$9,'1'!Titre,0)))","v":""},{"$f":"IF($B29=\"\",\"\",INDEX(INDIRECT(\"'\"&$A$2&\"'!$A:$I\"),MATCH($B29,INDIRECT(\"'\"&$A$2&\"'!$A:$A\"),0),MATCH(G$9,'1'!Titre,0)))","v":""},{"$f":"IF($B29=\"\",\"\",INDEX(INDIRECT(\"'\"&$A$2&\"'!$A:$I\"),MATCH($B29,INDIRECT(\"'\"&$A$2&\"'!$A:$A\"),0),MATCH(H$9,'1'!Titre,0)))","v":""},{"$f":"IF($B29=\"\",\"\",IF(INDEX(INDIRECT(\"'\"&$A$2&\"'!$A:$I\"),MATCH($B29,INDIRECT(\"'\"&$A$2&\"'!$A:$A\"),0),MATCH(\"SIGNATURE\",'1'!Titre,0))=\"\",IF(COUNTIF($B$10:$B119,$B29)>1,COUNTIF($B$10:$B119,$B29),\"\"),INDEX(INDIRECT(\"'\"&$A$2&\"'!$A:$I\"),MATCH($B29,INDIRECT(\"'\"&$A$2&\"'!$A:$A\"),0),MATCH(\"SIGNATURE\",'1'!Titre,0))))","v":""}]
[21,null,{"$f":"IF($B30=\"\",\"\",INDEX(INDIRECT(\"'\"&$A$2&\"'!$A:$I\"),MATCH($B30,INDIRECT(\"'\"&$A$2&\"'!$A:$A\"),0),MATCH(C$9,'1'!Titre,0)))","v":""},{"$f":"IF($B30=\"\",\"\",INDEX(INDIRECT(\"'\"&$A$2&\"'!$A:$I\"),MATCH($B30,INDIRECT(\"'\"&$A$2&\"'!$A:$A\"),0),MATCH(D$9,'1'!Titre,0)))","v":""},{"$f":"IF($B30=\"\",\"\",INDEX(INDIRECT(\"'\"&$A$2&\"'!$A:$I\"),MATCH($B30,INDIRECT(\"'\"&$A$2&\"'!$A:$A\"),0),MATCH(E$9,'1'!Titre,0)))","v":""},{"$f":"IF($B30=\"\",\"\",INDEX(INDIRECT(\"'\"&$A$2&\"'!$A:$I\"),MATCH($B30,INDIRECT(\"'\"&$A$2&\"'!$A:$A\"),0),MATCH(F$9,'1'!Titre,0)))","v":""},{"$f":"IF($B30=\"\",\"\",INDEX(INDIRECT(\"'\"&$A$2&\"'!$A:$I\"),MATCH($B30,INDIRECT(\"'\"&$A$2&\"'!$A:$A\"),0),MATCH(G$9,'1'!Titre,0)))","v":""},{"$f":"IF($B30=\"\",\"\",INDEX(INDIRECT(\"'\"&$A$2&\"'!$A:$I\"),MATCH($B30,INDIRECT(\"'\"&$A$2&\"'!$A:$A\"),0),MATCH(H$9,'1'!Titre,0)))","v":""},{"$f":"IF($B30=\"\",\"\",IF(INDEX(INDIRECT(\"'\"&$A$2&\"'!$A:$I\"),MATCH($B30,INDIRECT(\"'\"&$A$2&\"'!$A:$A\"),0),MATCH(\"SIGNATURE\",'1'!Titre,0))=\"\",IF(COUNTIF($B$10:$B120,$B30)>1,COUNTIF($B$10:$B120,$B30),\"\"),INDEX(INDIRECT(\"'\"&$A$2&\"'!$A:$I\"),MATCH($B30,INDIRECT(\"'\"&$A$2&\"'!$A:$A\"),0),MATCH(\"SIGNATURE\",'1'!Titre,0))))","v":""}]
[22,null,{"$f":"IF($B31=\"\",\"\",INDEX(INDIRECT(\"'\"&$A$2&\"'!$A:$I\"),MATCH($B31,INDIRECT(\"'\"&$A$2&\"'!$A:$A\"),0),MATCH(C$9,'1'!Titre,0)))","v":""},{"$f":"IF($B31=\"\",\"\",INDEX(INDIRECT(\"'\"&$A$2&\"'!$A:$I\"),MATCH($B31,INDIRECT(\"'\"&$A$2&\"'!$A:$A\"),0),MATCH(D$9,'1'!Titre,0)))","v":""},{"$f":"IF($B31=\"\",\"\",INDEX(INDIRECT(\"'\"&$A$2&\"'!$A:$I\"),MATCH($B31,INDIRECT(\"'\"&$A$2&\"'!$A:$A\"),0),MATCH(E$9,'1'!Titre,0)))","v":""},{"$f":"IF($B31=\"\",\"\",INDEX(INDIRECT(\"'\"&$A$2&\"'!$A:$I\"),MATCH($B31,INDIRECT(\"'\"&$A$2&\"'!$A:$A\"),0),MATCH(F$9,'1'!Titre,0)))","v":""},{"$f":"IF($B31=\"\",\"\",INDEX(INDIRECT(\"'\"&$A$2&\"'!$A:$I\"),MATCH($B31,INDIRECT(\"'\"&$A$2&\"'!$A:$A\"),0),MATCH(G$9,'1'!Titre,0)))","v":""},{"$f":"IF($B31=\"\",\"\",INDEX(INDIRECT(\"'\"&$A$2&\"'!$A:$I\"),MATCH($B31,INDIRECT(\"'\"&$A$2&\"'!$A:$A\"),0),MATCH(H$9,'1'!Titre,0)))","v":""},{"$f":"IF($B31=\"\",\"\",IF(INDEX(INDIRECT(\"'\"&$A$2&\"'!$A:$I\"),MATCH($B31,INDIRECT(\"'\"&$A$2&\"'!$A:$A\"),0),MATCH(\"SIGNATURE\",'1'!Titre,0))=\"\",IF(COUNTIF($B$10:$B121,$B31)>1,COUNTIF($B$10:$B121,$B31),\"\"),INDEX(INDIRECT(\"'\"&$A$2&\"'!$A:$I\"),MATCH($B31,INDIRECT(\"'\"&$A$2&\"'!$A:$A\"),0),MATCH(\"SIGNATURE\",'1'!Titre,0))))","v":""}]
[23,null,{"$f":"IF($B32=\"\",\"\",INDEX(INDIRECT(\"'\"&$A$2&\"'!$A:$I\"),MATCH($B32,INDIRECT(\"'\"&$A$2&\"'!$A:$A\"),0),MATCH(C$9,'1'!Titre,0)))","v":""},{"$f":"IF($B32=\"\",\"\",INDEX(INDIRECT(\"'\"&$A$2&\"'!$A:$I\"),MATCH($B32,INDIRECT(\"'\"&$A$2&\"'!$A:$A\"),0),MATCH(D$9,'1'!Titre,0)))","v":""},{"$f":"IF($B32=\"\",\"\",INDEX(INDIRECT(\"'\"&$A$2&\"'!$A:$I\"),MATCH($B32,INDIRECT(\"'\"&$A$2&\"'!$A:$A\"),0),MATCH(E$9,'1'!Titre,0)))","v":""},{"$f":"IF($B32=\"\",\"\",INDEX(INDIRECT(\"'\"&$A$2&\"'!$A:$I\"),MATCH($B32,INDIRECT(\"'\"&$A$2&\"'!$A:$A\"),0),MATCH(F$9,'1'!Titre,0)))","v":""},{"$f":"IF($B32=\"\",\"\",INDEX(INDIRECT(\"'\"&$A$2&\"'!$A:$I\"),MATCH($B32,INDIRECT(\"'\"&$A$2&\"'!$A:$A\"),0),MATCH(G$9,'1'!Titre,0)))","v":""},{"$f":"IF($B32=\"\",\"\",INDEX(INDIRECT(\"'\"&$A$2&\"'!$A:$I\"),MATCH($B32,INDIRECT(\"'\"&$A$2&\"'!$A:$A\"),0),MATCH(H$9,'1'!Titre,0)))","v":""},{"$f":"IF($B32=\"\",\"\",IF(INDEX(INDIRECT(\"'\"&$A$2&\"'!$A:$I\"),MATCH($B32,INDIRECT(\"'\"&$A$2&\"'!$A:$A\"),0),MATCH(\"SIGNATURE\",'1'!Titre,0))=\"\",IF(COUNTIF($B$10:$B122,$B32)>1,COUNTIF($B$10:$B122,$B32),\"\"),INDEX(INDIRECT(\"'\"&$A$2&\"'!$A:$I\"),MATCH($B32,INDIRECT(\"'\"&$A$2&\"'!$A:$A\"),0),MATCH(\"SIGNATURE\",'1'!Titre,0))))","v":""}]
[24,null,{"$f":"IF($B33=\"\",\"\",INDEX(INDIRECT(\"'\"&$A$2&\"'!$A:$I\"),MATCH($B33,INDIRECT(\"'\"&$A$2&\"'!$A:$A\"),0),MATCH(C$9,'1'!Titre,0)))","v":""},{"$f":"IF($B33=\"\",\"\",INDEX(INDIRECT(\"'\"&$A$2&\"'!$A:$I\"),MATCH($B33,INDIRECT(\"'\"&$A$2&\"'!$A:$A\"),0),MATCH(D$9,'1'!Titre,0)))","v":""},{"$f":"IF($B33=\"\",\"\",INDEX(INDIRECT(\"'\"&$A$2&\"'!$A:$I\"),MATCH($B33,INDIRECT(\"'\"&$A$2&\"'!$A:$A\"),0),MATCH(E$9,'1'!Titre,0)))","v":""},{"$f":"IF($B33=\"\",\"\",INDEX(INDIRECT(\"'\"&$A$2&\"'!$A:$I\"),MATCH($B33,INDIRECT(\"'\"&$A$2&\"'!$A:$A\"),0),MATCH(F$9,'1'!Titre,0)))","v":""},{"$f":"IF($B33=\"\",\"\",INDEX(INDIRECT(\"'\"&$A$2&\"'!$A:$I\"),MATCH($B33,INDIRECT(\"'\"&$A$2&\"'!$A:$A\"),0),MATCH(G$9,'1'!Titre,0)))","v":""},{"$f":"IF($B33=\"\",\"\",INDEX(INDIRECT(\"'\"&$A$2&\"'!$A:$I\"),MATCH($B33,INDIRECT(\"'\"&$A$2&\"'!$A:$A\"),0),MATCH(H$9,'1'!Titre,0)))","v":""},{"$f":"IF($B33=\"\",\"\",IF(INDEX(INDIRECT(\"'\"&$A$2&\"'!$A:$I\"),MATCH($B33,INDIRECT(\"'\"&$A$2&\"'!$A:$A\"),0),MATCH(\"SIGNATURE\",'1'!Titre,0))=\"\",IF(COUNTIF($B$10:$B123,$B33)>1,COUNTIF($B$10:$B123,$B33),\"\"),INDEX(INDIRECT(\"'\"&$A$2&\"'!$A:$I\"),MATCH($B33,INDIRECT(\"'\"&$A$2&\"'!$A:$A\"),0),MATCH(\"SIGNATURE\",'1'!Titre,0))))","v":""}]
[25,null,{"$f":"IF($B34=\"\",\"\",INDEX(INDIRECT(\"'\"&$A$2&\"'!$A:$I\"),MATCH($B34,INDIRECT(\"'\"&$A$2&\"'!$A:$A\"),0),MATCH(C$9,'1'!Titre,0)))","v":""},{"$f":"IF($B34=\"\",\"\",INDEX(INDIRECT(\"'\"&$A$2&\"'!$A:$I\"),MATCH($B34,INDIRECT(\"'\"&$A$2&\"'!$A:$A\"),0),MATCH(D$9,'1'!Titre,0)))","v":""},{"$f":"IF($B34=\"\",\"\",INDEX(INDIRECT(\"'\"&$A$2&\"'!$A:$I\"),MATCH($B34,INDIRECT(\"'\"&$A$2&\"'!$A:$A\"),0),MATCH(E$9,'1'!Titre,0)))","v":""},{"$f":"IF($B34=\"\",\"\",INDEX(INDIRECT(\"'\"&$A$2&\"'!$A:$I\"),MATCH($B34,INDIRECT(\"'\"&$A$2&\"'!$A:$A\"),0),MATCH(F$9,'1'!Titre,0)))","v":""},{"$f":"IF($B34=\"\",\"\",INDEX(INDIRECT(\"'\"&$A$2&\"'!$A:$I\"),MATCH($B34,INDIRECT(\"'\"&$A$2&\"'!$A:$A\"),0),MATCH(G$9,'1'!Titre,0)))","v":""},{"$f":"IF($B34=\"\",\"\",INDEX(INDIRECT(\"'\"&$A$2&\"'!$A:$I\"),MATCH($B34,INDIRECT(\"'\"&$A$2&\"'!$A:$A\"),0),MATCH(H$9,'1'!Titre,0)))","v":""},{"$f":"IF($B34=\"\",\"\",IF(INDEX(INDIRECT(\"'\"&$A$2&\"'!$A:$I\"),MATCH($B34,INDIRECT(\"'\"&$A$2&\"'!$A:$A\"),0),MATCH(\"SIGNATURE\",'1'!Titre,0))=\"\",IF(COUNTIF($B$10:$B124,$B34)>1,COUNTIF($B$10:$B124,$B34),\"\"),INDEX(INDIRECT(\"'\"&$A$2&\"'!$A:$I\"),MATCH($B34,INDIRECT(\"'\"&$A$2&\"'!$A:$A\"),0),MATCH(\"SIGNATURE\",'1'!Titre,0))))","v":""}]
[26,null,{"$f":"IF($B35=\"\",\"\",INDEX(INDIRECT(\"'\"&$A$2&\"'!$A:$I\"),MATCH($B35,INDIRECT(\"'\"&$A$2&\"'!$A:$A\"),0),MATCH(C$9,'1'!Titre,0)))","v":""},{"$f":"IF($B35=\"\",\"\",INDEX(INDIRECT(\"'\"&$A$2&\"'!$A:$I\"),MATCH($B35,INDIRECT(\"'\"&$A$2&\"'!$A:$A\"),0),MATCH(D$9,'1'!Titre,0)))","v":""},{"$f":"IF($B35=\"\",\"\",INDEX(INDIRECT(\"'\"&$A$2&\"'!$A:$I\"),MATCH($B35,INDIRECT(\"'\"&$A$2&\"'!$A:$A\"),0),MATCH(E$9,'1'!Titre,0)))","v":""},{"$f":"IF($B35=\"\",\"\",INDEX(INDIRECT(\"'\"&$A$2&\"'!$A:$I\"),MATCH($B35,INDIRECT(\"'\"&$A$2&\"'!$A:$A\"),0),MATCH(F$9,'1'!Titre,0)))","v":""},{"$f":"IF($B35=\"\",\"\",INDEX(INDIRECT(\"'\"&$A$2&\"'!$A:$I\"),MATCH($B35,INDIRECT(\"'\"&$A$2&\"'!$A:$A\"),0),MATCH(G$9,'1'!Titre,0)))","v":""},{"$f":"IF($B35=\"\",\"\",INDEX(INDIRECT(\"'\"&$A$2&\"'!$A:$I\"),MATCH($B35,INDIRECT(\"'\"&$A$2&\"'!$A:$A\"),0),MATCH(H$9,'1'!Titre,0)))","v":""},{"$f":"IF($B35=\"\",\"\",IF(INDEX(INDIRECT(\"'\"&$A$2&\"'!$A:$I\"),MATCH($B35,INDIRECT(\"'\"&$A$2&\"'!$A:$A\"),0),MATCH(\"SIGNATURE\",'1'!Titre,0))=\"\",IF(COUNTIF($B$10:$B125,$B35)>1,COUNTIF($B$10:$B125,$B35),\"\"),INDEX(INDIRECT(\"'\"&$A$2&\"'!$A:$I\"),MATCH($B35,INDIRECT(\"'\"&$A$2&\"'!$A:$A\"),0),MATCH(\"SIGNATURE\",'1'!Titre,0))))","v":""}]
[27,null,{"$f":"IF($B36=\"\",\"\",INDEX(INDIRECT(\"'\"&$A$2&\"'!$A:$I\"),MATCH($B36,INDIRECT(\"'\"&$A$2&\"'!$A:$A\"),0),MATCH(C$9,'1'!Titre,0)))","v":""},{"$f":"IF($B36=\"\",\"\",INDEX(INDIRECT(\"'\"&$A$2&\"'!$A:$I\"),MATCH($B36,INDIRECT(\"'\"&$A$2&\"'!$A:$A\"),0),MATCH(D$9,'1'!Titre,0)))","v":""},{"$f":"IF($B36=\"\",\"\",INDEX(INDIRECT(\"'\"&$A$2&\"'!$A:$I\"),MATCH($B36,INDIRECT(\"'\"&$A$2&\"'!$A:$A\"),0),MATCH(E$9,'1'!Titre,0)))","v":""},{"$f":"IF($B36=\"\",\"\",INDEX(INDIRECT(\"'\"&$A$2&\"'!$A:$I\"),MATCH($B36,INDIRECT(\"'\"&$A$2&\"'!$A:$A\"),0),MATCH(F$9,'1'!Titre,0)))","v":""},{"$f":"IF($B36=\"\",\"\",INDEX(INDIRECT(\"'\"&$A$2&\"'!$A:$I\"),MATCH($B36,INDIRECT(\"'\"&$A$2&\"'!$A:$A\"),0),MATCH(G$9,'1'!Titre,0)))","v":""},{"$f":"IF($B36=\"\",\"\",INDEX(INDIRECT(\"'\"&$A$2&\"'!$A:$I\"),MATCH($B36,INDIRECT(\"'\"&$A$2&\"'!$A:$A\"),0),MATCH(H$9,'1'!Titre,0)))","v":""},{"$f":"IF($B36=\"\",\"\",IF(INDEX(INDIRECT(\"'\"&$A$2&\"'!$A:$I\"),MATCH($B36,INDIRECT(\"'\"&$A$2&\"'!$A:$A\"),0),MATCH(\"SIGNATURE\",'1'!Titre,0))=\"\",IF(COUNTIF($B$10:$B126,$B36)>1,COUNTIF($B$10:$B126,$B36),\"\"),INDEX(INDIRECT(\"'\"&$A$2&\"'!$A:$I\"),MATCH($B36,INDIRECT(\"'\"&$A$2&\"'!$A:$A\"),0),MATCH(\"SIGNATURE\",'1'!Titre,0))))","v":""}]
[28,null,{"$f":"IF($B37=\"\",\"\",INDEX(INDIRECT(\"'\"&$A$2&\"'!$A:$I\"),MATCH($B37,INDIRECT(\"'\"&$A$2&\"'!$A:$A\"),0),MATCH(C$9,'1'!Titre,0)))","v":""},{"$f":"IF($B37=\"\",\"\",INDEX(INDIRECT(\"'\"&$A$2&\"'!$A:$I\"),MATCH($B37,INDIRECT(\"'\"&$A$2&\"'!$A:$A\"),0),MATCH(D$9,'1'!Titre,0)))","v":""},{"$f":"IF($B37=\"\",\"\",INDEX(INDIRECT(\"'\"&$A$2&\"'!$A:$I\"),MATCH($B37,INDIRECT(\"'\"&$A$2&\"'!$A:$A\"),0),MATCH(E$9,'1'!Titre,0)))","v":""},{"$f":"IF($B37=\"\",\"\",INDEX(INDIRECT(\"'\"&$A$2&\"'!$A:$I\"),MATCH($B37,INDIRECT(\"'\"&$A$2&\"'!$A:$A\"),0),MATCH(F$9,'1'!Titre,0)))","v":""},{"$f":"IF($B37=\"\",\"\",INDEX(INDIRECT(\"'\"&$A$2&\"'!$A:$I\"),MATCH($B37,INDIRECT(\"'\"&$A$2&\"'!$A:$A\"),0),MATCH(G$9,'1'!Titre,0)))","v":""},{"$f":"IF($B37=\"\",\"\",INDEX(INDIRECT(\"'\"&$A$2&\"'!$A:$I\"),MATCH($B37,INDIRECT(\"'\"&$A$2&\"'!$A:$A\"),0),MATCH(H$9,'1'!Titre,0)))","v":""},{"$f":"IF($B37=\"\",\"\",IF(INDEX(INDIRECT(\"'\"&$A$2&\"'!$A:$I\"),MATCH($B37,INDIRECT(\"'\"&$A$2&\"'!$A:$A\"),0),MATCH(\"SIGNATURE\",'1'!Titre,0))=\"\",IF(COUNTIF($B$10:$B127,$B37)>1,COUNTIF($B$10:$B127,$B37),\"\"),INDEX(INDIRECT(\"'\"&$A$2&\"'!$A:$I\"),MATCH($B37,INDIRECT(\"'\"&$A$2&\"'!$A:$A\"),0),MATCH(\"SIGNATURE\",'1'!Titre,0))))","v":""}]
[29,null,{"$f":"IF($B38=\"\",\"\",INDEX(INDIRECT(\"'\"&$A$2&\"'!$A:$I\"),MATCH($B38,INDIRECT(\"'\"&$A$2&\"'!$A:$A\"),0),MATCH(C$9,'1'!Titre,0)))","v":""},{"$f":"IF($B38=\"\",\"\",INDEX(INDIRECT(\"'\"&$A$2&\"'!$A:$I\"),MATCH($B38,INDIRECT(\"'\"&$A$2&\"'!$A:$A\"),0),MATCH(D$9,'1'!Titre,0)))","v":""},{"$f":"IF($B38=\"\",\"\",INDEX(INDIRECT(\"'\"&$A$2&\"'!$A:$I\"),MATCH($B38,INDIRECT(\"'\"&$A$2&\"'!$A:$A\"),0),MATCH(E$9,'1'!Titre,0)))","v":""},{"$f":"IF($B38=\"\",\"\",INDEX(INDIRECT(\"'\"&$A$2&\"'!$A:$I\"),MATCH($B38,INDIRECT(\"'\"&$A$2&\"'!$A:$A\"),0),MATCH(F$9,'1'!Titre,0)))","v":""},{"$f":"IF($B38=\"\",\"\",INDEX(INDIRECT(\"'\"&$A$2&\"'!$A:$I\"),MATCH($B38,INDIRECT(\"'\"&$A$2&\"'!$A:$A\"),0),MATCH(G$9,'1'!Titre,0)))","v":""},{"$f":"IF($B38=\"\",\"\",INDEX(INDIRECT(\"'\"&$A$2&\"'!$A:$I\"),MATCH($B38,INDIRECT(\"'\"&$A$2&\"'!$A:$A\"),0),MATCH(H$9,'1'!Titre,0)))","v":""},{"$f":"IF($B38=\"\",\"\",IF(INDEX(INDIRECT(\"'\"&$A$2&\"'!$A:$I\"),MATCH($B38,INDIRECT(\"'\"&$A$2&\"'!$A:$A\"),0),MATCH(\"SIGNATURE\",'1'!Titre,0))=\"\",IF(COUNTIF($B$10:$B128,$B38)>1,COUNTIF($B$10:$B128,$B38),\"\"),INDEX(INDIRECT(\"'\"&$A$2&\"'!$A:$I\"),MATCH($B38,INDIRECT(\"'\"&$A$2&\"'!$A:$A\"),0),MATCH(\"SIGNATURE\",'1'!Titre,0))))","v":""}]
[30,null,{"$f":"IF($B39=\"\",\"\",INDEX(INDIRECT(\"'\"&$A$2&\"'!$A:$I\"),MATCH($B39,INDIRECT(\"'\"&$A$2&\"'!$A:$A\"),0),MATCH(C$9,'1'!Titre,0)))","v":""},{"$f":"IF($B39=\"\",\"\",INDEX(INDIRECT(\"'\"&$A$2&\"'!$A:$I\"),MATCH($B39,INDIRECT(\"'\"&$A$2&\"'!$A:$A\"),0),MATCH(D$9,'1'!Titre,0)))","v":""},{"$f":"IF($B39=\"\",\"\",INDEX(INDIRECT(\"'\"&$A$2&\"'!$A:$I\"),MATCH($B39,INDIRECT(\"'\"&$A$2&\"'!$A:$A\"),0),MATCH(E$9,'1'!Titre,0)))","v":""},{"$f":"IF($B39=\"\",\"\",INDEX(INDIRECT(\"'\"&$A$2&\"'!$A:$I\"),MATCH($B39,INDIRECT(\"'\"&$A$2&\"'!$A:$A\"),0),MATCH(F$9,'1'!Titre,0)))","v":""},{"$f":"IF($B39=\"\",\"\",INDEX(INDIRECT(\"'\"&$A$2&\"'!$A:$I\"),MATCH($B39,INDIRECT(\"'\"&$A$2&\"'!$A:$A\"),0),MATCH(G$9,'1'!Titre,0)))","v":""},{"$f":"IF($B39=\"\",\"\",INDEX(INDIRECT(\"'\"&$A$2&\"'!$A:$I\"),MATCH($B39,INDIRECT(\"'\"&$A$2&\"'!$A:$A\"),0),MATCH(H$9,'1'!Titre,0)))","v":""},{"$f":"IF($B39=\"\",\"\",IF(INDEX(INDIRECT(\"'\"&$A$2&\"'!$A:$I\"),MATCH($B39,INDIRECT(\"'\"&$A$2&\"'!$A:$A\"),0),MATCH(\"SIGNATURE\",'1'!Titre,0))=\"\",IF(COUNTIF($B$10:$B129,$B39)>1,COUNTIF($B$10:$B129,$B39),\"\"),INDEX(INDIRECT(\"'\"&$A$2&\"'!$A:$I\"),MATCH($B39,INDIRECT(\"'\"&$A$2&\"'!$A:$A\"),0),MATCH(\"SIGNATURE\",'1'!Titre,0))))","v":""}]